BEGIN:VCALENDAR
VERSION:2.0
PRODID:-//Kgl. priv. Schützengesellschaft Nassenbeuren - ECPv6.15.18//NONSGML v1.0//EN
CALSCALE:GREGORIAN
METHOD:PUBLISH
X-ORIGINAL-URL:https://schuetzengesellschaft-nassenbeuren.de
X-WR-CALDESC:Veranstaltungen für Kgl. priv. Schützengesellschaft Nassenbeuren
REFRESH-INTERVAL;VALUE=DURATION:PT1H
X-Robots-Tag:noindex
X-PUBLISHED-TTL:PT1H
BEGIN:VTIMEZONE
TZID:Europe/Berlin
BEGIN:DAYLIGHT
TZOFFSETFROM:+0100
TZOFFSETTO:+0200
TZNAME:CEST
DTSTART:20250330T010000
END:DAYLIGHT
BEGIN:STANDARD
TZOFFSETFROM:+0200
TZOFFSETTO:+0100
TZNAME:CET
DTSTART:20251026T010000
END:STANDARD
BEGIN:DAYLIGHT
TZOFFSETFROM:+0100
TZOFFSETTO:+0200
TZNAME:CEST
DTSTART:20260329T010000
END:DAYLIGHT
BEGIN:STANDARD
TZOFFSETFROM:+0200
TZOFFSETTO:+0100
TZNAME:CET
DTSTART:20261025T010000
END:STANDARD
BEGIN:DAYLIGHT
TZOFFSETFROM:+0100
TZOFFSETTO:+0200
TZNAME:CEST
DTSTART:20270328T010000
END:DAYLIGHT
BEGIN:STANDARD
TZOFFSETFROM:+0200
TZOFFSETTO:+0100
TZNAME:CET
DTSTART:20271031T010000
END:STANDARD
END:VTIMEZONE
BEGIN:VEVENT
DTSTART;TZID=Europe/Berlin:20260613T090000
DTEND;TZID=Europe/Berlin:20260613T130000
DTSTAMP:20260424T090414
CREATED:20260126T150139Z
LAST-MODIFIED:20260126T150959Z
UID:10002825-1781341200-1781355600@schuetzengesellschaft-nassenbeuren.de
SUMMARY:Arbeitssitzung SMAGA
DESCRIPTION:Arbeitssitzung Gesellschaftsausschuss und Schützenmeisteramt
URL:https://schuetzengesellschaft-nassenbeuren.de/termin/arbeitssitzung-smaga-11/
LOCATION:Schützenheim
CATEGORIES:Arbeit
END:VEVENT
BEGIN:VEVENT
DTSTART;TZID=Europe/Berlin:20260725T150000
DTEND;TZID=Europe/Berlin:20260725T220000
DTSTAMP:20260424T090414
CREATED:20260105T140400Z
LAST-MODIFIED:20260105T140400Z
UID:10002640-1784991600-1785016800@schuetzengesellschaft-nassenbeuren.de
SUMMARY:Sommerfest mit Proklamation des Schützenkönigs und Preisverteilung
DESCRIPTION:Voraussichtlicher Termin
URL:https://schuetzengesellschaft-nassenbeuren.de/termin/sommerfest-mit-proklamation-des-schuetzenkoenigs-und-preisverteilung/
LOCATION:Schützenheim
CATEGORIES:Veranstaltung
END:VEVENT
BEGIN:VEVENT
DTSTART;TZID=Europe/Berlin:20260808T090000
DTEND;TZID=Europe/Berlin:20260808T130000
DTSTAMP:20260424T090414
CREATED:20260126T150140Z
LAST-MODIFIED:20260126T151000Z
UID:10002826-1786179600-1786194000@schuetzengesellschaft-nassenbeuren.de
SUMMARY:Arbeitssitzung SMAGA
DESCRIPTION:Arbeitssitzung Gesellschaftsausschuss und Schützenmeisteramt
URL:https://schuetzengesellschaft-nassenbeuren.de/termin/arbeitssitzung-smaga-12/
LOCATION:Schützenheim
CATEGORIES:Arbeit
END:VEVENT
BEGIN:VEVENT
DTSTART;TZID=Europe/Berlin:20261010T090000
DTEND;TZID=Europe/Berlin:20261010T130000
DTSTAMP:20260424T090414
CREATED:20260126T150141Z
LAST-MODIFIED:20260126T151001Z
UID:10002827-1791622800-1791637200@schuetzengesellschaft-nassenbeuren.de
SUMMARY:Arbeitssitzung SMAGA
DESCRIPTION:Arbeitssitzung Gesellschaftsausschuss und Schützenmeisteramt
URL:https://schuetzengesellschaft-nassenbeuren.de/termin/arbeitssitzung-smaga-13/
LOCATION:Schützenheim
CATEGORIES:Arbeit
END:VEVENT
BEGIN:VEVENT
DTSTART;TZID=Europe/Berlin:20261212T090000
DTEND;TZID=Europe/Berlin:20261212T130000
DTSTAMP:20260424T090414
CREATED:20260126T150144Z
LAST-MODIFIED:20260126T151006Z
UID:10002828-1797066000-1797080400@schuetzengesellschaft-nassenbeuren.de
SUMMARY:Arbeitssitzung SMAGA
DESCRIPTION:Arbeitssitzung Gesellschaftsausschuss und Schützenmeisteramt
URL:https://schuetzengesellschaft-nassenbeuren.de/termin/arbeitssitzung-smaga-14/
LOCATION:Schützenheim
CATEGORIES:Arbeit
END:VEVENT
END:VCALENDAR