BEGIN:VCALENDAR
VERSION:2.0
PRODID:-//Kgl. priv. Schützengesellschaft Nassenbeuren - ECPv6.15.18//NONSGML v1.0//EN
CALSCALE:GREGORIAN
METHOD:PUBLISH
X-WR-CALNAME:Kgl. priv. Schützengesellschaft Nassenbeuren
X-ORIGINAL-URL:https://schuetzengesellschaft-nassenbeuren.de
X-WR-CALDESC:Veranstaltungen für Kgl. priv. Schützengesellschaft Nassenbeuren
REFRESH-INTERVAL;VALUE=DURATION:PT1H
X-Robots-Tag:noindex
X-PUBLISHED-TTL:PT1H
BEGIN:VTIMEZONE
TZID:Europe/Berlin
BEGIN:DAYLIGHT
TZOFFSETFROM:+0100
TZOFFSETTO:+0200
TZNAME:CEST
DTSTART:20220327T010000
END:DAYLIGHT
BEGIN:STANDARD
TZOFFSETFROM:+0200
TZOFFSETTO:+0100
TZNAME:CET
DTSTART:20221030T010000
END:STANDARD
BEGIN:DAYLIGHT
TZOFFSETFROM:+0100
TZOFFSETTO:+0200
TZNAME:CEST
DTSTART:20230326T010000
END:DAYLIGHT
BEGIN:STANDARD
TZOFFSETFROM:+0200
TZOFFSETTO:+0100
TZNAME:CET
DTSTART:20231029T010000
END:STANDARD
BEGIN:DAYLIGHT
TZOFFSETFROM:+0100
TZOFFSETTO:+0200
TZNAME:CEST
DTSTART:20240331T010000
END:DAYLIGHT
BEGIN:STANDARD
TZOFFSETFROM:+0200
TZOFFSETTO:+0100
TZNAME:CET
DTSTART:20241027T010000
END:STANDARD
BEGIN:DAYLIGHT
TZOFFSETFROM:+0100
TZOFFSETTO:+0200
TZNAME:CEST
DTSTART:20250330T010000
END:DAYLIGHT
BEGIN:STANDARD
TZOFFSETFROM:+0200
TZOFFSETTO:+0100
TZNAME:CET
DTSTART:20251026T010000
END:STANDARD
END:VTIMEZONE
BEGIN:VEVENT
DTSTART;TZID=Europe/Berlin:20240725T180000
DTEND;TZID=Europe/Berlin:20240725T200000
DTSTAMP:20260425T022814
CREATED:20240708T150356Z
LAST-MODIFIED:20240805T175237Z
UID:10000884-1721930400-1721937600@schuetzengesellschaft-nassenbeuren.de
SUMMARY:LG 10m Jugendtraining
DESCRIPTION:
URL:https://schuetzengesellschaft-nassenbeuren.de/termin/lg-10m-jugendtraining-2/
LOCATION:10m LP Schießstand
CATEGORIES:Jugend,Training
END:VEVENT
BEGIN:VEVENT
DTSTART;TZID=Europe/Berlin:20240711T180000
DTEND;TZID=Europe/Berlin:20240711T200000
DTSTAMP:20260425T022814
CREATED:20240708T125937Z
LAST-MODIFIED:20240805T175240Z
UID:10000865-1720720800-1720728000@schuetzengesellschaft-nassenbeuren.de
SUMMARY:LG 10m Jugendtraining
DESCRIPTION:
URL:https://schuetzengesellschaft-nassenbeuren.de/termin/lg-10m-jugendtraining/
LOCATION:10m LP Schießstand
CATEGORIES:Jugend,Training
END:VEVENT
BEGIN:VEVENT
DTSTART;TZID=Europe/Berlin:20240317T180000
DTEND;TZID=Europe/Berlin:20240317T200000
DTSTAMP:20260425T022814
CREATED:20240226T203945Z
LAST-MODIFIED:20240226T203945Z
UID:10000785-1710698400-1710705600@schuetzengesellschaft-nassenbeuren.de
SUMMARY:Osterhasenschießen LP/LG
DESCRIPTION:Alle Kaliber: Einlage 9€\, Nachkauf 1€
URL:https://schuetzengesellschaft-nassenbeuren.de/termin/osterhasenschiessen-lp-lg-11/
LOCATION:10m LP Schießstand
CATEGORIES:Wettkampf
END:VEVENT
BEGIN:VEVENT
DTSTART;TZID=Europe/Berlin:20240315T193000
DTEND;TZID=Europe/Berlin:20240315T213000
DTSTAMP:20260425T022814
CREATED:20240226T203945Z
LAST-MODIFIED:20240226T203945Z
UID:10000784-1710531000-1710538200@schuetzengesellschaft-nassenbeuren.de
SUMMARY:Osterhasenschießen LP/LG
DESCRIPTION:Alle Kaliber: Einlage 9€\, Nachkauf 1€
URL:https://schuetzengesellschaft-nassenbeuren.de/termin/osterhasenschiessen-lp-lg-10/
LOCATION:10m LP Schießstand
CATEGORIES:Wettkampf
END:VEVENT
BEGIN:VEVENT
DTSTART;TZID=Europe/Berlin:20240314T193000
DTEND;TZID=Europe/Berlin:20240314T213000
DTSTAMP:20260425T022814
CREATED:20240226T203945Z
LAST-MODIFIED:20240226T203945Z
UID:10000783-1710444600-1710451800@schuetzengesellschaft-nassenbeuren.de
SUMMARY:Osterhasenschießen LP/LG
DESCRIPTION:Alle Kaliber: Einlage 9€\, Nachkauf 1€
URL:https://schuetzengesellschaft-nassenbeuren.de/termin/osterhasenschiessen-lp-lg-9/
LOCATION:10m LP Schießstand
CATEGORIES:Wettkampf
END:VEVENT
BEGIN:VEVENT
DTSTART;TZID=Europe/Berlin:20240308T193000
DTEND;TZID=Europe/Berlin:20240308T213000
DTSTAMP:20260425T022814
CREATED:20240226T203945Z
LAST-MODIFIED:20240226T203945Z
UID:10000782-1709926200-1709933400@schuetzengesellschaft-nassenbeuren.de
SUMMARY:Osterhasenschießen LP/LG
DESCRIPTION:Alle Kaliber: Einlage 9€\, Nachkauf 1€
URL:https://schuetzengesellschaft-nassenbeuren.de/termin/osterhasenschiessen-lp-lg-8/
LOCATION:10m LP Schießstand
CATEGORIES:Wettkampf
END:VEVENT
BEGIN:VEVENT
DTSTART;TZID=Europe/Berlin:20240307T193000
DTEND;TZID=Europe/Berlin:20240307T213000
DTSTAMP:20260425T022814
CREATED:20240226T203945Z
LAST-MODIFIED:20240226T203945Z
UID:10000781-1709839800-1709847000@schuetzengesellschaft-nassenbeuren.de
SUMMARY:Osterhasenschießen LP/LG
DESCRIPTION:Alle Kaliber: Einlage 9€\, Nachkauf 1€
URL:https://schuetzengesellschaft-nassenbeuren.de/termin/osterhasenschiessen-lp-lg-7/
LOCATION:10m LP Schießstand
CATEGORIES:Wettkampf
END:VEVENT
BEGIN:VEVENT
DTSTART;TZID=Europe/Berlin:20231222T220000
DTEND;TZID=Europe/Berlin:20231222T233000
DTSTAMP:20260425T022814
CREATED:20231208T210031Z
LAST-MODIFIED:20231208T214836Z
UID:10000621-1703282400-1703287800@schuetzengesellschaft-nassenbeuren.de
SUMMARY:Weihnachts-Preisschießen Preisverleihung
DESCRIPTION:
URL:https://schuetzengesellschaft-nassenbeuren.de/termin/weihnachts-preisschiessen-preisverleihung/
LOCATION:10m LP Schießstand
CATEGORIES:Veranstaltung,Wettkampf
END:VEVENT
BEGIN:VEVENT
DTSTART;TZID=Europe/Berlin:20231222T193000
DTEND;TZID=Europe/Berlin:20231222T220000
DTSTAMP:20260425T022814
CREATED:20230926T103156Z
LAST-MODIFIED:20231208T214759Z
UID:10000594-1703273400-1703282400@schuetzengesellschaft-nassenbeuren.de
SUMMARY:Weihnachts-Preisschießen LG/LP und SP
DESCRIPTION:
URL:https://schuetzengesellschaft-nassenbeuren.de/termin/weihnachts-preisschiessen-lg-lp-und-sp/
LOCATION:10m LP Schießstand
CATEGORIES:Veranstaltung,Wettkampf
END:VEVENT
BEGIN:VEVENT
DTSTART;TZID=Europe/Berlin:20231215T193000
DTEND;TZID=Europe/Berlin:20231215T220000
DTSTAMP:20260425T022814
CREATED:20230926T103140Z
LAST-MODIFIED:20231208T214423Z
UID:10000593-1702668600-1702677600@schuetzengesellschaft-nassenbeuren.de
SUMMARY:Weihnachts-Preisschießen LG/LP
DESCRIPTION:
URL:https://schuetzengesellschaft-nassenbeuren.de/termin/weihnachts-preisschiessen-lg-lp/
LOCATION:10m LP Schießstand
CATEGORIES:Wettkampf
END:VEVENT
BEGIN:VEVENT
DTSTART;TZID=Europe/Berlin:20231124T193000
DTEND;TZID=Europe/Berlin:20231124T220000
DTSTAMP:20260425T022814
CREATED:20230926T103140Z
LAST-MODIFIED:20230926T103140Z
UID:10000590-1700854200-1700863200@schuetzengesellschaft-nassenbeuren.de
SUMMARY:Klausenschießen LG/LP
DESCRIPTION:
URL:https://schuetzengesellschaft-nassenbeuren.de/termin/klausenschiessen-lg-lp-2/
LOCATION:10m LP Schießstand
CATEGORIES:Wettkampf
END:VEVENT
BEGIN:VEVENT
DTSTART;TZID=Europe/Berlin:20231117T193000
DTEND;TZID=Europe/Berlin:20231117T220000
DTSTAMP:20260425T022814
CREATED:20230926T103139Z
LAST-MODIFIED:20230926T103139Z
UID:10000588-1700249400-1700258400@schuetzengesellschaft-nassenbeuren.de
SUMMARY:Klausenschießen LG/LP
DESCRIPTION:
URL:https://schuetzengesellschaft-nassenbeuren.de/termin/klausenschiessen-lg-lp/
LOCATION:10m LP Schießstand
CATEGORIES:Wettkampf
END:VEVENT
BEGIN:VEVENT
DTSTART;TZID=Europe/Berlin:20231103T193000
DTEND;TZID=Europe/Berlin:20231103T220000
DTSTAMP:20260425T022814
CREATED:20230926T103138Z
LAST-MODIFIED:20230926T104353Z
UID:10000586-1699039800-1699048800@schuetzengesellschaft-nassenbeuren.de
SUMMARY:Schießabend LG/LP
DESCRIPTION:
URL:https://schuetzengesellschaft-nassenbeuren.de/termin/schiessabend-lg-lp-2/
LOCATION:10m LP Schießstand
CATEGORIES:Training
END:VEVENT
BEGIN:VEVENT
DTSTART;TZID=Europe/Berlin:20231020T193000
DTEND;TZID=Europe/Berlin:20231020T220000
DTSTAMP:20260425T022814
CREATED:20230926T103138Z
LAST-MODIFIED:20230926T104349Z
UID:10000585-1697830200-1697839200@schuetzengesellschaft-nassenbeuren.de
SUMMARY:Schießabend LG/LP
DESCRIPTION:
URL:https://schuetzengesellschaft-nassenbeuren.de/termin/schiessabend-lg-lp/
LOCATION:10m LP Schießstand
CATEGORIES:Training
END:VEVENT
BEGIN:VEVENT
DTSTART;TZID=Europe/Berlin:20231013T193000
DTEND;TZID=Europe/Berlin:20231013T220000
DTSTAMP:20260425T022814
CREATED:20230926T103138Z
LAST-MODIFIED:20230926T103138Z
UID:10000584-1697225400-1697234400@schuetzengesellschaft-nassenbeuren.de
SUMMARY:Klausenschießen LG/LP Eröffnungsschießen
DESCRIPTION:
URL:https://schuetzengesellschaft-nassenbeuren.de/termin/klausenschiessen-lg-lp-eroeffnungsschiessen/
LOCATION:10m LP Schießstand
CATEGORIES:Wettkampf
END:VEVENT
BEGIN:VEVENT
DTSTART;TZID=Europe/Berlin:20230326T180000
DTEND;TZID=Europe/Berlin:20230326T200000
DTSTAMP:20260425T022814
CREATED:20230129T132129Z
LAST-MODIFIED:20230129T132129Z
UID:10000442-1679853600-1679860800@schuetzengesellschaft-nassenbeuren.de
SUMMARY:Osterhasenschießen LP/LG
DESCRIPTION:
URL:https://schuetzengesellschaft-nassenbeuren.de/termin/osterhasenschiessen-lp-lg-6/
LOCATION:10m LP Schießstand
CATEGORIES:Wettkampf
END:VEVENT
BEGIN:VEVENT
DTSTART;TZID=Europe/Berlin:20230324T193000
DTEND;TZID=Europe/Berlin:20230324T213000
DTSTAMP:20260425T022814
CREATED:20230129T132129Z
LAST-MODIFIED:20230129T132129Z
UID:10000441-1679686200-1679693400@schuetzengesellschaft-nassenbeuren.de
SUMMARY:Osterhasenschießen LP/LG
DESCRIPTION:
URL:https://schuetzengesellschaft-nassenbeuren.de/termin/osterhasenschiessen-lp-lg-5/
LOCATION:10m LP Schießstand
CATEGORIES:Wettkampf
END:VEVENT
BEGIN:VEVENT
DTSTART;TZID=Europe/Berlin:20230323T193000
DTEND;TZID=Europe/Berlin:20230323T213000
DTSTAMP:20260425T022814
CREATED:20230129T132114Z
LAST-MODIFIED:20230129T132114Z
UID:10000440-1679599800-1679607000@schuetzengesellschaft-nassenbeuren.de
SUMMARY:Osterhasenschießen LP/LG
DESCRIPTION:
URL:https://schuetzengesellschaft-nassenbeuren.de/termin/osterhasenschiessen-lp-lg-4/
LOCATION:10m LP Schießstand
CATEGORIES:Wettkampf
END:VEVENT
BEGIN:VEVENT
DTSTART;TZID=Europe/Berlin:20230319T180000
DTEND;TZID=Europe/Berlin:20230319T200000
DTSTAMP:20260425T022814
CREATED:20230129T132114Z
LAST-MODIFIED:20230129T132114Z
UID:10000439-1679248800-1679256000@schuetzengesellschaft-nassenbeuren.de
SUMMARY:Osterhasenschießen LP/LG
DESCRIPTION:
URL:https://schuetzengesellschaft-nassenbeuren.de/termin/osterhasenschiessen-lp-lg-3/
LOCATION:10m LP Schießstand
CATEGORIES:Wettkampf
END:VEVENT
BEGIN:VEVENT
DTSTART;TZID=Europe/Berlin:20230317T193000
DTEND;TZID=Europe/Berlin:20230317T213000
DTSTAMP:20260425T022814
CREATED:20230129T132114Z
LAST-MODIFIED:20230129T132114Z
UID:10000438-1679081400-1679088600@schuetzengesellschaft-nassenbeuren.de
SUMMARY:Osterhasenschießen LP/LG
DESCRIPTION:
URL:https://schuetzengesellschaft-nassenbeuren.de/termin/osterhasenschiessen-lp-lg-2/
LOCATION:10m LP Schießstand
CATEGORIES:Wettkampf
END:VEVENT
BEGIN:VEVENT
DTSTART;TZID=Europe/Berlin:20230316T193000
DTEND;TZID=Europe/Berlin:20230316T213000
DTSTAMP:20260425T022814
CREATED:20230129T132114Z
LAST-MODIFIED:20230129T132114Z
UID:10000437-1678995000-1679002200@schuetzengesellschaft-nassenbeuren.de
SUMMARY:Osterhasenschießen LP/LG
DESCRIPTION:
URL:https://schuetzengesellschaft-nassenbeuren.de/termin/osterhasenschiessen-lp-lg/
LOCATION:10m LP Schießstand
CATEGORIES:Wettkampf
END:VEVENT
BEGIN:VEVENT
DTSTART;TZID=Europe/Berlin:20230224T193000
DTEND;TZID=Europe/Berlin:20230224T220000
DTSTAMP:20260425T022814
CREATED:20221006T092927Z
LAST-MODIFIED:20221006T094249Z
UID:10000259-1677267000-1677276000@schuetzengesellschaft-nassenbeuren.de
SUMMARY:LP 10m Schießabend
DESCRIPTION:
URL:https://schuetzengesellschaft-nassenbeuren.de/termin/lp-10m-schiesabend-11/
LOCATION:10m LP Schießstand
CATEGORIES:Training
END:VEVENT
BEGIN:VEVENT
DTSTART;TZID=Europe/Berlin:20230210T193000
DTEND;TZID=Europe/Berlin:20230210T220000
DTSTAMP:20260425T022814
CREATED:20221006T092927Z
LAST-MODIFIED:20221006T094234Z
UID:10000258-1676057400-1676066400@schuetzengesellschaft-nassenbeuren.de
SUMMARY:LP 10m Schießabend
DESCRIPTION:
URL:https://schuetzengesellschaft-nassenbeuren.de/termin/lp-10m-schiesabend-10/
LOCATION:10m LP Schießstand
CATEGORIES:Training
END:VEVENT
END:VCALENDAR