BEGIN:VCALENDAR
VERSION:2.0
PRODID:-//Kgl. priv. Schützengesellschaft Nassenbeuren - ECPv6.15.18//NONSGML v1.0//EN
CALSCALE:GREGORIAN
METHOD:PUBLISH
X-ORIGINAL-URL:https://schuetzengesellschaft-nassenbeuren.de
X-WR-CALDESC:Veranstaltungen für Kgl. priv. Schützengesellschaft Nassenbeuren
REFRESH-INTERVAL;VALUE=DURATION:PT1H
X-Robots-Tag:noindex
X-PUBLISHED-TTL:PT1H
BEGIN:VTIMEZONE
TZID:Europe/Berlin
BEGIN:DAYLIGHT
TZOFFSETFROM:+0100
TZOFFSETTO:+0200
TZNAME:CEST
DTSTART:20220327T010000
END:DAYLIGHT
BEGIN:STANDARD
TZOFFSETFROM:+0200
TZOFFSETTO:+0100
TZNAME:CET
DTSTART:20221030T010000
END:STANDARD
BEGIN:DAYLIGHT
TZOFFSETFROM:+0100
TZOFFSETTO:+0200
TZNAME:CEST
DTSTART:20230326T010000
END:DAYLIGHT
BEGIN:STANDARD
TZOFFSETFROM:+0200
TZOFFSETTO:+0100
TZNAME:CET
DTSTART:20231029T010000
END:STANDARD
BEGIN:DAYLIGHT
TZOFFSETFROM:+0100
TZOFFSETTO:+0200
TZNAME:CEST
DTSTART:20240331T010000
END:DAYLIGHT
BEGIN:STANDARD
TZOFFSETFROM:+0200
TZOFFSETTO:+0100
TZNAME:CET
DTSTART:20241027T010000
END:STANDARD
END:VTIMEZONE
BEGIN:VEVENT
DTSTART;TZID=Europe/Berlin:20230513T100000
DTEND;TZID=Europe/Berlin:20230513T120000
DTSTAMP:20260423T021536
CREATED:20230413T215020Z
LAST-MODIFIED:20230413T215020Z
UID:10000496-1683972000-1683979200@schuetzengesellschaft-nassenbeuren.de
SUMMARY:GK/KK KW 25m - Dienstliches Schießen
DESCRIPTION:Externe Teilnehmer – geschlossene Veranstaltung
URL:https://schuetzengesellschaft-nassenbeuren.de/termin/gk-kk-kw-25m-dienstliches-schiessen-6/
LOCATION:25m KW Schießstand
CATEGORIES:Training
END:VEVENT
BEGIN:VEVENT
DTSTART;TZID=Europe/Berlin:20230507T100000
DTEND;TZID=Europe/Berlin:20230507T120000
DTSTAMP:20260423T021536
CREATED:20221226T165009Z
LAST-MODIFIED:20230108T215817Z
UID:10000413-1683453600-1683460800@schuetzengesellschaft-nassenbeuren.de
SUMMARY:GK / Ordonanz 100m
DESCRIPTION:
URL:https://schuetzengesellschaft-nassenbeuren.de/termin/gk-ordonanz-100m-44/
LOCATION:100m LW Schießstand
CATEGORIES:Training
END:VEVENT
BEGIN:VEVENT
DTSTART;TZID=Europe/Berlin:20230415T100000
DTEND;TZID=Europe/Berlin:20230415T120000
DTSTAMP:20260423T021536
CREATED:20230413T214912Z
LAST-MODIFIED:20230413T214912Z
UID:10000495-1681552800-1681560000@schuetzengesellschaft-nassenbeuren.de
SUMMARY:GK/KK KW 25m - Dienstliches Schießen
DESCRIPTION:Externe Teilnehmer – geschlossene Veranstaltung
URL:https://schuetzengesellschaft-nassenbeuren.de/termin/gk-kk-kw-25m-dienstliches-schiessen-5/
LOCATION:25m KW Schießstand
CATEGORIES:Training
END:VEVENT
BEGIN:VEVENT
DTSTART;TZID=Europe/Berlin:20230325T100000
DTEND;TZID=Europe/Berlin:20230325T120000
DTSTAMP:20260423T021536
CREATED:20230129T132130Z
LAST-MODIFIED:20230129T132130Z
UID:10000449-1679738400-1679745600@schuetzengesellschaft-nassenbeuren.de
SUMMARY:GK/KK KW 25m - Dienstliches Schießen
DESCRIPTION:Externe Teilnehmer – geschlossene Veranstaltung
URL:https://schuetzengesellschaft-nassenbeuren.de/termin/gk-kk-kw-25m-dienstliches-schiessen-4/
LOCATION:25m KW Schießstand
CATEGORIES:Training
END:VEVENT
BEGIN:VEVENT
DTSTART;TZID=Europe/Berlin:20230304T100000
DTEND;TZID=Europe/Berlin:20230304T120000
DTSTAMP:20260423T021536
CREATED:20230129T132130Z
LAST-MODIFIED:20230129T132130Z
UID:10000448-1677924000-1677931200@schuetzengesellschaft-nassenbeuren.de
SUMMARY:GK/KK KW 25m - Dienstliches Schießen
DESCRIPTION:Externe Teilnehmer – geschlossene Veranstaltung
URL:https://schuetzengesellschaft-nassenbeuren.de/termin/gk-kk-kw-25m-dienstliches-schiessen-3/
LOCATION:25m KW Schießstand
CATEGORIES:Training
END:VEVENT
BEGIN:VEVENT
DTSTART;TZID=Europe/Berlin:20230225T100000
DTEND;TZID=Europe/Berlin:20230225T120000
DTSTAMP:20260423T021536
CREATED:20230129T132130Z
LAST-MODIFIED:20230129T132130Z
UID:10000447-1677319200-1677326400@schuetzengesellschaft-nassenbeuren.de
SUMMARY:GK/KK KW 25m - Dienstliches Schießen
DESCRIPTION:Externe Teilnehmer – geschlossene Veranstaltung
URL:https://schuetzengesellschaft-nassenbeuren.de/termin/gk-kk-kw-25m-dienstliches-schiessen-2/
LOCATION:25m KW Schießstand
CATEGORIES:Training
END:VEVENT
BEGIN:VEVENT
DTSTART;TZID=Europe/Berlin:20230218T100000
DTEND;TZID=Europe/Berlin:20230218T120000
DTSTAMP:20260423T021536
CREATED:20230129T132130Z
LAST-MODIFIED:20230129T132130Z
UID:10000446-1676714400-1676721600@schuetzengesellschaft-nassenbeuren.de
SUMMARY:GK/KK KW 25m - Dienstliches Schießen
DESCRIPTION:Externe Teilnehmer – geschlossene Veranstaltung
URL:https://schuetzengesellschaft-nassenbeuren.de/termin/gk-kk-kw-25m-dienstliches-schiessen/
LOCATION:25m KW Schießstand
CATEGORIES:Training
END:VEVENT
END:VCALENDAR