BEGIN:VCALENDAR
VERSION:2.0
PRODID:-//Kgl. priv. Schützengesellschaft Nassenbeuren - ECPv6.15.18//NONSGML v1.0//EN
CALSCALE:GREGORIAN
METHOD:PUBLISH
X-ORIGINAL-URL:https://schuetzengesellschaft-nassenbeuren.de
X-WR-CALDESC:Veranstaltungen für Kgl. priv. Schützengesellschaft Nassenbeuren
REFRESH-INTERVAL;VALUE=DURATION:PT1H
X-Robots-Tag:noindex
X-PUBLISHED-TTL:PT1H
BEGIN:VTIMEZONE
TZID:Europe/Berlin
BEGIN:DAYLIGHT
TZOFFSETFROM:+0100
TZOFFSETTO:+0200
TZNAME:CEST
DTSTART:20220327T010000
END:DAYLIGHT
BEGIN:STANDARD
TZOFFSETFROM:+0200
TZOFFSETTO:+0100
TZNAME:CET
DTSTART:20221030T010000
END:STANDARD
BEGIN:DAYLIGHT
TZOFFSETFROM:+0100
TZOFFSETTO:+0200
TZNAME:CEST
DTSTART:20230326T010000
END:DAYLIGHT
BEGIN:STANDARD
TZOFFSETFROM:+0200
TZOFFSETTO:+0100
TZNAME:CET
DTSTART:20231029T010000
END:STANDARD
BEGIN:DAYLIGHT
TZOFFSETFROM:+0100
TZOFFSETTO:+0200
TZNAME:CEST
DTSTART:20240331T010000
END:DAYLIGHT
BEGIN:STANDARD
TZOFFSETFROM:+0200
TZOFFSETTO:+0100
TZNAME:CET
DTSTART:20241027T010000
END:STANDARD
BEGIN:DAYLIGHT
TZOFFSETFROM:+0100
TZOFFSETTO:+0200
TZNAME:CEST
DTSTART:20250330T010000
END:DAYLIGHT
BEGIN:STANDARD
TZOFFSETFROM:+0200
TZOFFSETTO:+0100
TZNAME:CET
DTSTART:20251026T010000
END:STANDARD
END:VTIMEZONE
BEGIN:VEVENT
DTSTART;TZID=Europe/Berlin:20240118T190000
DTEND;TZID=Europe/Berlin:20240118T220000
DTSTAMP:20260425T164251
CREATED:20231115T134916Z
LAST-MODIFIED:20231219T090718Z
UID:10000612-1705604400-1705615200@schuetzengesellschaft-nassenbeuren.de
SUMMARY:Gau-Meisterschaft 2024 - GK
DESCRIPTION:
URL:https://schuetzengesellschaft-nassenbeuren.de/termin/gau-meisterschaft-2024-gk-2/
LOCATION:25m KW Schießstand
CATEGORIES:Wettkampf
END:VEVENT
BEGIN:VEVENT
DTSTART;TZID=Europe/Berlin:20240114T100000
DTEND;TZID=Europe/Berlin:20240114T130000
DTSTAMP:20260425T164251
CREATED:20231115T134916Z
LAST-MODIFIED:20231219T090728Z
UID:10000611-1705226400-1705237200@schuetzengesellschaft-nassenbeuren.de
SUMMARY:Gau-Meisterschaft 2024 - KK
DESCRIPTION:
URL:https://schuetzengesellschaft-nassenbeuren.de/termin/gau-meisterschaft-2024-kk-2/
LOCATION:25m KW Schießstand
CATEGORIES:Wettkampf
END:VEVENT
BEGIN:VEVENT
DTSTART;TZID=Europe/Berlin:20240112T190000
DTEND;TZID=Europe/Berlin:20240112T220000
DTSTAMP:20260425T164251
CREATED:20231115T134916Z
LAST-MODIFIED:20231219T090740Z
UID:10000610-1705086000-1705096800@schuetzengesellschaft-nassenbeuren.de
SUMMARY:Gau-Meisterschaft 2024 - GK
DESCRIPTION:
URL:https://schuetzengesellschaft-nassenbeuren.de/termin/gau-meisterschaft-2024-gk/
LOCATION:25m KW Schießstand
CATEGORIES:Wettkampf
END:VEVENT
BEGIN:VEVENT
DTSTART;TZID=Europe/Berlin:20240111T190000
DTEND;TZID=Europe/Berlin:20240111T220000
DTSTAMP:20260425T164251
CREATED:20231115T134916Z
LAST-MODIFIED:20231219T090750Z
UID:10000609-1704999600-1705010400@schuetzengesellschaft-nassenbeuren.de
SUMMARY:Gau-Meisterschaft 2024 - KK
DESCRIPTION:
URL:https://schuetzengesellschaft-nassenbeuren.de/termin/gau-meisterschaft-2024-kk/
LOCATION:25m KW Schießstand
CATEGORIES:Wettkampf
END:VEVENT
BEGIN:VEVENT
DTSTART;TZID=Europe/Berlin:20240107T100000
DTEND;TZID=Europe/Berlin:20240107T120000
DTSTAMP:20260425T164251
CREATED:20240103T122346Z
LAST-MODIFIED:20240103T122346Z
UID:10000719-1704621600-1704628800@schuetzengesellschaft-nassenbeuren.de
SUMMARY:GK / Ordonanz 100m
DESCRIPTION:
URL:https://schuetzengesellschaft-nassenbeuren.de/termin/gk-ordonanz-100m-61/
LOCATION:100m LW Schießstand
CATEGORIES:Training
END:VEVENT
BEGIN:VEVENT
DTSTART;TZID=Europe/Berlin:20230813T100000
DTEND;TZID=Europe/Berlin:20230813T120000
DTSTAMP:20260425T164251
CREATED:20221226T165041Z
LAST-MODIFIED:20230108T215848Z
UID:10000420-1691920800-1691928000@schuetzengesellschaft-nassenbeuren.de
SUMMARY:GK / Ordonanz 100m
DESCRIPTION:
URL:https://schuetzengesellschaft-nassenbeuren.de/termin/gk-ordonanz-100m-51/
LOCATION:100m LW Schießstand
CATEGORIES:Training
END:VEVENT
BEGIN:VEVENT
DTSTART;TZID=Europe/Berlin:20230709T180000
DTEND;TZID=Europe/Berlin:20230709T200000
DTSTAMP:20260425T164251
CREATED:20230528T155938Z
LAST-MODIFIED:20230528T155938Z
UID:10000573-1688925600-1688932800@schuetzengesellschaft-nassenbeuren.de
SUMMARY:Sommerfestschießen KK 2023
DESCRIPTION:
URL:https://schuetzengesellschaft-nassenbeuren.de/termin/sommerfestschiessen-kk-2023-6/
LOCATION:50m LW Schießstand
CATEGORIES:Wettkampf
END:VEVENT
BEGIN:VEVENT
DTSTART;TZID=Europe/Berlin:20230707T190000
DTEND;TZID=Europe/Berlin:20230707T210000
DTSTAMP:20260425T164251
CREATED:20230528T155936Z
LAST-MODIFIED:20230528T155936Z
UID:10000572-1688756400-1688763600@schuetzengesellschaft-nassenbeuren.de
SUMMARY:Sommerfestschießen KK 2023
DESCRIPTION:
URL:https://schuetzengesellschaft-nassenbeuren.de/termin/sommerfestschiessen-kk-2023-5/
LOCATION:50m LW Schießstand
CATEGORIES:Wettkampf
END:VEVENT
BEGIN:VEVENT
DTSTART;TZID=Europe/Berlin:20230702T180000
DTEND;TZID=Europe/Berlin:20230702T200000
DTSTAMP:20260425T164251
CREATED:20230528T155936Z
LAST-MODIFIED:20230528T155936Z
UID:10000570-1688320800-1688328000@schuetzengesellschaft-nassenbeuren.de
SUMMARY:Sommerfestschießen KK 2023
DESCRIPTION:
URL:https://schuetzengesellschaft-nassenbeuren.de/termin/sommerfestschiessen-kk-2023-3/
LOCATION:50m LW Schießstand
CATEGORIES:Wettkampf
END:VEVENT
BEGIN:VEVENT
DTSTART;TZID=Europe/Berlin:20230630T190000
DTEND;TZID=Europe/Berlin:20230630T210000
DTSTAMP:20260425T164251
CREATED:20230528T155936Z
LAST-MODIFIED:20230528T155936Z
UID:10000569-1688151600-1688158800@schuetzengesellschaft-nassenbeuren.de
SUMMARY:Sommerfestschießen KK 2023
DESCRIPTION:
URL:https://schuetzengesellschaft-nassenbeuren.de/termin/sommerfestschiessen-kk-2023-2/
LOCATION:50m LW Schießstand
CATEGORIES:Wettkampf
END:VEVENT
BEGIN:VEVENT
DTSTART;TZID=Europe/Berlin:20230521T100000
DTEND;TZID=Europe/Berlin:20230521T120000
DTSTAMP:20260425T164251
CREATED:20221226T164738Z
LAST-MODIFIED:20221226T164738Z
UID:10000363-1684663200-1684670400@schuetzengesellschaft-nassenbeuren.de
SUMMARY:GK/KK KW 25m
DESCRIPTION:
URL:https://schuetzengesellschaft-nassenbeuren.de/termin/gk-kk-kw-25m-142/
LOCATION:25m KW Schießstand
CATEGORIES:Training
END:VEVENT
END:VCALENDAR