BEGIN:VCALENDAR
VERSION:2.0
PRODID:-//Kgl. priv. Schützengesellschaft Nassenbeuren - ECPv6.15.18//NONSGML v1.0//EN
CALSCALE:GREGORIAN
METHOD:PUBLISH
X-WR-CALNAME:Kgl. priv. Schützengesellschaft Nassenbeuren
X-ORIGINAL-URL:https://schuetzengesellschaft-nassenbeuren.de
X-WR-CALDESC:Veranstaltungen für Kgl. priv. Schützengesellschaft Nassenbeuren
REFRESH-INTERVAL;VALUE=DURATION:PT1H
X-Robots-Tag:noindex
X-PUBLISHED-TTL:PT1H
BEGIN:VTIMEZONE
TZID:Europe/Berlin
BEGIN:DAYLIGHT
TZOFFSETFROM:+0100
TZOFFSETTO:+0200
TZNAME:CEST
DTSTART:20220327T010000
END:DAYLIGHT
BEGIN:STANDARD
TZOFFSETFROM:+0200
TZOFFSETTO:+0100
TZNAME:CET
DTSTART:20221030T010000
END:STANDARD
BEGIN:DAYLIGHT
TZOFFSETFROM:+0100
TZOFFSETTO:+0200
TZNAME:CEST
DTSTART:20230326T010000
END:DAYLIGHT
BEGIN:STANDARD
TZOFFSETFROM:+0200
TZOFFSETTO:+0100
TZNAME:CET
DTSTART:20231029T010000
END:STANDARD
BEGIN:DAYLIGHT
TZOFFSETFROM:+0100
TZOFFSETTO:+0200
TZNAME:CEST
DTSTART:20240331T010000
END:DAYLIGHT
BEGIN:STANDARD
TZOFFSETFROM:+0200
TZOFFSETTO:+0100
TZNAME:CET
DTSTART:20241027T010000
END:STANDARD
BEGIN:DAYLIGHT
TZOFFSETFROM:+0100
TZOFFSETTO:+0200
TZNAME:CEST
DTSTART:20250330T010000
END:DAYLIGHT
BEGIN:STANDARD
TZOFFSETFROM:+0200
TZOFFSETTO:+0100
TZNAME:CET
DTSTART:20251026T010000
END:STANDARD
END:VTIMEZONE
BEGIN:VEVENT
DTSTART;TZID=Europe/Berlin:20241107T193000
DTEND;TZID=Europe/Berlin:20241107T220000
DTSTAMP:20260425T134726
CREATED:20240103T122246Z
LAST-MODIFIED:20240829T074709Z
UID:10000700-1731007800-1731016800@schuetzengesellschaft-nassenbeuren.de
SUMMARY:GK/KK KW 25m
DESCRIPTION:Offenes Training
URL:https://schuetzengesellschaft-nassenbeuren.de/termin/gk-kk-kw-25m-214/
LOCATION:25m KW Schießstand
CATEGORIES:Training
END:VEVENT
BEGIN:VEVENT
DTSTART;TZID=Europe/Berlin:20241017T193000
DTEND;TZID=Europe/Berlin:20241017T220000
DTSTAMP:20260425T134726
CREATED:20240103T122231Z
LAST-MODIFIED:20240829T074724Z
UID:10000697-1729193400-1729202400@schuetzengesellschaft-nassenbeuren.de
SUMMARY:GK/KK KW 25m
DESCRIPTION:Offenes Training
URL:https://schuetzengesellschaft-nassenbeuren.de/termin/gk-kk-kw-25m-211/
LOCATION:25m KW Schießstand
CATEGORIES:Training
END:VEVENT
BEGIN:VEVENT
DTSTART;TZID=Europe/Berlin:20241010T193000
DTEND;TZID=Europe/Berlin:20241010T220000
DTSTAMP:20260425T134726
CREATED:20240103T122231Z
LAST-MODIFIED:20240829T074729Z
UID:10000696-1728588600-1728597600@schuetzengesellschaft-nassenbeuren.de
SUMMARY:GK/KK KW 25m
DESCRIPTION:Offenes Training
URL:https://schuetzengesellschaft-nassenbeuren.de/termin/gk-kk-kw-25m-210/
LOCATION:25m KW Schießstand
CATEGORIES:Training
END:VEVENT
BEGIN:VEVENT
DTSTART;TZID=Europe/Berlin:20241003T193000
DTEND;TZID=Europe/Berlin:20241003T220000
DTSTAMP:20260425T134726
CREATED:20240103T122231Z
LAST-MODIFIED:20240829T074734Z
UID:10000695-1727983800-1727992800@schuetzengesellschaft-nassenbeuren.de
SUMMARY:GK/KK KW 25m
DESCRIPTION:Offenes Training
URL:https://schuetzengesellschaft-nassenbeuren.de/termin/gk-kk-kw-25m-209/
LOCATION:25m KW Schießstand
CATEGORIES:Training
END:VEVENT
BEGIN:VEVENT
DTSTART;TZID=Europe/Berlin:20240926T193000
DTEND;TZID=Europe/Berlin:20240926T220000
DTSTAMP:20260425T134726
CREATED:20240103T122231Z
LAST-MODIFIED:20240829T074739Z
UID:10000694-1727379000-1727388000@schuetzengesellschaft-nassenbeuren.de
SUMMARY:GK/KK KW 25m
DESCRIPTION:Offenes Training
URL:https://schuetzengesellschaft-nassenbeuren.de/termin/gk-kk-kw-25m-208/
LOCATION:25m KW Schießstand
CATEGORIES:Training
END:VEVENT
BEGIN:VEVENT
DTSTART;TZID=Europe/Berlin:20240919T193000
DTEND;TZID=Europe/Berlin:20240919T220000
DTSTAMP:20260425T134726
CREATED:20240103T122217Z
LAST-MODIFIED:20240829T074744Z
UID:10000693-1726774200-1726783200@schuetzengesellschaft-nassenbeuren.de
SUMMARY:GK/KK KW 25m
DESCRIPTION:Offenes Training
URL:https://schuetzengesellschaft-nassenbeuren.de/termin/gk-kk-kw-25m-207/
LOCATION:25m KW Schießstand
CATEGORIES:Training
END:VEVENT
BEGIN:VEVENT
DTSTART;TZID=Europe/Berlin:20240912T193000
DTEND;TZID=Europe/Berlin:20240912T220000
DTSTAMP:20260425T134726
CREATED:20240103T122216Z
LAST-MODIFIED:20240829T074751Z
UID:10000692-1726169400-1726178400@schuetzengesellschaft-nassenbeuren.de
SUMMARY:GK/KK KW 25m
DESCRIPTION:Offenes Training
URL:https://schuetzengesellschaft-nassenbeuren.de/termin/gk-kk-kw-25m-206/
LOCATION:25m KW Schießstand
CATEGORIES:Training
END:VEVENT
BEGIN:VEVENT
DTSTART;TZID=Europe/Berlin:20240905T193000
DTEND;TZID=Europe/Berlin:20240905T220000
DTSTAMP:20260425T134726
CREATED:20240103T122216Z
LAST-MODIFIED:20240829T074757Z
UID:10000691-1725564600-1725573600@schuetzengesellschaft-nassenbeuren.de
SUMMARY:GK/KK KW 25m
DESCRIPTION:Offenes Training
URL:https://schuetzengesellschaft-nassenbeuren.de/termin/gk-kk-kw-25m-205/
LOCATION:25m KW Schießstand
CATEGORIES:Training
END:VEVENT
BEGIN:VEVENT
DTSTART;TZID=Europe/Berlin:20240829T193000
DTEND;TZID=Europe/Berlin:20240829T220000
DTSTAMP:20260425T134726
CREATED:20240728T214352Z
LAST-MODIFIED:20240728T214650Z
UID:10000915-1724959800-1724968800@schuetzengesellschaft-nassenbeuren.de
SUMMARY:GK/KK KW 25m
DESCRIPTION:Offenes Training
URL:https://schuetzengesellschaft-nassenbeuren.de/termin/gk-kk-kw-25m-225/
LOCATION:25m KW Schießstand
CATEGORIES:Training
END:VEVENT
BEGIN:VEVENT
DTSTART;TZID=Europe/Berlin:20240822T193000
DTEND;TZID=Europe/Berlin:20240822T220000
DTSTAMP:20260425T134726
CREATED:20240728T214312Z
LAST-MODIFIED:20240728T214312Z
UID:10000912-1724355000-1724364000@schuetzengesellschaft-nassenbeuren.de
SUMMARY:GK/KK KW 25m
DESCRIPTION:Offenes Training
URL:https://schuetzengesellschaft-nassenbeuren.de/termin/gk-kk-kw-25m-224/
LOCATION:25m KW Schießstand
CATEGORIES:Training
END:VEVENT
BEGIN:VEVENT
DTSTART;TZID=Europe/Berlin:20240808T193000
DTEND;TZID=Europe/Berlin:20240808T220000
DTSTAMP:20260425T134726
CREATED:20240728T214231Z
LAST-MODIFIED:20240728T214231Z
UID:10000914-1723145400-1723154400@schuetzengesellschaft-nassenbeuren.de
SUMMARY:GK/KK KW 25m
DESCRIPTION:Offenes Training
URL:https://schuetzengesellschaft-nassenbeuren.de/termin/gk-kk-kw-25m-222/
LOCATION:25m KW Schießstand
CATEGORIES:Training
END:VEVENT
BEGIN:VEVENT
DTSTART;TZID=Europe/Berlin:20240801T190000
DTEND;TZID=Europe/Berlin:20240801T210000
DTSTAMP:20260425T134726
CREATED:20240625T074353Z
LAST-MODIFIED:20240724T214915Z
UID:10000832-1722538800-1722546000@schuetzengesellschaft-nassenbeuren.de
SUMMARY:Sommerfestschießen KK und Königsschießen
DESCRIPTION:Gesellschaftsschießen KK LW: Einlage 10€\, Nachkauf 1€
URL:https://schuetzengesellschaft-nassenbeuren.de/termin/sommerfestschiessen-kk-und-koenigsschiessen-7/
LOCATION:50m LW Schießstand
CATEGORIES:Wettkampf
END:VEVENT
BEGIN:VEVENT
DTSTART;TZID=Europe/Berlin:20240725T190000
DTEND;TZID=Europe/Berlin:20240725T210000
DTSTAMP:20260425T134726
CREATED:20240611T155644Z
LAST-MODIFIED:20240724T215010Z
UID:10000817-1721934000-1721941200@schuetzengesellschaft-nassenbeuren.de
SUMMARY:Sommerfestschießen KK und Königsschießen
DESCRIPTION:Gesellschaftsschießen KK LW: Einlage 10€\, Nachkauf 1€
URL:https://schuetzengesellschaft-nassenbeuren.de/termin/sommerfestschiessen-kk-und-koenigsschiessen-4/
LOCATION:50m LW Schießstand
CATEGORIES:Wettkampf
END:VEVENT
BEGIN:VEVENT
DTSTART;TZID=Europe/Berlin:20240121T100000
DTEND;TZID=Europe/Berlin:20240121T130000
DTSTAMP:20260425T134726
CREATED:20231115T134918Z
LAST-MODIFIED:20231219T090655Z
UID:10000614-1705831200-1705842000@schuetzengesellschaft-nassenbeuren.de
SUMMARY:Gau-Meisterschaft 2024 - Ersatztermin
DESCRIPTION:
URL:https://schuetzengesellschaft-nassenbeuren.de/termin/gau-meisterschaft-2024-ersatztermin/
LOCATION:25m KW Schießstand
CATEGORIES:Wettkampf
END:VEVENT
BEGIN:VEVENT
DTSTART;TZID=Europe/Berlin:20240119T190000
DTEND;TZID=Europe/Berlin:20240119T220000
DTSTAMP:20260425T134726
CREATED:20231115T134916Z
LAST-MODIFIED:20231219T090707Z
UID:10000613-1705690800-1705701600@schuetzengesellschaft-nassenbeuren.de
SUMMARY:Gau-Meisterschaft 2024 - BSSB-Kombi
DESCRIPTION:
URL:https://schuetzengesellschaft-nassenbeuren.de/termin/gau-meisterschaft-2024-bssb-kombi/
LOCATION:25m KW Schießstand
CATEGORIES:Wettkampf
END:VEVENT
BEGIN:VEVENT
DTSTART;TZID=Europe/Berlin:20240118T190000
DTEND;TZID=Europe/Berlin:20240118T220000
DTSTAMP:20260425T134726
CREATED:20231115T134916Z
LAST-MODIFIED:20231219T090718Z
UID:10000612-1705604400-1705615200@schuetzengesellschaft-nassenbeuren.de
SUMMARY:Gau-Meisterschaft 2024 - GK
DESCRIPTION:
URL:https://schuetzengesellschaft-nassenbeuren.de/termin/gau-meisterschaft-2024-gk-2/
LOCATION:25m KW Schießstand
CATEGORIES:Wettkampf
END:VEVENT
BEGIN:VEVENT
DTSTART;TZID=Europe/Berlin:20240114T100000
DTEND;TZID=Europe/Berlin:20240114T130000
DTSTAMP:20260425T134726
CREATED:20231115T134916Z
LAST-MODIFIED:20231219T090728Z
UID:10000611-1705226400-1705237200@schuetzengesellschaft-nassenbeuren.de
SUMMARY:Gau-Meisterschaft 2024 - KK
DESCRIPTION:
URL:https://schuetzengesellschaft-nassenbeuren.de/termin/gau-meisterschaft-2024-kk-2/
LOCATION:25m KW Schießstand
CATEGORIES:Wettkampf
END:VEVENT
BEGIN:VEVENT
DTSTART;TZID=Europe/Berlin:20240112T190000
DTEND;TZID=Europe/Berlin:20240112T220000
DTSTAMP:20260425T134726
CREATED:20231115T134916Z
LAST-MODIFIED:20231219T090740Z
UID:10000610-1705086000-1705096800@schuetzengesellschaft-nassenbeuren.de
SUMMARY:Gau-Meisterschaft 2024 - GK
DESCRIPTION:
URL:https://schuetzengesellschaft-nassenbeuren.de/termin/gau-meisterschaft-2024-gk/
LOCATION:25m KW Schießstand
CATEGORIES:Wettkampf
END:VEVENT
BEGIN:VEVENT
DTSTART;TZID=Europe/Berlin:20240111T190000
DTEND;TZID=Europe/Berlin:20240111T220000
DTSTAMP:20260425T134726
CREATED:20231115T134916Z
LAST-MODIFIED:20231219T090750Z
UID:10000609-1704999600-1705010400@schuetzengesellschaft-nassenbeuren.de
SUMMARY:Gau-Meisterschaft 2024 - KK
DESCRIPTION:
URL:https://schuetzengesellschaft-nassenbeuren.de/termin/gau-meisterschaft-2024-kk/
LOCATION:25m KW Schießstand
CATEGORIES:Wettkampf
END:VEVENT
BEGIN:VEVENT
DTSTART;TZID=Europe/Berlin:20240104T193000
DTEND;TZID=Europe/Berlin:20240104T223000
DTSTAMP:20260425T134726
CREATED:20231230T091725Z
LAST-MODIFIED:20231230T091725Z
UID:10000631-1704396600-1704407400@schuetzengesellschaft-nassenbeuren.de
SUMMARY:GK/KK KW 25m - BDS-Training mit Duell
DESCRIPTION:
URL:https://schuetzengesellschaft-nassenbeuren.de/termin/gk-kk-kw-25m-bds-training-mit-duell-4/
LOCATION:25m KW Schießstand
CATEGORIES:Training
END:VEVENT
BEGIN:VEVENT
DTSTART;TZID=Europe/Berlin:20231221T193000
DTEND;TZID=Europe/Berlin:20231221T223000
DTSTAMP:20260425T134726
CREATED:20231208T214620Z
LAST-MODIFIED:20231219T091821Z
UID:10000619-1703187000-1703197800@schuetzengesellschaft-nassenbeuren.de
SUMMARY:Weihnachts-Preisschießen SP 25m
DESCRIPTION:
URL:https://schuetzengesellschaft-nassenbeuren.de/termin/weihnachts-preisschiessen-sp-25m/
LOCATION:25m KW Schießstand
CATEGORIES:Wettkampf
END:VEVENT
BEGIN:VEVENT
DTSTART;TZID=Europe/Berlin:20231214T193000
DTEND;TZID=Europe/Berlin:20231214T223000
DTSTAMP:20260425T134726
CREATED:20231208T214626Z
LAST-MODIFIED:20231219T092457Z
UID:10000620-1702582200-1702593000@schuetzengesellschaft-nassenbeuren.de
SUMMARY:Weihnachts-Preisschießen SP 25m Eröffnungsschießen
DESCRIPTION:
URL:https://schuetzengesellschaft-nassenbeuren.de/termin/weihnachts-preisschiessen-sp-25m-eroeffnungsschiessen/
LOCATION:25m KW Schießstand
CATEGORIES:Veranstaltung
END:VEVENT
BEGIN:VEVENT
DTSTART;TZID=Europe/Berlin:20231210T100000
DTEND;TZID=Europe/Berlin:20231210T120000
DTSTAMP:20260425T134726
CREATED:20231208T214045Z
LAST-MODIFIED:20231208T214045Z
UID:10000618-1702202400-1702209600@schuetzengesellschaft-nassenbeuren.de
SUMMARY:GK/KK KW 25m - BDS-Training mit Duell
DESCRIPTION:
URL:https://schuetzengesellschaft-nassenbeuren.de/termin/gk-kk-kw-25m-bds-training-mit-duell-3/
LOCATION:25m KW Schießstand
CATEGORIES:Training
END:VEVENT
BEGIN:VEVENT
DTSTART;TZID=Europe/Berlin:20230831T193000
DTEND;TZID=Europe/Berlin:20230831T223000
DTSTAMP:20260425T134726
CREATED:20230817T231648Z
LAST-MODIFIED:20230818T092415Z
UID:10000577-1693510200-1693521000@schuetzengesellschaft-nassenbeuren.de
SUMMARY:GK/KK KW 25m
DESCRIPTION:
URL:https://schuetzengesellschaft-nassenbeuren.de/termin/gk-kk-kw-25m-89/
LOCATION:25m KW Schießstand
CATEGORIES:Training
END:VEVENT
BEGIN:VEVENT
DTSTART;TZID=Europe/Berlin:20230824T193000
DTEND;TZID=Europe/Berlin:20230824T223000
DTSTAMP:20260425T134726
CREATED:20230817T231627Z
LAST-MODIFIED:20230817T231627Z
UID:10000576-1692905400-1692916200@schuetzengesellschaft-nassenbeuren.de
SUMMARY:GK/KK KW 25m
DESCRIPTION:
URL:https://schuetzengesellschaft-nassenbeuren.de/termin/gk-kk-kw-25m-88/
LOCATION:25m KW Schießstand
CATEGORIES:Training
END:VEVENT
BEGIN:VEVENT
DTSTART;TZID=Europe/Berlin:20230817T193000
DTEND;TZID=Europe/Berlin:20230817T223000
DTSTAMP:20260425T134726
CREATED:20230816T073108Z
LAST-MODIFIED:20230816T073234Z
UID:10000575-1692300600-1692311400@schuetzengesellschaft-nassenbeuren.de
SUMMARY:GK/KK KW 25m
DESCRIPTION:
URL:https://schuetzengesellschaft-nassenbeuren.de/termin/gk-kk-kw-25m-81/
LOCATION:25m KW Schießstand
CATEGORIES:Training
END:VEVENT
END:VCALENDAR