BEGIN:VCALENDAR
VERSION:2.0
PRODID:-//Kgl. priv. Schützengesellschaft Nassenbeuren - ECPv6.15.18//NONSGML v1.0//EN
CALSCALE:GREGORIAN
METHOD:PUBLISH
X-ORIGINAL-URL:https://schuetzengesellschaft-nassenbeuren.de
X-WR-CALDESC:Veranstaltungen für Kgl. priv. Schützengesellschaft Nassenbeuren
REFRESH-INTERVAL;VALUE=DURATION:PT1H
X-Robots-Tag:noindex
X-PUBLISHED-TTL:PT1H
BEGIN:VTIMEZONE
TZID:Europe/Berlin
BEGIN:DAYLIGHT
TZOFFSETFROM:+0100
TZOFFSETTO:+0200
TZNAME:CEST
DTSTART:20220327T010000
END:DAYLIGHT
BEGIN:STANDARD
TZOFFSETFROM:+0200
TZOFFSETTO:+0100
TZNAME:CET
DTSTART:20221030T010000
END:STANDARD
BEGIN:DAYLIGHT
TZOFFSETFROM:+0100
TZOFFSETTO:+0200
TZNAME:CEST
DTSTART:20230326T010000
END:DAYLIGHT
BEGIN:STANDARD
TZOFFSETFROM:+0200
TZOFFSETTO:+0100
TZNAME:CET
DTSTART:20231029T010000
END:STANDARD
BEGIN:DAYLIGHT
TZOFFSETFROM:+0100
TZOFFSETTO:+0200
TZNAME:CEST
DTSTART:20240331T010000
END:DAYLIGHT
BEGIN:STANDARD
TZOFFSETFROM:+0200
TZOFFSETTO:+0100
TZNAME:CET
DTSTART:20241027T010000
END:STANDARD
BEGIN:DAYLIGHT
TZOFFSETFROM:+0100
TZOFFSETTO:+0200
TZNAME:CEST
DTSTART:20250330T010000
END:DAYLIGHT
BEGIN:STANDARD
TZOFFSETFROM:+0200
TZOFFSETTO:+0100
TZNAME:CET
DTSTART:20251026T010000
END:STANDARD
BEGIN:DAYLIGHT
TZOFFSETFROM:+0100
TZOFFSETTO:+0200
TZNAME:CEST
DTSTART:20260329T010000
END:DAYLIGHT
BEGIN:STANDARD
TZOFFSETFROM:+0200
TZOFFSETTO:+0100
TZNAME:CET
DTSTART:20261025T010000
END:STANDARD
END:VTIMEZONE
BEGIN:VEVENT
DTSTART;TZID=Europe/Berlin:20250603T183000
DTEND;TZID=Europe/Berlin:20250603T203000
DTSTAMP:20260423T005647
CREATED:20250404T082244Z
LAST-MODIFIED:20250404T082244Z
UID:10001830-1748975400-1748982600@schuetzengesellschaft-nassenbeuren.de
SUMMARY:LW 100m – BDS Training
DESCRIPTION:Ablauf gem. BDS-Sporthandbuch
URL:https://schuetzengesellschaft-nassenbeuren.de/termin/lw-100m-bds-training-6/
LOCATION:100m LW Schießstand
CATEGORIES:Training
END:VEVENT
BEGIN:VEVENT
DTSTART;TZID=Europe/Berlin:20250519T183000
DTEND;TZID=Europe/Berlin:20250519T203000
DTSTAMP:20260423T005647
CREATED:20250404T082227Z
LAST-MODIFIED:20250404T082227Z
UID:10001829-1747679400-1747686600@schuetzengesellschaft-nassenbeuren.de
SUMMARY:LW 100m – BDS Training
DESCRIPTION:Ablauf gem. BDS-Sporthandbuch
URL:https://schuetzengesellschaft-nassenbeuren.de/termin/lw-100m-bds-training-5/
LOCATION:100m LW Schießstand
CATEGORIES:Training
END:VEVENT
BEGIN:VEVENT
DTSTART;TZID=Europe/Berlin:20250515T193000
DTEND;TZID=Europe/Berlin:20250515T223000
DTSTAMP:20260423T005647
CREATED:20250423T205409Z
LAST-MODIFIED:20250423T205410Z
UID:10001421-1747337400-1747348200@schuetzengesellschaft-nassenbeuren.de
SUMMARY:GK/KK KW 25m
DESCRIPTION:Allgemeines Training
URL:https://schuetzengesellschaft-nassenbeuren.de/termin/gk-kk-kw-25m-229-2-2/
LOCATION:25m KW Schießstand
CATEGORIES:Training
END:VEVENT
BEGIN:VEVENT
DTSTART;TZID=Europe/Berlin:20250506T183000
DTEND;TZID=Europe/Berlin:20250506T203000
DTSTAMP:20260423T005647
CREATED:20250404T082213Z
LAST-MODIFIED:20250404T082213Z
UID:10001828-1746556200-1746563400@schuetzengesellschaft-nassenbeuren.de
SUMMARY:LW 100m – BDS Training
DESCRIPTION:Ablauf gem. BDS-Sporthandbuch
URL:https://schuetzengesellschaft-nassenbeuren.de/termin/lw-100m-bds-training-4/
LOCATION:100m LW Schießstand
CATEGORIES:Training
END:VEVENT
BEGIN:VEVENT
DTSTART;TZID=Europe/Berlin:20250421T183000
DTEND;TZID=Europe/Berlin:20250421T203000
DTSTAMP:20260423T005647
CREATED:20250404T082156Z
LAST-MODIFIED:20250404T082156Z
UID:10001827-1745260200-1745267400@schuetzengesellschaft-nassenbeuren.de
SUMMARY:LW 100m – BDS Training
DESCRIPTION:Ablauf gem. BDS-Sporthandbuch
URL:https://schuetzengesellschaft-nassenbeuren.de/termin/lw-100m-bds-training-3/
LOCATION:100m LW Schießstand
CATEGORIES:Training
END:VEVENT
BEGIN:VEVENT
DTSTART;TZID=Europe/Berlin:20250408T183000
DTEND;TZID=Europe/Berlin:20250408T203000
DTSTAMP:20260423T005647
CREATED:20250328T213636Z
LAST-MODIFIED:20250404T082134Z
UID:10001823-1744137000-1744144200@schuetzengesellschaft-nassenbeuren.de
SUMMARY:LW 100m – BDS Training
DESCRIPTION:Ablauf gem. BDS-Sporthandbuch
URL:https://schuetzengesellschaft-nassenbeuren.de/termin/lw-100m-bds-training-2/
LOCATION:100m LW Schießstand
CATEGORIES:Training
END:VEVENT
BEGIN:VEVENT
DTSTART;TZID=Europe/Berlin:20241219T193000
DTEND;TZID=Europe/Berlin:20241219T220000
DTSTAMP:20260423T005647
CREATED:20240103T122301Z
LAST-MODIFIED:20240829T074635Z
UID:10000706-1734636600-1734645600@schuetzengesellschaft-nassenbeuren.de
SUMMARY:GK/KK KW 25m
DESCRIPTION:Offenes Training
URL:https://schuetzengesellschaft-nassenbeuren.de/termin/gk-kk-kw-25m-220/
LOCATION:25m KW Schießstand
CATEGORIES:Training
END:VEVENT
BEGIN:VEVENT
DTSTART;TZID=Europe/Berlin:20241212T193000
DTEND;TZID=Europe/Berlin:20241212T220000
DTSTAMP:20260423T005647
CREATED:20240103T122301Z
LAST-MODIFIED:20240829T074641Z
UID:10000705-1734031800-1734040800@schuetzengesellschaft-nassenbeuren.de
SUMMARY:GK/KK KW 25m
DESCRIPTION:Offenes Training
URL:https://schuetzengesellschaft-nassenbeuren.de/termin/gk-kk-kw-25m-219/
LOCATION:25m KW Schießstand
CATEGORIES:Training
END:VEVENT
BEGIN:VEVENT
DTSTART;TZID=Europe/Berlin:20241205T193000
DTEND;TZID=Europe/Berlin:20241205T220000
DTSTAMP:20260423T005647
CREATED:20240103T122301Z
LAST-MODIFIED:20240829T074646Z
UID:10000704-1733427000-1733436000@schuetzengesellschaft-nassenbeuren.de
SUMMARY:GK/KK KW 25m
DESCRIPTION:Offenes Training
URL:https://schuetzengesellschaft-nassenbeuren.de/termin/gk-kk-kw-25m-218/
LOCATION:25m KW Schießstand
CATEGORIES:Training
END:VEVENT
BEGIN:VEVENT
DTSTART;TZID=Europe/Berlin:20241107T193000
DTEND;TZID=Europe/Berlin:20241107T220000
DTSTAMP:20260423T005647
CREATED:20240103T122246Z
LAST-MODIFIED:20240829T074709Z
UID:10000700-1731007800-1731016800@schuetzengesellschaft-nassenbeuren.de
SUMMARY:GK/KK KW 25m
DESCRIPTION:Offenes Training
URL:https://schuetzengesellschaft-nassenbeuren.de/termin/gk-kk-kw-25m-214/
LOCATION:25m KW Schießstand
CATEGORIES:Training
END:VEVENT
BEGIN:VEVENT
DTSTART;TZID=Europe/Berlin:20241017T193000
DTEND;TZID=Europe/Berlin:20241017T220000
DTSTAMP:20260423T005647
CREATED:20240103T122231Z
LAST-MODIFIED:20240829T074724Z
UID:10000697-1729193400-1729202400@schuetzengesellschaft-nassenbeuren.de
SUMMARY:GK/KK KW 25m
DESCRIPTION:Offenes Training
URL:https://schuetzengesellschaft-nassenbeuren.de/termin/gk-kk-kw-25m-211/
LOCATION:25m KW Schießstand
CATEGORIES:Training
END:VEVENT
BEGIN:VEVENT
DTSTART;TZID=Europe/Berlin:20241010T193000
DTEND;TZID=Europe/Berlin:20241010T220000
DTSTAMP:20260423T005647
CREATED:20240103T122231Z
LAST-MODIFIED:20240829T074729Z
UID:10000696-1728588600-1728597600@schuetzengesellschaft-nassenbeuren.de
SUMMARY:GK/KK KW 25m
DESCRIPTION:Offenes Training
URL:https://schuetzengesellschaft-nassenbeuren.de/termin/gk-kk-kw-25m-210/
LOCATION:25m KW Schießstand
CATEGORIES:Training
END:VEVENT
BEGIN:VEVENT
DTSTART;TZID=Europe/Berlin:20241003T193000
DTEND;TZID=Europe/Berlin:20241003T220000
DTSTAMP:20260423T005647
CREATED:20240103T122231Z
LAST-MODIFIED:20240829T074734Z
UID:10000695-1727983800-1727992800@schuetzengesellschaft-nassenbeuren.de
SUMMARY:GK/KK KW 25m
DESCRIPTION:Offenes Training
URL:https://schuetzengesellschaft-nassenbeuren.de/termin/gk-kk-kw-25m-209/
LOCATION:25m KW Schießstand
CATEGORIES:Training
END:VEVENT
BEGIN:VEVENT
DTSTART;TZID=Europe/Berlin:20240926T193000
DTEND;TZID=Europe/Berlin:20240926T220000
DTSTAMP:20260423T005647
CREATED:20240103T122231Z
LAST-MODIFIED:20240829T074739Z
UID:10000694-1727379000-1727388000@schuetzengesellschaft-nassenbeuren.de
SUMMARY:GK/KK KW 25m
DESCRIPTION:Offenes Training
URL:https://schuetzengesellschaft-nassenbeuren.de/termin/gk-kk-kw-25m-208/
LOCATION:25m KW Schießstand
CATEGORIES:Training
END:VEVENT
BEGIN:VEVENT
DTSTART;TZID=Europe/Berlin:20240919T193000
DTEND;TZID=Europe/Berlin:20240919T220000
DTSTAMP:20260423T005647
CREATED:20240103T122217Z
LAST-MODIFIED:20240829T074744Z
UID:10000693-1726774200-1726783200@schuetzengesellschaft-nassenbeuren.de
SUMMARY:GK/KK KW 25m
DESCRIPTION:Offenes Training
URL:https://schuetzengesellschaft-nassenbeuren.de/termin/gk-kk-kw-25m-207/
LOCATION:25m KW Schießstand
CATEGORIES:Training
END:VEVENT
BEGIN:VEVENT
DTSTART;TZID=Europe/Berlin:20240912T193000
DTEND;TZID=Europe/Berlin:20240912T220000
DTSTAMP:20260423T005647
CREATED:20240103T122216Z
LAST-MODIFIED:20240829T074751Z
UID:10000692-1726169400-1726178400@schuetzengesellschaft-nassenbeuren.de
SUMMARY:GK/KK KW 25m
DESCRIPTION:Offenes Training
URL:https://schuetzengesellschaft-nassenbeuren.de/termin/gk-kk-kw-25m-206/
LOCATION:25m KW Schießstand
CATEGORIES:Training
END:VEVENT
BEGIN:VEVENT
DTSTART;TZID=Europe/Berlin:20240905T193000
DTEND;TZID=Europe/Berlin:20240905T220000
DTSTAMP:20260423T005647
CREATED:20240103T122216Z
LAST-MODIFIED:20240829T074757Z
UID:10000691-1725564600-1725573600@schuetzengesellschaft-nassenbeuren.de
SUMMARY:GK/KK KW 25m
DESCRIPTION:Offenes Training
URL:https://schuetzengesellschaft-nassenbeuren.de/termin/gk-kk-kw-25m-205/
LOCATION:25m KW Schießstand
CATEGORIES:Training
END:VEVENT
BEGIN:VEVENT
DTSTART;TZID=Europe/Berlin:20240829T193000
DTEND;TZID=Europe/Berlin:20240829T220000
DTSTAMP:20260423T005647
CREATED:20240728T214352Z
LAST-MODIFIED:20240728T214650Z
UID:10000915-1724959800-1724968800@schuetzengesellschaft-nassenbeuren.de
SUMMARY:GK/KK KW 25m
DESCRIPTION:Offenes Training
URL:https://schuetzengesellschaft-nassenbeuren.de/termin/gk-kk-kw-25m-225/
LOCATION:25m KW Schießstand
CATEGORIES:Training
END:VEVENT
BEGIN:VEVENT
DTSTART;TZID=Europe/Berlin:20240822T193000
DTEND;TZID=Europe/Berlin:20240822T220000
DTSTAMP:20260423T005647
CREATED:20240728T214312Z
LAST-MODIFIED:20240728T214312Z
UID:10000912-1724355000-1724364000@schuetzengesellschaft-nassenbeuren.de
SUMMARY:GK/KK KW 25m
DESCRIPTION:Offenes Training
URL:https://schuetzengesellschaft-nassenbeuren.de/termin/gk-kk-kw-25m-224/
LOCATION:25m KW Schießstand
CATEGORIES:Training
END:VEVENT
BEGIN:VEVENT
DTSTART;TZID=Europe/Berlin:20240808T193000
DTEND;TZID=Europe/Berlin:20240808T220000
DTSTAMP:20260423T005647
CREATED:20240728T214231Z
LAST-MODIFIED:20240728T214231Z
UID:10000914-1723145400-1723154400@schuetzengesellschaft-nassenbeuren.de
SUMMARY:GK/KK KW 25m
DESCRIPTION:Offenes Training
URL:https://schuetzengesellschaft-nassenbeuren.de/termin/gk-kk-kw-25m-222/
LOCATION:25m KW Schießstand
CATEGORIES:Training
END:VEVENT
BEGIN:VEVENT
DTSTART;TZID=Europe/Berlin:20240801T193000
DTEND;TZID=Europe/Berlin:20240801T220000
DTSTAMP:20260423T005647
CREATED:20240728T214210Z
LAST-MODIFIED:20240728T214821Z
UID:10000911-1722540600-1722549600@schuetzengesellschaft-nassenbeuren.de
SUMMARY:GK/KK KW 25m
DESCRIPTION:Offenes Training
URL:https://schuetzengesellschaft-nassenbeuren.de/termin/gk-kk-kw-25m-221/
LOCATION:25m KW Schießstand
CATEGORIES:Training
END:VEVENT
BEGIN:VEVENT
DTSTART;TZID=Europe/Berlin:20240725T193000
DTEND;TZID=Europe/Berlin:20240725T220000
DTSTAMP:20260423T005647
CREATED:20240103T122216Z
LAST-MODIFIED:20240705T114008Z
UID:10000690-1721935800-1721944800@schuetzengesellschaft-nassenbeuren.de
SUMMARY:GK/KK KW 25m
DESCRIPTION:Offenes Training
URL:https://schuetzengesellschaft-nassenbeuren.de/termin/gk-kk-kw-25m-204/
LOCATION:25m KW Schießstand
CATEGORIES:Training
END:VEVENT
BEGIN:VEVENT
DTSTART;TZID=Europe/Berlin:20240718T193000
DTEND;TZID=Europe/Berlin:20240718T220000
DTSTAMP:20260423T005647
CREATED:20240103T122216Z
LAST-MODIFIED:20240705T114008Z
UID:10000689-1721331000-1721340000@schuetzengesellschaft-nassenbeuren.de
SUMMARY:GK/KK KW 25m
DESCRIPTION:Offenes Training
URL:https://schuetzengesellschaft-nassenbeuren.de/termin/gk-kk-kw-25m-203/
LOCATION:25m KW Schießstand
CATEGORIES:Training
END:VEVENT
BEGIN:VEVENT
DTSTART;TZID=Europe/Berlin:20240711T193000
DTEND;TZID=Europe/Berlin:20240711T220000
DTSTAMP:20260423T005647
CREATED:20240103T122201Z
LAST-MODIFIED:20240103T125605Z
UID:10000688-1720726200-1720735200@schuetzengesellschaft-nassenbeuren.de
SUMMARY:GK/KK KW 25m
DESCRIPTION:
URL:https://schuetzengesellschaft-nassenbeuren.de/termin/gk-kk-kw-25m-202/
LOCATION:25m KW Schießstand
CATEGORIES:Training
END:VEVENT
BEGIN:VEVENT
DTSTART;TZID=Europe/Berlin:20240704T193000
DTEND;TZID=Europe/Berlin:20240704T220000
DTSTAMP:20260423T005647
CREATED:20240103T122201Z
LAST-MODIFIED:20240103T125605Z
UID:10000687-1720121400-1720130400@schuetzengesellschaft-nassenbeuren.de
SUMMARY:GK/KK KW 25m
DESCRIPTION:
URL:https://schuetzengesellschaft-nassenbeuren.de/termin/gk-kk-kw-25m-201/
LOCATION:25m KW Schießstand
CATEGORIES:Training
END:VEVENT
BEGIN:VEVENT
DTSTART;TZID=Europe/Berlin:20240627T193000
DTEND;TZID=Europe/Berlin:20240627T220000
DTSTAMP:20260423T005647
CREATED:20240103T122201Z
LAST-MODIFIED:20240103T125605Z
UID:10000686-1719516600-1719525600@schuetzengesellschaft-nassenbeuren.de
SUMMARY:GK/KK KW 25m
DESCRIPTION:
URL:https://schuetzengesellschaft-nassenbeuren.de/termin/gk-kk-kw-25m-200/
LOCATION:25m KW Schießstand
CATEGORIES:Training
END:VEVENT
BEGIN:VEVENT
DTSTART;TZID=Europe/Berlin:20240620T193000
DTEND;TZID=Europe/Berlin:20240620T220000
DTSTAMP:20260423T005647
CREATED:20240103T122201Z
LAST-MODIFIED:20240103T125605Z
UID:10000685-1718911800-1718920800@schuetzengesellschaft-nassenbeuren.de
SUMMARY:GK/KK KW 25m
DESCRIPTION:
URL:https://schuetzengesellschaft-nassenbeuren.de/termin/gk-kk-kw-25m-199/
LOCATION:25m KW Schießstand
CATEGORIES:Training
END:VEVENT
BEGIN:VEVENT
DTSTART;TZID=Europe/Berlin:20240613T193000
DTEND;TZID=Europe/Berlin:20240613T220000
DTSTAMP:20260423T005647
CREATED:20240103T122201Z
LAST-MODIFIED:20240103T125605Z
UID:10000684-1718307000-1718316000@schuetzengesellschaft-nassenbeuren.de
SUMMARY:GK/KK KW 25m
DESCRIPTION:
URL:https://schuetzengesellschaft-nassenbeuren.de/termin/gk-kk-kw-25m-198/
LOCATION:25m KW Schießstand
CATEGORIES:Training
END:VEVENT
BEGIN:VEVENT
DTSTART;TZID=Europe/Berlin:20240606T193000
DTEND;TZID=Europe/Berlin:20240606T220000
DTSTAMP:20260423T005647
CREATED:20240103T122146Z
LAST-MODIFIED:20240103T125550Z
UID:10000683-1717702200-1717711200@schuetzengesellschaft-nassenbeuren.de
SUMMARY:GK/KK KW 25m
DESCRIPTION:
URL:https://schuetzengesellschaft-nassenbeuren.de/termin/gk-kk-kw-25m-197/
LOCATION:25m KW Schießstand
CATEGORIES:Training
END:VEVENT
BEGIN:VEVENT
DTSTART;TZID=Europe/Berlin:20240530T193000
DTEND;TZID=Europe/Berlin:20240530T220000
DTSTAMP:20260423T005647
CREATED:20240103T122146Z
LAST-MODIFIED:20240103T125550Z
UID:10000682-1717097400-1717106400@schuetzengesellschaft-nassenbeuren.de
SUMMARY:GK/KK KW 25m
DESCRIPTION:
URL:https://schuetzengesellschaft-nassenbeuren.de/termin/gk-kk-kw-25m-196/
LOCATION:25m KW Schießstand
CATEGORIES:Training
END:VEVENT
BEGIN:VEVENT
DTSTART;TZID=Europe/Berlin:20240523T193000
DTEND;TZID=Europe/Berlin:20240523T220000
DTSTAMP:20260423T005647
CREATED:20240103T122146Z
LAST-MODIFIED:20240103T125550Z
UID:10000681-1716492600-1716501600@schuetzengesellschaft-nassenbeuren.de
SUMMARY:GK/KK KW 25m
DESCRIPTION:
URL:https://schuetzengesellschaft-nassenbeuren.de/termin/gk-kk-kw-25m-195/
LOCATION:25m KW Schießstand
CATEGORIES:Training
END:VEVENT
BEGIN:VEVENT
DTSTART;TZID=Europe/Berlin:20240516T193000
DTEND;TZID=Europe/Berlin:20240516T220000
DTSTAMP:20260423T005647
CREATED:20240103T122146Z
LAST-MODIFIED:20240103T125550Z
UID:10000680-1715887800-1715896800@schuetzengesellschaft-nassenbeuren.de
SUMMARY:GK/KK KW 25m
DESCRIPTION:
URL:https://schuetzengesellschaft-nassenbeuren.de/termin/gk-kk-kw-25m-194/
LOCATION:25m KW Schießstand
CATEGORIES:Training
END:VEVENT
BEGIN:VEVENT
DTSTART;TZID=Europe/Berlin:20240509T193000
DTEND;TZID=Europe/Berlin:20240509T220000
DTSTAMP:20260423T005647
CREATED:20240103T122146Z
LAST-MODIFIED:20240103T125550Z
UID:10000679-1715283000-1715292000@schuetzengesellschaft-nassenbeuren.de
SUMMARY:GK/KK KW 25m
DESCRIPTION:
URL:https://schuetzengesellschaft-nassenbeuren.de/termin/gk-kk-kw-25m-193/
LOCATION:25m KW Schießstand
CATEGORIES:Training
END:VEVENT
BEGIN:VEVENT
DTSTART;TZID=Europe/Berlin:20240502T193000
DTEND;TZID=Europe/Berlin:20240502T220000
DTSTAMP:20260423T005647
CREATED:20240103T122132Z
LAST-MODIFIED:20240103T125535Z
UID:10000678-1714678200-1714687200@schuetzengesellschaft-nassenbeuren.de
SUMMARY:GK/KK KW 25m
DESCRIPTION:
URL:https://schuetzengesellschaft-nassenbeuren.de/termin/gk-kk-kw-25m-192/
LOCATION:25m KW Schießstand
CATEGORIES:Training
END:VEVENT
BEGIN:VEVENT
DTSTART;TZID=Europe/Berlin:20240425T193000
DTEND;TZID=Europe/Berlin:20240425T220000
DTSTAMP:20260423T005647
CREATED:20240103T122131Z
LAST-MODIFIED:20240103T125535Z
UID:10000677-1714073400-1714082400@schuetzengesellschaft-nassenbeuren.de
SUMMARY:GK/KK KW 25m
DESCRIPTION:
URL:https://schuetzengesellschaft-nassenbeuren.de/termin/gk-kk-kw-25m-191/
LOCATION:25m KW Schießstand
CATEGORIES:Training
END:VEVENT
BEGIN:VEVENT
DTSTART;TZID=Europe/Berlin:20240418T193000
DTEND;TZID=Europe/Berlin:20240418T220000
DTSTAMP:20260423T005647
CREATED:20240103T122131Z
LAST-MODIFIED:20240103T125535Z
UID:10000676-1713468600-1713477600@schuetzengesellschaft-nassenbeuren.de
SUMMARY:GK/KK KW 25m
DESCRIPTION:
URL:https://schuetzengesellschaft-nassenbeuren.de/termin/gk-kk-kw-25m-190/
LOCATION:25m KW Schießstand
CATEGORIES:Training
END:VEVENT
BEGIN:VEVENT
DTSTART;TZID=Europe/Berlin:20240411T193000
DTEND;TZID=Europe/Berlin:20240411T220000
DTSTAMP:20260423T005647
CREATED:20240103T122131Z
LAST-MODIFIED:20240103T125535Z
UID:10000675-1712863800-1712872800@schuetzengesellschaft-nassenbeuren.de
SUMMARY:GK/KK KW 25m
DESCRIPTION:
URL:https://schuetzengesellschaft-nassenbeuren.de/termin/gk-kk-kw-25m-189/
LOCATION:25m KW Schießstand
CATEGORIES:Training
END:VEVENT
BEGIN:VEVENT
DTSTART;TZID=Europe/Berlin:20240404T193000
DTEND;TZID=Europe/Berlin:20240404T220000
DTSTAMP:20260423T005647
CREATED:20240103T122131Z
LAST-MODIFIED:20240103T125535Z
UID:10000674-1712259000-1712268000@schuetzengesellschaft-nassenbeuren.de
SUMMARY:GK/KK KW 25m
DESCRIPTION:
URL:https://schuetzengesellschaft-nassenbeuren.de/termin/gk-kk-kw-25m-188/
LOCATION:25m KW Schießstand
CATEGORIES:Training
END:VEVENT
BEGIN:VEVENT
DTSTART;TZID=Europe/Berlin:20240328T193000
DTEND;TZID=Europe/Berlin:20240328T220000
DTSTAMP:20260423T005647
CREATED:20240103T122116Z
LAST-MODIFIED:20240103T125520Z
UID:10000673-1711654200-1711663200@schuetzengesellschaft-nassenbeuren.de
SUMMARY:GK/KK KW 25m
DESCRIPTION:
URL:https://schuetzengesellschaft-nassenbeuren.de/termin/gk-kk-kw-25m-187/
LOCATION:25m KW Schießstand
CATEGORIES:Training
END:VEVENT
BEGIN:VEVENT
DTSTART;TZID=Europe/Berlin:20240321T193000
DTEND;TZID=Europe/Berlin:20240321T220000
DTSTAMP:20260423T005647
CREATED:20240103T122116Z
LAST-MODIFIED:20240103T125520Z
UID:10000672-1711049400-1711058400@schuetzengesellschaft-nassenbeuren.de
SUMMARY:GK/KK KW 25m
DESCRIPTION:
URL:https://schuetzengesellschaft-nassenbeuren.de/termin/gk-kk-kw-25m-186/
LOCATION:25m KW Schießstand
CATEGORIES:Training
END:VEVENT
BEGIN:VEVENT
DTSTART;TZID=Europe/Berlin:20240314T193000
DTEND;TZID=Europe/Berlin:20240314T220000
DTSTAMP:20260423T005647
CREATED:20240103T122116Z
LAST-MODIFIED:20240103T125520Z
UID:10000671-1710444600-1710453600@schuetzengesellschaft-nassenbeuren.de
SUMMARY:GK/KK KW 25m
DESCRIPTION:
URL:https://schuetzengesellschaft-nassenbeuren.de/termin/gk-kk-kw-25m-185/
LOCATION:25m KW Schießstand
CATEGORIES:Training
END:VEVENT
BEGIN:VEVENT
DTSTART;TZID=Europe/Berlin:20240307T193000
DTEND;TZID=Europe/Berlin:20240307T220000
DTSTAMP:20260423T005647
CREATED:20240103T122116Z
LAST-MODIFIED:20240103T125520Z
UID:10000670-1709839800-1709848800@schuetzengesellschaft-nassenbeuren.de
SUMMARY:GK/KK KW 25m
DESCRIPTION:
URL:https://schuetzengesellschaft-nassenbeuren.de/termin/gk-kk-kw-25m-184/
LOCATION:25m KW Schießstand
CATEGORIES:Training
END:VEVENT
BEGIN:VEVENT
DTSTART;TZID=Europe/Berlin:20240229T193000
DTEND;TZID=Europe/Berlin:20240229T220000
DTSTAMP:20260423T005647
CREATED:20240103T122116Z
LAST-MODIFIED:20240103T125520Z
UID:10000669-1709235000-1709244000@schuetzengesellschaft-nassenbeuren.de
SUMMARY:GK/KK KW 25m
DESCRIPTION:
URL:https://schuetzengesellschaft-nassenbeuren.de/termin/gk-kk-kw-25m-183/
LOCATION:25m KW Schießstand
CATEGORIES:Training
END:VEVENT
BEGIN:VEVENT
DTSTART;TZID=Europe/Berlin:20240222T193000
DTEND;TZID=Europe/Berlin:20240222T220000
DTSTAMP:20260423T005647
CREATED:20240103T122101Z
LAST-MODIFIED:20240103T125518Z
UID:10000668-1708630200-1708639200@schuetzengesellschaft-nassenbeuren.de
SUMMARY:GK/KK KW 25m
DESCRIPTION:
URL:https://schuetzengesellschaft-nassenbeuren.de/termin/gk-kk-kw-25m-182/
LOCATION:25m KW Schießstand
CATEGORIES:Training
END:VEVENT
BEGIN:VEVENT
DTSTART;TZID=Europe/Berlin:20240215T193000
DTEND;TZID=Europe/Berlin:20240215T220000
DTSTAMP:20260423T005647
CREATED:20240103T122101Z
LAST-MODIFIED:20240103T125518Z
UID:10000667-1708025400-1708034400@schuetzengesellschaft-nassenbeuren.de
SUMMARY:GK/KK KW 25m
DESCRIPTION:
URL:https://schuetzengesellschaft-nassenbeuren.de/termin/gk-kk-kw-25m-181/
LOCATION:25m KW Schießstand
CATEGORIES:Training
END:VEVENT
BEGIN:VEVENT
DTSTART;TZID=Europe/Berlin:20240208T193000
DTEND;TZID=Europe/Berlin:20240208T220000
DTSTAMP:20260423T005647
CREATED:20240103T122101Z
LAST-MODIFIED:20240103T125518Z
UID:10000666-1707420600-1707429600@schuetzengesellschaft-nassenbeuren.de
SUMMARY:GK/KK KW 25m
DESCRIPTION:
URL:https://schuetzengesellschaft-nassenbeuren.de/termin/gk-kk-kw-25m-180/
LOCATION:25m KW Schießstand
CATEGORIES:Training
END:VEVENT
BEGIN:VEVENT
DTSTART;TZID=Europe/Berlin:20240201T193000
DTEND;TZID=Europe/Berlin:20240201T220000
DTSTAMP:20260423T005647
CREATED:20240103T122101Z
LAST-MODIFIED:20240103T125518Z
UID:10000665-1706815800-1706824800@schuetzengesellschaft-nassenbeuren.de
SUMMARY:GK/KK KW 25m
DESCRIPTION:
URL:https://schuetzengesellschaft-nassenbeuren.de/termin/gk-kk-kw-25m-179/
LOCATION:25m KW Schießstand
CATEGORIES:Training
END:VEVENT
BEGIN:VEVENT
DTSTART;TZID=Europe/Berlin:20240125T193000
DTEND;TZID=Europe/Berlin:20240125T220000
DTSTAMP:20260423T005647
CREATED:20240103T122101Z
LAST-MODIFIED:20240103T125518Z
UID:10000664-1706211000-1706220000@schuetzengesellschaft-nassenbeuren.de
SUMMARY:GK/KK KW 25m
DESCRIPTION:
URL:https://schuetzengesellschaft-nassenbeuren.de/termin/gk-kk-kw-25m-178/
LOCATION:25m KW Schießstand
CATEGORIES:Training
END:VEVENT
BEGIN:VEVENT
DTSTART;TZID=Europe/Berlin:20230410T100000
DTEND;TZID=Europe/Berlin:20230410T120000
DTSTAMP:20260423T005647
CREATED:20221226T165009Z
LAST-MODIFIED:20230108T215817Z
UID:10000411-1681120800-1681128000@schuetzengesellschaft-nassenbeuren.de
SUMMARY:GK / Ordonanz 100m
DESCRIPTION:
URL:https://schuetzengesellschaft-nassenbeuren.de/termin/gk-ordonanz-100m-42/
LOCATION:100m LW Schießstand
CATEGORIES:Training
END:VEVENT
END:VCALENDAR