BEGIN:VCALENDAR
VERSION:2.0
PRODID:-//Kgl. priv. Schützengesellschaft Nassenbeuren - ECPv6.15.18//NONSGML v1.0//EN
CALSCALE:GREGORIAN
METHOD:PUBLISH
X-ORIGINAL-URL:https://schuetzengesellschaft-nassenbeuren.de
X-WR-CALDESC:Veranstaltungen für Kgl. priv. Schützengesellschaft Nassenbeuren
REFRESH-INTERVAL;VALUE=DURATION:PT1H
X-Robots-Tag:noindex
X-PUBLISHED-TTL:PT1H
BEGIN:VTIMEZONE
TZID:Europe/Berlin
BEGIN:DAYLIGHT
TZOFFSETFROM:+0100
TZOFFSETTO:+0200
TZNAME:CEST
DTSTART:20250330T010000
END:DAYLIGHT
BEGIN:STANDARD
TZOFFSETFROM:+0200
TZOFFSETTO:+0100
TZNAME:CET
DTSTART:20251026T010000
END:STANDARD
BEGIN:DAYLIGHT
TZOFFSETFROM:+0100
TZOFFSETTO:+0200
TZNAME:CEST
DTSTART:20260329T010000
END:DAYLIGHT
BEGIN:STANDARD
TZOFFSETFROM:+0200
TZOFFSETTO:+0100
TZNAME:CET
DTSTART:20261025T010000
END:STANDARD
BEGIN:DAYLIGHT
TZOFFSETFROM:+0100
TZOFFSETTO:+0200
TZNAME:CEST
DTSTART:20270328T010000
END:DAYLIGHT
BEGIN:STANDARD
TZOFFSETFROM:+0200
TZOFFSETTO:+0100
TZNAME:CET
DTSTART:20271031T010000
END:STANDARD
END:VTIMEZONE
BEGIN:VEVENT
DTSTART;TZID=Europe/Berlin:20261119T180000
DTEND;TZID=Europe/Berlin:20261119T200000
DTSTAMP:20260422T213156
CREATED:20260105T135332Z
LAST-MODIFIED:20260105T135332Z
UID:10002634-1795111200-1795118400@schuetzengesellschaft-nassenbeuren.de
SUMMARY:LG 10m Jugendtraining
DESCRIPTION:
URL:https://schuetzengesellschaft-nassenbeuren.de/termin/lg-10m-jugendtraining-47/
LOCATION:10m LP Schießstand
CATEGORIES:Jugend
END:VEVENT
BEGIN:VEVENT
DTSTART;TZID=Europe/Berlin:20261119T193000
DTEND;TZID=Europe/Berlin:20261119T220000
DTSTAMP:20260422T213156
CREATED:20251020T081819Z
LAST-MODIFIED:20251020T081819Z
UID:10002540-1795116600-1795125600@schuetzengesellschaft-nassenbeuren.de
SUMMARY:GK/KK KW 25m
DESCRIPTION:Offenes Training für Mitglieder
URL:https://schuetzengesellschaft-nassenbeuren.de/termin/gk-kk-kw-25m-287/
LOCATION:25m KW Schießstand
CATEGORIES:Training
ATTACH;FMTTYPE=image/jpeg:https://schuetzengesellschaft-nassenbeuren.de/wp-content/uploads/25m_1067.jpg
END:VEVENT
BEGIN:VEVENT
DTSTART;TZID=Europe/Berlin:20261203T180000
DTEND;TZID=Europe/Berlin:20261203T200000
DTSTAMP:20260422T213156
CREATED:20260105T135333Z
LAST-MODIFIED:20260105T135333Z
UID:10002635-1796320800-1796328000@schuetzengesellschaft-nassenbeuren.de
SUMMARY:LG 10m Jugendtraining
DESCRIPTION:
URL:https://schuetzengesellschaft-nassenbeuren.de/termin/lg-10m-jugendtraining-48/
LOCATION:10m LP Schießstand
CATEGORIES:Jugend
END:VEVENT
BEGIN:VEVENT
DTSTART;TZID=Europe/Berlin:20261203T193000
DTEND;TZID=Europe/Berlin:20261203T220000
DTSTAMP:20260422T213156
CREATED:20251020T081832Z
LAST-MODIFIED:20251020T081832Z
UID:10002542-1796326200-1796335200@schuetzengesellschaft-nassenbeuren.de
SUMMARY:GK/KK KW 25m
DESCRIPTION:Offenes Training für Mitglieder
URL:https://schuetzengesellschaft-nassenbeuren.de/termin/gk-kk-kw-25m-289/
LOCATION:25m KW Schießstand
CATEGORIES:Training
ATTACH;FMTTYPE=image/jpeg:https://schuetzengesellschaft-nassenbeuren.de/wp-content/uploads/25m_1067.jpg
END:VEVENT
BEGIN:VEVENT
DTSTART;TZID=Europe/Berlin:20261217T180000
DTEND;TZID=Europe/Berlin:20261217T200000
DTSTAMP:20260422T213156
CREATED:20260105T135345Z
LAST-MODIFIED:20260105T135345Z
UID:10002636-1797530400-1797537600@schuetzengesellschaft-nassenbeuren.de
SUMMARY:LG 10m Jugendtraining
DESCRIPTION:
URL:https://schuetzengesellschaft-nassenbeuren.de/termin/lg-10m-jugendtraining-49/
LOCATION:10m LP Schießstand
CATEGORIES:Jugend
END:VEVENT
BEGIN:VEVENT
DTSTART;TZID=Europe/Berlin:20261217T193000
DTEND;TZID=Europe/Berlin:20261217T220000
DTSTAMP:20260422T213156
CREATED:20251020T081834Z
LAST-MODIFIED:20251020T081834Z
UID:10002544-1797535800-1797544800@schuetzengesellschaft-nassenbeuren.de
SUMMARY:GK/KK KW 25m
DESCRIPTION:Offenes Training für Mitglieder
URL:https://schuetzengesellschaft-nassenbeuren.de/termin/gk-kk-kw-25m-291/
LOCATION:25m KW Schießstand
CATEGORIES:Training
ATTACH;FMTTYPE=image/jpeg:https://schuetzengesellschaft-nassenbeuren.de/wp-content/uploads/25m_1067.jpg
END:VEVENT
END:VCALENDAR