BEGIN:VCALENDAR
VERSION:2.0
PRODID:-//Kgl. priv. Schützengesellschaft Nassenbeuren - ECPv6.15.18//NONSGML v1.0//EN
CALSCALE:GREGORIAN
METHOD:PUBLISH
X-ORIGINAL-URL:https://schuetzengesellschaft-nassenbeuren.de
X-WR-CALDESC:Veranstaltungen für Kgl. priv. Schützengesellschaft Nassenbeuren
REFRESH-INTERVAL;VALUE=DURATION:PT1H
X-Robots-Tag:noindex
X-PUBLISHED-TTL:PT1H
BEGIN:VTIMEZONE
TZID:Europe/Berlin
BEGIN:DAYLIGHT
TZOFFSETFROM:+0100
TZOFFSETTO:+0200
TZNAME:CEST
DTSTART:20250330T010000
END:DAYLIGHT
BEGIN:STANDARD
TZOFFSETFROM:+0200
TZOFFSETTO:+0100
TZNAME:CET
DTSTART:20251026T010000
END:STANDARD
BEGIN:DAYLIGHT
TZOFFSETFROM:+0100
TZOFFSETTO:+0200
TZNAME:CEST
DTSTART:20260329T010000
END:DAYLIGHT
BEGIN:STANDARD
TZOFFSETFROM:+0200
TZOFFSETTO:+0100
TZNAME:CET
DTSTART:20261025T010000
END:STANDARD
BEGIN:DAYLIGHT
TZOFFSETFROM:+0100
TZOFFSETTO:+0200
TZNAME:CEST
DTSTART:20270328T010000
END:DAYLIGHT
BEGIN:STANDARD
TZOFFSETFROM:+0200
TZOFFSETTO:+0100
TZNAME:CET
DTSTART:20271031T010000
END:STANDARD
END:VTIMEZONE
BEGIN:VEVENT
DTSTART;TZID=Europe/Berlin:20260423T180000
DTEND;TZID=Europe/Berlin:20260423T200000
DTSTAMP:20260422T171215
CREATED:20260105T135247Z
LAST-MODIFIED:20260105T135247Z
UID:10002619-1776967200-1776974400@schuetzengesellschaft-nassenbeuren.de
SUMMARY:LG 10m Jugendtraining
DESCRIPTION:
URL:https://schuetzengesellschaft-nassenbeuren.de/termin/lg-10m-jugendtraining-32/
LOCATION:10m LP Schießstand
CATEGORIES:Jugend
END:VEVENT
BEGIN:VEVENT
DTSTART;TZID=Europe/Berlin:20260423T193000
DTEND;TZID=Europe/Berlin:20260423T220000
DTSTAMP:20260422T171215
CREATED:20251020T080015Z
LAST-MODIFIED:20251020T081649Z
UID:10002511-1776972600-1776981600@schuetzengesellschaft-nassenbeuren.de
SUMMARY:GK/KK KW 25m
DESCRIPTION:Offenes Training für Mitglieder
URL:https://schuetzengesellschaft-nassenbeuren.de/termin/gk-kk-kw-25m-258/
LOCATION:25m KW Schießstand
CATEGORIES:Training
ATTACH;FMTTYPE=image/jpeg:https://schuetzengesellschaft-nassenbeuren.de/wp-content/uploads/25m_1067.jpg
END:VEVENT
BEGIN:VEVENT
DTSTART;TZID=Europe/Berlin:20260425T090000
DTEND;TZID=Europe/Berlin:20260425T130000
DTSTAMP:20260422T171215
CREATED:20260105T140203Z
LAST-MODIFIED:20260105T140203Z
UID:10002637-1777107600-1777122000@schuetzengesellschaft-nassenbeuren.de
SUMMARY:Altpapiersammlung
DESCRIPTION:
URL:https://schuetzengesellschaft-nassenbeuren.de/termin/altpapiersammlung-12/
LOCATION:Nassenbeuren
CATEGORIES:Arbeit
END:VEVENT
BEGIN:VEVENT
DTSTART;TZID=Europe/Berlin:20260426T100000
DTEND;TZID=Europe/Berlin:20260426T130000
DTSTAMP:20260422T171215
CREATED:20251227T143540Z
LAST-MODIFIED:20260105T145222Z
UID:10002592-1777197600-1777208400@schuetzengesellschaft-nassenbeuren.de
SUMMARY:GK / Ordonanz 100m
DESCRIPTION:Offenes Training für Mitglieder
URL:https://schuetzengesellschaft-nassenbeuren.de/termin/gk-ordonanz-100m-121/
LOCATION:100m LW Schießstand
CATEGORIES:Training
END:VEVENT
BEGIN:VEVENT
DTSTART;TZID=Europe/Berlin:20260507T180000
DTEND;TZID=Europe/Berlin:20260507T200000
DTSTAMP:20260422T171215
CREATED:20260105T135248Z
LAST-MODIFIED:20260105T135248Z
UID:10002620-1778176800-1778184000@schuetzengesellschaft-nassenbeuren.de
SUMMARY:LG 10m Jugendtraining
DESCRIPTION:
URL:https://schuetzengesellschaft-nassenbeuren.de/termin/lg-10m-jugendtraining-33/
LOCATION:10m LP Schießstand
CATEGORIES:Jugend
END:VEVENT
BEGIN:VEVENT
DTSTART;TZID=Europe/Berlin:20260507T193000
DTEND;TZID=Europe/Berlin:20260507T220000
DTSTAMP:20260422T171215
CREATED:20251020T080017Z
LAST-MODIFIED:20251020T081701Z
UID:10002512-1778182200-1778191200@schuetzengesellschaft-nassenbeuren.de
SUMMARY:GK/KK KW 25m
DESCRIPTION:Offenes Training für Mitglieder
URL:https://schuetzengesellschaft-nassenbeuren.de/termin/gk-kk-kw-25m-259/
LOCATION:25m KW Schießstand
CATEGORIES:Training
ATTACH;FMTTYPE=image/jpeg:https://schuetzengesellschaft-nassenbeuren.de/wp-content/uploads/25m_1067.jpg
END:VEVENT
BEGIN:VEVENT
DTSTART;TZID=Europe/Berlin:20260521T180000
DTEND;TZID=Europe/Berlin:20260521T200000
DTSTAMP:20260422T171215
CREATED:20260105T135300Z
LAST-MODIFIED:20260105T135300Z
UID:10002621-1779386400-1779393600@schuetzengesellschaft-nassenbeuren.de
SUMMARY:LG 10m Jugendtraining
DESCRIPTION:
URL:https://schuetzengesellschaft-nassenbeuren.de/termin/lg-10m-jugendtraining-34/
LOCATION:10m LP Schießstand
CATEGORIES:Jugend
END:VEVENT
BEGIN:VEVENT
DTSTART;TZID=Europe/Berlin:20260521T193000
DTEND;TZID=Europe/Berlin:20260521T220000
DTSTAMP:20260422T171215
CREATED:20251020T081703Z
LAST-MODIFIED:20251020T081703Z
UID:10002514-1779391800-1779400800@schuetzengesellschaft-nassenbeuren.de
SUMMARY:GK/KK KW 25m
DESCRIPTION:Offenes Training für Mitglieder
URL:https://schuetzengesellschaft-nassenbeuren.de/termin/gk-kk-kw-25m-261/
LOCATION:25m KW Schießstand
CATEGORIES:Training
ATTACH;FMTTYPE=image/jpeg:https://schuetzengesellschaft-nassenbeuren.de/wp-content/uploads/25m_1067.jpg
END:VEVENT
BEGIN:VEVENT
DTSTART;TZID=Europe/Berlin:20260604T180000
DTEND;TZID=Europe/Berlin:20260604T200000
DTSTAMP:20260422T171215
CREATED:20260105T135301Z
LAST-MODIFIED:20260105T135301Z
UID:10002622-1780596000-1780603200@schuetzengesellschaft-nassenbeuren.de
SUMMARY:LG 10m Jugendtraining
DESCRIPTION:
URL:https://schuetzengesellschaft-nassenbeuren.de/termin/lg-10m-jugendtraining-35/
LOCATION:10m LP Schießstand
CATEGORIES:Jugend
END:VEVENT
BEGIN:VEVENT
DTSTART;TZID=Europe/Berlin:20260604T193000
DTEND;TZID=Europe/Berlin:20260604T220000
DTSTAMP:20260422T171215
CREATED:20251020T081705Z
LAST-MODIFIED:20251020T081705Z
UID:10002516-1780601400-1780610400@schuetzengesellschaft-nassenbeuren.de
SUMMARY:GK/KK KW 25m
DESCRIPTION:Offenes Training für Mitglieder
URL:https://schuetzengesellschaft-nassenbeuren.de/termin/gk-kk-kw-25m-263/
LOCATION:25m KW Schießstand
CATEGORIES:Training
ATTACH;FMTTYPE=image/jpeg:https://schuetzengesellschaft-nassenbeuren.de/wp-content/uploads/25m_1067.jpg
END:VEVENT
BEGIN:VEVENT
DTSTART;TZID=Europe/Berlin:20260618T180000
DTEND;TZID=Europe/Berlin:20260618T200000
DTSTAMP:20260422T171215
CREATED:20260105T135301Z
LAST-MODIFIED:20260105T135301Z
UID:10002623-1781805600-1781812800@schuetzengesellschaft-nassenbeuren.de
SUMMARY:LG 10m Jugendtraining
DESCRIPTION:
URL:https://schuetzengesellschaft-nassenbeuren.de/termin/lg-10m-jugendtraining-36/
LOCATION:10m LP Schießstand
CATEGORIES:Jugend
END:VEVENT
BEGIN:VEVENT
DTSTART;TZID=Europe/Berlin:20260618T193000
DTEND;TZID=Europe/Berlin:20260618T220000
DTSTAMP:20260422T171215
CREATED:20251020T081717Z
LAST-MODIFIED:20251020T081717Z
UID:10002518-1781811000-1781820000@schuetzengesellschaft-nassenbeuren.de
SUMMARY:GK/KK KW 25m
DESCRIPTION:Offenes Training für Mitglieder
URL:https://schuetzengesellschaft-nassenbeuren.de/termin/gk-kk-kw-25m-265/
LOCATION:25m KW Schießstand
CATEGORIES:Training
ATTACH;FMTTYPE=image/jpeg:https://schuetzengesellschaft-nassenbeuren.de/wp-content/uploads/25m_1067.jpg
END:VEVENT
BEGIN:VEVENT
DTSTART;TZID=Europe/Berlin:20260702T180000
DTEND;TZID=Europe/Berlin:20260702T200000
DTSTAMP:20260422T171215
CREATED:20260105T135302Z
LAST-MODIFIED:20260105T135302Z
UID:10002624-1783015200-1783022400@schuetzengesellschaft-nassenbeuren.de
SUMMARY:LG 10m Jugendtraining
DESCRIPTION:
URL:https://schuetzengesellschaft-nassenbeuren.de/termin/lg-10m-jugendtraining-37/
LOCATION:10m LP Schießstand
CATEGORIES:Jugend
END:VEVENT
BEGIN:VEVENT
DTSTART;TZID=Europe/Berlin:20260702T193000
DTEND;TZID=Europe/Berlin:20260702T220000
DTSTAMP:20260422T171215
CREATED:20251020T081719Z
LAST-MODIFIED:20251020T081719Z
UID:10002520-1783020600-1783029600@schuetzengesellschaft-nassenbeuren.de
SUMMARY:GK/KK KW 25m
DESCRIPTION:Offenes Training für Mitglieder
URL:https://schuetzengesellschaft-nassenbeuren.de/termin/gk-kk-kw-25m-267/
LOCATION:25m KW Schießstand
CATEGORIES:Training
ATTACH;FMTTYPE=image/jpeg:https://schuetzengesellschaft-nassenbeuren.de/wp-content/uploads/25m_1067.jpg
END:VEVENT
BEGIN:VEVENT
DTSTART;TZID=Europe/Berlin:20260711T090000
DTEND;TZID=Europe/Berlin:20260711T130000
DTSTAMP:20260422T171215
CREATED:20260105T140204Z
LAST-MODIFIED:20260105T140204Z
UID:10002638-1783760400-1783774800@schuetzengesellschaft-nassenbeuren.de
SUMMARY:Altpapiersammlung
DESCRIPTION:
URL:https://schuetzengesellschaft-nassenbeuren.de/termin/altpapiersammlung-13/
LOCATION:Nassenbeuren
CATEGORIES:Arbeit
END:VEVENT
BEGIN:VEVENT
DTSTART;TZID=Europe/Berlin:20260716T180000
DTEND;TZID=Europe/Berlin:20260716T200000
DTSTAMP:20260422T171215
CREATED:20260105T135303Z
LAST-MODIFIED:20260105T135303Z
UID:10002625-1784224800-1784232000@schuetzengesellschaft-nassenbeuren.de
SUMMARY:LG 10m Jugendtraining
DESCRIPTION:
URL:https://schuetzengesellschaft-nassenbeuren.de/termin/lg-10m-jugendtraining-38/
LOCATION:10m LP Schießstand
CATEGORIES:Jugend
END:VEVENT
BEGIN:VEVENT
DTSTART;TZID=Europe/Berlin:20260716T193000
DTEND;TZID=Europe/Berlin:20260716T220000
DTSTAMP:20260422T171215
CREATED:20251020T081731Z
LAST-MODIFIED:20251020T081731Z
UID:10002522-1784230200-1784239200@schuetzengesellschaft-nassenbeuren.de
SUMMARY:GK/KK KW 25m
DESCRIPTION:Offenes Training für Mitglieder
URL:https://schuetzengesellschaft-nassenbeuren.de/termin/gk-kk-kw-25m-269/
LOCATION:25m KW Schießstand
CATEGORIES:Training
ATTACH;FMTTYPE=image/jpeg:https://schuetzengesellschaft-nassenbeuren.de/wp-content/uploads/25m_1067.jpg
END:VEVENT
BEGIN:VEVENT
DTSTART;TZID=Europe/Berlin:20260719T090000
DTEND;TZID=Europe/Berlin:20260719T110000
DTSTAMP:20260422T171215
CREATED:20260105T150716Z
LAST-MODIFIED:20260105T150716Z
UID:10002662-1784451600-1784458800@schuetzengesellschaft-nassenbeuren.de
SUMMARY:GK/KK KW 25m
DESCRIPTION:Offenes Training für Mitglieder\, Präzision und Duell\, KK und GK
URL:https://schuetzengesellschaft-nassenbeuren.de/termin/gk-kk-kw-25m-306/
LOCATION:25m KW Schießstand
CATEGORIES:Training
END:VEVENT
BEGIN:VEVENT
DTSTART;TZID=Europe/Berlin:20260730T180000
DTEND;TZID=Europe/Berlin:20260730T200000
DTSTAMP:20260422T171215
CREATED:20260105T135315Z
LAST-MODIFIED:20260105T135315Z
UID:10002626-1785434400-1785441600@schuetzengesellschaft-nassenbeuren.de
SUMMARY:LG 10m Jugendtraining
DESCRIPTION:
URL:https://schuetzengesellschaft-nassenbeuren.de/termin/lg-10m-jugendtraining-39/
LOCATION:10m LP Schießstand
CATEGORIES:Jugend
END:VEVENT
BEGIN:VEVENT
DTSTART;TZID=Europe/Berlin:20260730T193000
DTEND;TZID=Europe/Berlin:20260730T220000
DTSTAMP:20260422T171215
CREATED:20251020T081733Z
LAST-MODIFIED:20251020T081733Z
UID:10002524-1785439800-1785448800@schuetzengesellschaft-nassenbeuren.de
SUMMARY:GK/KK KW 25m
DESCRIPTION:Offenes Training für Mitglieder
URL:https://schuetzengesellschaft-nassenbeuren.de/termin/gk-kk-kw-25m-271/
LOCATION:25m KW Schießstand
CATEGORIES:Training
ATTACH;FMTTYPE=image/jpeg:https://schuetzengesellschaft-nassenbeuren.de/wp-content/uploads/25m_1067.jpg
END:VEVENT
BEGIN:VEVENT
DTSTART;TZID=Europe/Berlin:20260813T180000
DTEND;TZID=Europe/Berlin:20260813T200000
DTSTAMP:20260422T171215
CREATED:20260105T135316Z
LAST-MODIFIED:20260105T135316Z
UID:10002627-1786644000-1786651200@schuetzengesellschaft-nassenbeuren.de
SUMMARY:LG 10m Jugendtraining
DESCRIPTION:
URL:https://schuetzengesellschaft-nassenbeuren.de/termin/lg-10m-jugendtraining-40/
LOCATION:10m LP Schießstand
CATEGORIES:Jugend
END:VEVENT
BEGIN:VEVENT
DTSTART;TZID=Europe/Berlin:20260813T193000
DTEND;TZID=Europe/Berlin:20260813T220000
DTSTAMP:20260422T171215
CREATED:20251020T081735Z
LAST-MODIFIED:20251020T081735Z
UID:10002526-1786649400-1786658400@schuetzengesellschaft-nassenbeuren.de
SUMMARY:GK/KK KW 25m
DESCRIPTION:Offenes Training für Mitglieder
URL:https://schuetzengesellschaft-nassenbeuren.de/termin/gk-kk-kw-25m-273/
LOCATION:25m KW Schießstand
CATEGORIES:Training
ATTACH;FMTTYPE=image/jpeg:https://schuetzengesellschaft-nassenbeuren.de/wp-content/uploads/25m_1067.jpg
END:VEVENT
BEGIN:VEVENT
DTSTART;TZID=Europe/Berlin:20260827T180000
DTEND;TZID=Europe/Berlin:20260827T200000
DTSTAMP:20260422T171215
CREATED:20260105T135316Z
LAST-MODIFIED:20260105T135316Z
UID:10002628-1787853600-1787860800@schuetzengesellschaft-nassenbeuren.de
SUMMARY:LG 10m Jugendtraining
DESCRIPTION:
URL:https://schuetzengesellschaft-nassenbeuren.de/termin/lg-10m-jugendtraining-41/
LOCATION:10m LP Schießstand
CATEGORIES:Jugend
END:VEVENT
BEGIN:VEVENT
DTSTART;TZID=Europe/Berlin:20260827T193000
DTEND;TZID=Europe/Berlin:20260827T220000
DTSTAMP:20260422T171215
CREATED:20251020T081747Z
LAST-MODIFIED:20251020T081747Z
UID:10002528-1787859000-1787868000@schuetzengesellschaft-nassenbeuren.de
SUMMARY:GK/KK KW 25m
DESCRIPTION:Offenes Training für Mitglieder
URL:https://schuetzengesellschaft-nassenbeuren.de/termin/gk-kk-kw-25m-275/
LOCATION:25m KW Schießstand
CATEGORIES:Training
ATTACH;FMTTYPE=image/jpeg:https://schuetzengesellschaft-nassenbeuren.de/wp-content/uploads/25m_1067.jpg
END:VEVENT
BEGIN:VEVENT
DTSTART;TZID=Europe/Berlin:20260910T180000
DTEND;TZID=Europe/Berlin:20260910T200000
DTSTAMP:20260422T171215
CREATED:20260105T135317Z
LAST-MODIFIED:20260105T135317Z
UID:10002629-1789063200-1789070400@schuetzengesellschaft-nassenbeuren.de
SUMMARY:LG 10m Jugendtraining
DESCRIPTION:
URL:https://schuetzengesellschaft-nassenbeuren.de/termin/lg-10m-jugendtraining-42/
LOCATION:10m LP Schießstand
CATEGORIES:Jugend
END:VEVENT
BEGIN:VEVENT
DTSTART;TZID=Europe/Berlin:20260910T193000
DTEND;TZID=Europe/Berlin:20260910T220000
DTSTAMP:20260422T171215
CREATED:20251020T081749Z
LAST-MODIFIED:20251020T081749Z
UID:10002530-1789068600-1789077600@schuetzengesellschaft-nassenbeuren.de
SUMMARY:GK/KK KW 25m
DESCRIPTION:Offenes Training für Mitglieder
URL:https://schuetzengesellschaft-nassenbeuren.de/termin/gk-kk-kw-25m-277/
LOCATION:25m KW Schießstand
CATEGORIES:Training
ATTACH;FMTTYPE=image/jpeg:https://schuetzengesellschaft-nassenbeuren.de/wp-content/uploads/25m_1067.jpg
END:VEVENT
BEGIN:VEVENT
DTSTART;TZID=Europe/Berlin:20260913T100000
DTEND;TZID=Europe/Berlin:20260913T130000
DTSTAMP:20260422T171215
CREATED:20251227T143609Z
LAST-MODIFIED:20260105T145622Z
UID:10002602-1789293600-1789304400@schuetzengesellschaft-nassenbeuren.de
SUMMARY:GK / Ordonanz 100m
DESCRIPTION:Offenes Training für Mitglieder
URL:https://schuetzengesellschaft-nassenbeuren.de/termin/gk-ordonanz-100m-131/
LOCATION:100m LW Schießstand
CATEGORIES:Training
END:VEVENT
BEGIN:VEVENT
DTSTART;TZID=Europe/Berlin:20260924T180000
DTEND;TZID=Europe/Berlin:20260924T200000
DTSTAMP:20260422T171216
CREATED:20260105T135318Z
LAST-MODIFIED:20260105T135318Z
UID:10002630-1790272800-1790280000@schuetzengesellschaft-nassenbeuren.de
SUMMARY:LG 10m Jugendtraining
DESCRIPTION:
URL:https://schuetzengesellschaft-nassenbeuren.de/termin/lg-10m-jugendtraining-43/
LOCATION:10m LP Schießstand
CATEGORIES:Jugend
END:VEVENT
BEGIN:VEVENT
DTSTART;TZID=Europe/Berlin:20260924T193000
DTEND;TZID=Europe/Berlin:20260924T220000
DTSTAMP:20260422T171216
CREATED:20251020T081801Z
LAST-MODIFIED:20251020T081801Z
UID:10002532-1790278200-1790287200@schuetzengesellschaft-nassenbeuren.de
SUMMARY:GK/KK KW 25m
DESCRIPTION:Offenes Training für Mitglieder
URL:https://schuetzengesellschaft-nassenbeuren.de/termin/gk-kk-kw-25m-279/
LOCATION:25m KW Schießstand
CATEGORIES:Training
ATTACH;FMTTYPE=image/jpeg:https://schuetzengesellschaft-nassenbeuren.de/wp-content/uploads/25m_1067.jpg
END:VEVENT
BEGIN:VEVENT
DTSTART;TZID=Europe/Berlin:20261008T180000
DTEND;TZID=Europe/Berlin:20261008T200000
DTSTAMP:20260422T171216
CREATED:20260105T135330Z
LAST-MODIFIED:20260105T135330Z
UID:10002631-1791482400-1791489600@schuetzengesellschaft-nassenbeuren.de
SUMMARY:LG 10m Jugendtraining
DESCRIPTION:
URL:https://schuetzengesellschaft-nassenbeuren.de/termin/lg-10m-jugendtraining-44/
LOCATION:10m LP Schießstand
CATEGORIES:Jugend
END:VEVENT
BEGIN:VEVENT
DTSTART;TZID=Europe/Berlin:20261008T193000
DTEND;TZID=Europe/Berlin:20261008T220000
DTSTAMP:20260422T171216
CREATED:20251020T081803Z
LAST-MODIFIED:20251020T081803Z
UID:10002534-1791487800-1791496800@schuetzengesellschaft-nassenbeuren.de
SUMMARY:GK/KK KW 25m
DESCRIPTION:Offenes Training für Mitglieder
URL:https://schuetzengesellschaft-nassenbeuren.de/termin/gk-kk-kw-25m-281/
LOCATION:25m KW Schießstand
CATEGORIES:Training
ATTACH;FMTTYPE=image/jpeg:https://schuetzengesellschaft-nassenbeuren.de/wp-content/uploads/25m_1067.jpg
END:VEVENT
BEGIN:VEVENT
DTSTART;TZID=Europe/Berlin:20261022T180000
DTEND;TZID=Europe/Berlin:20261022T200000
DTSTAMP:20260422T171216
CREATED:20260105T135331Z
LAST-MODIFIED:20260105T135331Z
UID:10002632-1792692000-1792699200@schuetzengesellschaft-nassenbeuren.de
SUMMARY:LG 10m Jugendtraining
DESCRIPTION:
URL:https://schuetzengesellschaft-nassenbeuren.de/termin/lg-10m-jugendtraining-45/
LOCATION:10m LP Schießstand
CATEGORIES:Jugend
END:VEVENT
BEGIN:VEVENT
DTSTART;TZID=Europe/Berlin:20261022T193000
DTEND;TZID=Europe/Berlin:20261022T220000
DTSTAMP:20260422T171216
CREATED:20251020T081805Z
LAST-MODIFIED:20251020T081805Z
UID:10002536-1792697400-1792706400@schuetzengesellschaft-nassenbeuren.de
SUMMARY:GK/KK KW 25m
DESCRIPTION:Offenes Training für Mitglieder
URL:https://schuetzengesellschaft-nassenbeuren.de/termin/gk-kk-kw-25m-283/
LOCATION:25m KW Schießstand
CATEGORIES:Training
ATTACH;FMTTYPE=image/jpeg:https://schuetzengesellschaft-nassenbeuren.de/wp-content/uploads/25m_1067.jpg
END:VEVENT
BEGIN:VEVENT
DTSTART;TZID=Europe/Berlin:20261105T180000
DTEND;TZID=Europe/Berlin:20261105T200000
DTSTAMP:20260422T171216
CREATED:20260105T135331Z
LAST-MODIFIED:20260105T135331Z
UID:10002633-1793901600-1793908800@schuetzengesellschaft-nassenbeuren.de
SUMMARY:LG 10m Jugendtraining
DESCRIPTION:
URL:https://schuetzengesellschaft-nassenbeuren.de/termin/lg-10m-jugendtraining-46/
LOCATION:10m LP Schießstand
CATEGORIES:Jugend
END:VEVENT
BEGIN:VEVENT
DTSTART;TZID=Europe/Berlin:20261105T193000
DTEND;TZID=Europe/Berlin:20261105T220000
DTSTAMP:20260422T171216
CREATED:20251020T081817Z
LAST-MODIFIED:20251020T081817Z
UID:10002538-1793907000-1793916000@schuetzengesellschaft-nassenbeuren.de
SUMMARY:GK/KK KW 25m
DESCRIPTION:Offenes Training für Mitglieder
URL:https://schuetzengesellschaft-nassenbeuren.de/termin/gk-kk-kw-25m-285/
LOCATION:25m KW Schießstand
CATEGORIES:Training
ATTACH;FMTTYPE=image/jpeg:https://schuetzengesellschaft-nassenbeuren.de/wp-content/uploads/25m_1067.jpg
END:VEVENT
BEGIN:VEVENT
DTSTART;TZID=Europe/Berlin:20261107T090000
DTEND;TZID=Europe/Berlin:20261107T130000
DTSTAMP:20260422T171216
CREATED:20260105T140204Z
LAST-MODIFIED:20260105T140204Z
UID:10002639-1794042000-1794056400@schuetzengesellschaft-nassenbeuren.de
SUMMARY:Altpapiersammlung
DESCRIPTION:
URL:https://schuetzengesellschaft-nassenbeuren.de/termin/altpapiersammlung-14/
LOCATION:Nassenbeuren
CATEGORIES:Arbeit
END:VEVENT
BEGIN:VEVENT
DTSTART;TZID=Europe/Berlin:20261119T180000
DTEND;TZID=Europe/Berlin:20261119T200000
DTSTAMP:20260422T171216
CREATED:20260105T135332Z
LAST-MODIFIED:20260105T135332Z
UID:10002634-1795111200-1795118400@schuetzengesellschaft-nassenbeuren.de
SUMMARY:LG 10m Jugendtraining
DESCRIPTION:
URL:https://schuetzengesellschaft-nassenbeuren.de/termin/lg-10m-jugendtraining-47/
LOCATION:10m LP Schießstand
CATEGORIES:Jugend
END:VEVENT
BEGIN:VEVENT
DTSTART;TZID=Europe/Berlin:20261119T193000
DTEND;TZID=Europe/Berlin:20261119T220000
DTSTAMP:20260422T171216
CREATED:20251020T081819Z
LAST-MODIFIED:20251020T081819Z
UID:10002540-1795116600-1795125600@schuetzengesellschaft-nassenbeuren.de
SUMMARY:GK/KK KW 25m
DESCRIPTION:Offenes Training für Mitglieder
URL:https://schuetzengesellschaft-nassenbeuren.de/termin/gk-kk-kw-25m-287/
LOCATION:25m KW Schießstand
CATEGORIES:Training
ATTACH;FMTTYPE=image/jpeg:https://schuetzengesellschaft-nassenbeuren.de/wp-content/uploads/25m_1067.jpg
END:VEVENT
BEGIN:VEVENT
DTSTART;TZID=Europe/Berlin:20261203T180000
DTEND;TZID=Europe/Berlin:20261203T200000
DTSTAMP:20260422T171216
CREATED:20260105T135333Z
LAST-MODIFIED:20260105T135333Z
UID:10002635-1796320800-1796328000@schuetzengesellschaft-nassenbeuren.de
SUMMARY:LG 10m Jugendtraining
DESCRIPTION:
URL:https://schuetzengesellschaft-nassenbeuren.de/termin/lg-10m-jugendtraining-48/
LOCATION:10m LP Schießstand
CATEGORIES:Jugend
END:VEVENT
BEGIN:VEVENT
DTSTART;TZID=Europe/Berlin:20261203T193000
DTEND;TZID=Europe/Berlin:20261203T220000
DTSTAMP:20260422T171216
CREATED:20251020T081832Z
LAST-MODIFIED:20251020T081832Z
UID:10002542-1796326200-1796335200@schuetzengesellschaft-nassenbeuren.de
SUMMARY:GK/KK KW 25m
DESCRIPTION:Offenes Training für Mitglieder
URL:https://schuetzengesellschaft-nassenbeuren.de/termin/gk-kk-kw-25m-289/
LOCATION:25m KW Schießstand
CATEGORIES:Training
ATTACH;FMTTYPE=image/jpeg:https://schuetzengesellschaft-nassenbeuren.de/wp-content/uploads/25m_1067.jpg
END:VEVENT
BEGIN:VEVENT
DTSTART;TZID=Europe/Berlin:20261217T180000
DTEND;TZID=Europe/Berlin:20261217T200000
DTSTAMP:20260422T171216
CREATED:20260105T135345Z
LAST-MODIFIED:20260105T135345Z
UID:10002636-1797530400-1797537600@schuetzengesellschaft-nassenbeuren.de
SUMMARY:LG 10m Jugendtraining
DESCRIPTION:
URL:https://schuetzengesellschaft-nassenbeuren.de/termin/lg-10m-jugendtraining-49/
LOCATION:10m LP Schießstand
CATEGORIES:Jugend
END:VEVENT
BEGIN:VEVENT
DTSTART;TZID=Europe/Berlin:20261217T193000
DTEND;TZID=Europe/Berlin:20261217T220000
DTSTAMP:20260422T171216
CREATED:20251020T081834Z
LAST-MODIFIED:20251020T081834Z
UID:10002544-1797535800-1797544800@schuetzengesellschaft-nassenbeuren.de
SUMMARY:GK/KK KW 25m
DESCRIPTION:Offenes Training für Mitglieder
URL:https://schuetzengesellschaft-nassenbeuren.de/termin/gk-kk-kw-25m-291/
LOCATION:25m KW Schießstand
CATEGORIES:Training
ATTACH;FMTTYPE=image/jpeg:https://schuetzengesellschaft-nassenbeuren.de/wp-content/uploads/25m_1067.jpg
END:VEVENT
END:VCALENDAR