BEGIN:VCALENDAR
VERSION:2.0
PRODID:-//Kgl. priv. Schützengesellschaft Nassenbeuren - ECPv6.15.18//NONSGML v1.0//EN
CALSCALE:GREGORIAN
METHOD:PUBLISH
X-ORIGINAL-URL:https://schuetzengesellschaft-nassenbeuren.de
X-WR-CALDESC:Veranstaltungen für Kgl. priv. Schützengesellschaft Nassenbeuren
REFRESH-INTERVAL;VALUE=DURATION:PT1H
X-Robots-Tag:noindex
X-PUBLISHED-TTL:PT1H
BEGIN:VTIMEZONE
TZID:Europe/Berlin
BEGIN:DAYLIGHT
TZOFFSETFROM:+0100
TZOFFSETTO:+0200
TZNAME:CEST
DTSTART:20230326T010000
END:DAYLIGHT
BEGIN:STANDARD
TZOFFSETFROM:+0200
TZOFFSETTO:+0100
TZNAME:CET
DTSTART:20231029T010000
END:STANDARD
BEGIN:DAYLIGHT
TZOFFSETFROM:+0100
TZOFFSETTO:+0200
TZNAME:CEST
DTSTART:20240331T010000
END:DAYLIGHT
BEGIN:STANDARD
TZOFFSETFROM:+0200
TZOFFSETTO:+0100
TZNAME:CET
DTSTART:20241027T010000
END:STANDARD
BEGIN:DAYLIGHT
TZOFFSETFROM:+0100
TZOFFSETTO:+0200
TZNAME:CEST
DTSTART:20250330T010000
END:DAYLIGHT
BEGIN:STANDARD
TZOFFSETFROM:+0200
TZOFFSETTO:+0100
TZNAME:CET
DTSTART:20251026T010000
END:STANDARD
BEGIN:DAYLIGHT
TZOFFSETFROM:+0100
TZOFFSETTO:+0200
TZNAME:CEST
DTSTART:20260329T010000
END:DAYLIGHT
BEGIN:STANDARD
TZOFFSETFROM:+0200
TZOFFSETTO:+0100
TZNAME:CET
DTSTART:20261025T010000
END:STANDARD
END:VTIMEZONE
BEGIN:VEVENT
DTSTART;TZID=Europe/Berlin:20250208T130000
DTEND;TZID=Europe/Berlin:20250208T150000
DTSTAMP:20260425T164242
CREATED:20250102T204910Z
LAST-MODIFIED:20250219T135152Z
UID:10001666-1739019600-1739026800@schuetzengesellschaft-nassenbeuren.de
SUMMARY:Gaumeisterschaft für Funktionspersonal
DESCRIPTION:Termin für Aufsichten\, Auswertung\, Leitung\, etc.
URL:https://schuetzengesellschaft-nassenbeuren.de/termin/gaumeisterschaft-helfer-2/
LOCATION:Schützenheim
CATEGORIES:Wettkampf
END:VEVENT
BEGIN:VEVENT
DTSTART;TZID=Europe/Berlin:20250207T190000
DTEND;TZID=Europe/Berlin:20250207T220000
DTSTAMP:20260425T164242
CREATED:20241217T000537Z
LAST-MODIFIED:20250113T212711Z
UID:10001323-1738954800-1738965600@schuetzengesellschaft-nassenbeuren.de
SUMMARY:Gaumeisterschaft 2025 - KK
DESCRIPTION:
URL:https://schuetzengesellschaft-nassenbeuren.de/termin/gaumeisterschaft-2025-kk-2/
LOCATION:25m KW Schießstand
CATEGORIES:Wettkampf
END:VEVENT
BEGIN:VEVENT
DTSTART;TZID=Europe/Berlin:20250206T190000
DTEND;TZID=Europe/Berlin:20250206T220000
DTSTAMP:20260425T164242
CREATED:20241217T000548Z
LAST-MODIFIED:20250113T212718Z
UID:10001324-1738868400-1738879200@schuetzengesellschaft-nassenbeuren.de
SUMMARY:Gaumeisterschaft 2025 - GK
DESCRIPTION:
URL:https://schuetzengesellschaft-nassenbeuren.de/termin/gaumeisterschaft-2025-gk-2/
LOCATION:25m KW Schießstand
CATEGORIES:Wettkampf
END:VEVENT
BEGIN:VEVENT
DTSTART;TZID=Europe/Berlin:20250129T190000
DTEND;TZID=Europe/Berlin:20250129T220000
DTSTAMP:20260425T164242
CREATED:20250102T152535Z
LAST-MODIFIED:20250102T152743Z
UID:10001664-1738177200-1738188000@schuetzengesellschaft-nassenbeuren.de
SUMMARY:KW 25m - BDS-Wettkampftraining
DESCRIPTION:Teilnehmerkreis: Ausschließlich BDS-Mitglieder mit Teilnahme an kommender Bezirksmeisterschaft\nAblauf gem. BDS-Sporthandbuch\nPräzision – Intervall – Zeitserie
URL:https://schuetzengesellschaft-nassenbeuren.de/termin/kw-25m-bds-wettkampftraining-2/
LOCATION:25m KW Schießstand
CATEGORIES:Training
END:VEVENT
BEGIN:VEVENT
DTSTART;TZID=Europe/Berlin:20250126T100000
DTEND;TZID=Europe/Berlin:20250126T120000
DTSTAMP:20260425T164242
CREATED:20241217T000334Z
LAST-MODIFIED:20250113T212654Z
UID:10001320-1737885600-1737892800@schuetzengesellschaft-nassenbeuren.de
SUMMARY:Gaumeisterschaft 2025 - BSSB-Kombi
DESCRIPTION:
URL:https://schuetzengesellschaft-nassenbeuren.de/termin/gaumeisterschaft-2025-bssb-kombi/
LOCATION:25m KW Schießstand
CATEGORIES:Wettkampf
END:VEVENT
BEGIN:VEVENT
DTSTART;TZID=Europe/Berlin:20250125T130000
DTEND;TZID=Europe/Berlin:20250125T150000
DTSTAMP:20260425T164242
CREATED:20250102T204847Z
LAST-MODIFIED:20250219T135155Z
UID:10001665-1737810000-1737817200@schuetzengesellschaft-nassenbeuren.de
SUMMARY:Gaumeisterschaft für Funktionspersonal
DESCRIPTION:Termin für Aufsichten\, Auswertung\, Leitung\, etc.
URL:https://schuetzengesellschaft-nassenbeuren.de/termin/gaumeisterschaft-helfer/
LOCATION:Schützenheim
CATEGORIES:Wettkampf
END:VEVENT
BEGIN:VEVENT
DTSTART;TZID=Europe/Berlin:20250124T190000
DTEND;TZID=Europe/Berlin:20250124T220000
DTSTAMP:20260425T164242
CREATED:20241217T000411Z
LAST-MODIFIED:20250113T212700Z
UID:10001321-1737745200-1737756000@schuetzengesellschaft-nassenbeuren.de
SUMMARY:Gaumeisterschaft 2025 - GK
DESCRIPTION:
URL:https://schuetzengesellschaft-nassenbeuren.de/termin/gaumeisterschaft-2025-gk/
LOCATION:25m KW Schießstand
CATEGORIES:Wettkampf
END:VEVENT
BEGIN:VEVENT
DTSTART;TZID=Europe/Berlin:20250123T190000
DTEND;TZID=Europe/Berlin:20250123T220000
DTSTAMP:20260425T164242
CREATED:20241217T000500Z
LAST-MODIFIED:20250113T212706Z
UID:10001322-1737658800-1737669600@schuetzengesellschaft-nassenbeuren.de
SUMMARY:Gaumeisterschaft 2025 - KK
DESCRIPTION:
URL:https://schuetzengesellschaft-nassenbeuren.de/termin/gaumeisterschaft-2025-kk/
LOCATION:25m KW Schießstand
CATEGORIES:Wettkampf
END:VEVENT
BEGIN:VEVENT
DTSTART;TZID=Europe/Berlin:20250117T190000
DTEND;TZID=Europe/Berlin:20250117T220000
DTSTAMP:20260425T164242
CREATED:20250102T152511Z
LAST-MODIFIED:20250102T152511Z
UID:10001663-1737140400-1737151200@schuetzengesellschaft-nassenbeuren.de
SUMMARY:KW 25m - BDS-Wettkampftraining
DESCRIPTION:Teilnehmerkreis: Ausschließlich BDS-Mitglieder mit Teilnahme an kommender Bezirksmeisterschaft\nAblauf gem. BDS-Sporthandbuch\nPräzision – Intervall – Zeitserie
URL:https://schuetzengesellschaft-nassenbeuren.de/termin/kw-25m-bds-wettkampftraining/
LOCATION:25m KW Schießstand
CATEGORIES:Training
END:VEVENT
BEGIN:VEVENT
DTSTART;TZID=Europe/Berlin:20241229T100000
DTEND;TZID=Europe/Berlin:20241229T120000
DTSTAMP:20260425T164242
CREATED:20241226T123539Z
LAST-MODIFIED:20241226T123539Z
UID:10001326-1735466400-1735473600@schuetzengesellschaft-nassenbeuren.de
SUMMARY:GK/KK KW 25m - BDS-Wettkampftraining
DESCRIPTION:Präzision\, Intervall\, Zeitserie
URL:https://schuetzengesellschaft-nassenbeuren.de/termin/gk-kk-kw-25m-bds-wettkampftraining-14/
LOCATION:25m KW Schießstand
CATEGORIES:Training
END:VEVENT
BEGIN:VEVENT
DTSTART;TZID=Europe/Berlin:20241222T100000
DTEND;TZID=Europe/Berlin:20241222T120000
DTSTAMP:20260425T164242
CREATED:20240724T223116Z
LAST-MODIFIED:20240724T223116Z
UID:10000902-1734861600-1734868800@schuetzengesellschaft-nassenbeuren.de
SUMMARY:GK/KK KW 25m - BDS-Wettkampftraining
DESCRIPTION:Präzision\, Intervall\, Zeitserie
URL:https://schuetzengesellschaft-nassenbeuren.de/termin/gk-kk-kw-25m-bds-wettkampftraining-13/
LOCATION:25m KW Schießstand
CATEGORIES:Training
END:VEVENT
BEGIN:VEVENT
DTSTART;TZID=Europe/Berlin:20241215T130000
DTEND;TZID=Europe/Berlin:20241215T150000
DTSTAMP:20260425T164242
CREATED:20240103T122031Z
LAST-MODIFIED:20240724T222157Z
UID:10000654-1734267600-1734274800@schuetzengesellschaft-nassenbeuren.de
SUMMARY:GK/KK KW 25m
DESCRIPTION:
URL:https://schuetzengesellschaft-nassenbeuren.de/termin/gk-kk-kw-25m-177/
LOCATION:25m KW Schießstand
CATEGORIES:Training
END:VEVENT
BEGIN:VEVENT
DTSTART;TZID=Europe/Berlin:20241208T100000
DTEND;TZID=Europe/Berlin:20241208T120000
DTSTAMP:20260425T164242
CREATED:20240724T223115Z
LAST-MODIFIED:20240724T223116Z
UID:10000901-1733652000-1733659200@schuetzengesellschaft-nassenbeuren.de
SUMMARY:GK/KK KW 25m - BDS-Wettkampftraining
DESCRIPTION:Präzision\, Intervall\, Zeitserie
URL:https://schuetzengesellschaft-nassenbeuren.de/termin/gk-kk-kw-25m-bds-wettkampftraining-12/
LOCATION:25m KW Schießstand
CATEGORIES:Training
END:VEVENT
BEGIN:VEVENT
DTSTART;TZID=Europe/Berlin:20241201T130000
DTEND;TZID=Europe/Berlin:20241201T150000
DTSTAMP:20260425T164242
CREATED:20240103T122016Z
LAST-MODIFIED:20240724T222146Z
UID:10000653-1733058000-1733065200@schuetzengesellschaft-nassenbeuren.de
SUMMARY:GK/KK KW 25m
DESCRIPTION:
URL:https://schuetzengesellschaft-nassenbeuren.de/termin/gk-kk-kw-25m-176/
LOCATION:25m KW Schießstand
CATEGORIES:Training
END:VEVENT
BEGIN:VEVENT
DTSTART;TZID=Europe/Berlin:20241124T130000
DTEND;TZID=Europe/Berlin:20241124T150000
DTSTAMP:20260425T164242
CREATED:20241016T221806Z
LAST-MODIFIED:20241016T221806Z
UID:10001286-1732453200-1732460400@schuetzengesellschaft-nassenbeuren.de
SUMMARY:KK LW 100m Gaumeisterschaft
DESCRIPTION:
URL:https://schuetzengesellschaft-nassenbeuren.de/termin/kk-lw-100m-gaumeisterschaft/
LOCATION:100m LW Schießstand
CATEGORIES:Wettkampf
END:VEVENT
BEGIN:VEVENT
DTSTART;TZID=Europe/Berlin:20241124T100000
DTEND;TZID=Europe/Berlin:20241124T120000
DTSTAMP:20260425T164242
CREATED:20240724T223114Z
LAST-MODIFIED:20240724T223114Z
UID:10000900-1732442400-1732449600@schuetzengesellschaft-nassenbeuren.de
SUMMARY:GK/KK KW 25m - BDS-Wettkampftraining
DESCRIPTION:Präzision\, Intervall\, Zeitserie
URL:https://schuetzengesellschaft-nassenbeuren.de/termin/gk-kk-kw-25m-bds-wettkampftraining-11/
LOCATION:25m KW Schießstand
CATEGORIES:Training
END:VEVENT
BEGIN:VEVENT
DTSTART;TZID=Europe/Berlin:20241117T130000
DTEND;TZID=Europe/Berlin:20241117T150000
DTSTAMP:20260425T164242
CREATED:20240103T122016Z
LAST-MODIFIED:20240724T222136Z
UID:10000652-1731848400-1731855600@schuetzengesellschaft-nassenbeuren.de
SUMMARY:GK/KK KW 25m
DESCRIPTION:
URL:https://schuetzengesellschaft-nassenbeuren.de/termin/gk-kk-kw-25m-175/
LOCATION:25m KW Schießstand
CATEGORIES:Training
END:VEVENT
BEGIN:VEVENT
DTSTART;TZID=Europe/Berlin:20241110T140000
DTEND;TZID=Europe/Berlin:20241110T160000
DTSTAMP:20260425T164242
CREATED:20240724T223114Z
LAST-MODIFIED:20241016T220057Z
UID:10000899-1731247200-1731254400@schuetzengesellschaft-nassenbeuren.de
SUMMARY:GK/KK KW 25m - BDS-Wettkampftraining
DESCRIPTION:Präzision\, Intervall\, Zeitserie
URL:https://schuetzengesellschaft-nassenbeuren.de/termin/gk-kk-kw-25m-bds-wettkampftraining-10/
LOCATION:25m KW Schießstand
CATEGORIES:Training
END:VEVENT
BEGIN:VEVENT
DTSTART;TZID=Europe/Berlin:20241110T100000
DTEND;TZID=Europe/Berlin:20241110T130000
DTSTAMP:20260425T164242
CREATED:20241016T221835Z
LAST-MODIFIED:20241024T124318Z
UID:10001292-1731232800-1731243600@schuetzengesellschaft-nassenbeuren.de
SUMMARY:LW 100m BDS Präzision Vereinsmeisterschaft 2024
DESCRIPTION:BDS Langwaffe\nBDS-Langwaffe 100m Präzision\nEs werden 15 Schuss innerhalb von 15 Minuten auf 100 m geschossen.\nAnschlag ist liegend freihändig.\nVor dem Wertungsschießen kann innerhalb von 5 Minuten eine beliebige Anzahl von Probeschüssen abgegeben werden. \n3106 Dienst-Sportgewehr offene Kimme\n3111 Dienst-Sportgewehr Zielfernrohr\n3112 Sportgewehr Selbstlader offene Visierung Hülsenlänge unter 47 mm (.223)\n3113 Sportgewehr Selbstlader offene Visierung HL mind. 47 mm\n3114 Sportgewehr Selbstlader opt. Visierung Hülsenlänge unter 47 mm (.223)\n3115 Sportgewehr Selbstlader opt. Visierung HL mind. 47 mm
URL:https://schuetzengesellschaft-nassenbeuren.de/termin/lw-100m-bds-praezision-vereinsmeisterschaft-2024/
LOCATION:100m LW Schießstand
CATEGORIES:Wettkampf
END:VEVENT
BEGIN:VEVENT
DTSTART;TZID=Europe/Berlin:20241103T130000
DTEND;TZID=Europe/Berlin:20241103T150000
DTSTAMP:20260425T164242
CREATED:20240103T122016Z
LAST-MODIFIED:20240724T222126Z
UID:10000651-1730638800-1730646000@schuetzengesellschaft-nassenbeuren.de
SUMMARY:GK/KK KW 25m
DESCRIPTION:
URL:https://schuetzengesellschaft-nassenbeuren.de/termin/gk-kk-kw-25m-174/
LOCATION:25m KW Schießstand
CATEGORIES:Training
END:VEVENT
BEGIN:VEVENT
DTSTART;TZID=Europe/Berlin:20241031T193000
DTEND;TZID=Europe/Berlin:20241031T220000
DTSTAMP:20260425T164242
CREATED:20241016T221821Z
LAST-MODIFIED:20241016T221821Z
UID:10001291-1730403000-1730412000@schuetzengesellschaft-nassenbeuren.de
SUMMARY:KW 25m Ersatztermin Vereinsmeisterschaft 2024
DESCRIPTION:
URL:https://schuetzengesellschaft-nassenbeuren.de/termin/kw-25m-ersatztermin-vereinsmeisterschaft-2024/
LOCATION:25m KW Schießstand
CATEGORIES:Wettkampf
END:VEVENT
BEGIN:VEVENT
DTSTART;TZID=Europe/Berlin:20241027T100000
DTEND;TZID=Europe/Berlin:20241027T130000
DTSTAMP:20260425T164242
CREATED:20241016T221821Z
LAST-MODIFIED:20241024T124202Z
UID:10001290-1730023200-1730034000@schuetzengesellschaft-nassenbeuren.de
SUMMARY:KW 25m BDS Präzision Vereinsmeisterschaft 2024
DESCRIPTION:BDS-Kurzwaffe Präzision\nErsatztermin: Donnerstag\, 31.10.2024 ab 19:30 Uhr \nBDS Präzision Kurzwaffe 25m\nDie Zeit für Probeschüsse beträgt 3 Minuten (Schusszahl beliebig).\nIn der Wertung werden 2×10 Schuss Präzision geschossen\, jeweils in 5 Minuten.\nDie Trefferaufnahme erfolgt jeweils nach 10 Schuss. \n1001 Pistole bis 9mm\n1002 Pistole über 9mm\n1008 Revolver Magnum bis .357\n1010 Freie Klasse Pistole/Revolver .22/5\,6mm offene Visierung\n1011 Freie Klasse Pistole/ Revolver mind. .30/7\,62 mm
URL:https://schuetzengesellschaft-nassenbeuren.de/termin/kw-25m-bds-praezision-vereinsmeisterschaft-2024/
LOCATION:25m KW Schießstand
CATEGORIES:Wettkampf
END:VEVENT
BEGIN:VEVENT
DTSTART;TZID=Europe/Berlin:20241024T193000
DTEND;TZID=Europe/Berlin:20241024T220000
DTSTAMP:20260425T164242
CREATED:20241016T221820Z
LAST-MODIFIED:20241024T114050Z
UID:10001289-1729798200-1729807200@schuetzengesellschaft-nassenbeuren.de
SUMMARY:KW 25m BSSB Vereinsmeisterschaft 2024
DESCRIPTION:BSSB/DSB-Kurzwaffe\nErsatztermin: Donnerstag\, 31.10.2024 ab 19:30 Uh \nGK-Kurzwaffe 25m\nVor Beginn der ersten Wettkampfserie ist eine Probeserie à fünf Schuss auf die Präzisionsscheibe in 150 Sekunden gestattet.\nDanach werden 20 Schuss Präzision (4×5 Schuss in jeweils 150 Sekunden) und anschließend 20 Schuss Duell auf die Drehscheibe (4×5 Schuss in jeweils 20 Sekunden) geschossen.\nDies entspricht dem Ablauf des GK-Rundenwettkampf. \n2.53 Pistole 9mm\n2.55 Revolver 357 Magnum\n2.59 Pistole 45 ACP \nKK-Kurzwaffe 25m\nBeim Präzisionsschießen (5 Schuss) in fünf Minuten und vor dem Duellschießen ist eine Probeserie von fünf Schuss entsprechend dem Duelldurchgang erlaubt.\nEs wird das Halbprogramm bestehend aus 3×5 Schuss Präzision in jeweils 150 Sekunden und 3×5 Schuss Intervall in jeweils 3/7 Sekunden (7 Sekunden zwischen den Schüssen. Scheibe dreht jeweils für 3 Sekunden zum Schützen) geschossen. \n2.40 KK-Sportpistole
URL:https://schuetzengesellschaft-nassenbeuren.de/termin/kw-25m-bssb-vereinsmeisterschaft-2024/
LOCATION:25m KW Schießstand
CATEGORIES:Wettkampf
END:VEVENT
BEGIN:VEVENT
DTSTART;TZID=Europe/Berlin:20241020T130000
DTEND;TZID=Europe/Berlin:20241020T150000
DTSTAMP:20260425T164242
CREATED:20240103T122016Z
LAST-MODIFIED:20240724T222114Z
UID:10000650-1729429200-1729436400@schuetzengesellschaft-nassenbeuren.de
SUMMARY:GK/KK KW 25m
DESCRIPTION:
URL:https://schuetzengesellschaft-nassenbeuren.de/termin/gk-kk-kw-25m-173/
LOCATION:25m KW Schießstand
CATEGORIES:Training
END:VEVENT
BEGIN:VEVENT
DTSTART;TZID=Europe/Berlin:20241013T100000
DTEND;TZID=Europe/Berlin:20241013T120000
DTSTAMP:20260425T164242
CREATED:20240724T223113Z
LAST-MODIFIED:20240724T223113Z
UID:10000897-1728813600-1728820800@schuetzengesellschaft-nassenbeuren.de
SUMMARY:GK/KK KW 25m - BDS-Wettkampftraining
DESCRIPTION:Präzision\, Intervall\, Zeitserie
URL:https://schuetzengesellschaft-nassenbeuren.de/termin/gk-kk-kw-25m-bds-wettkampftraining-8/
LOCATION:25m KW Schießstand
CATEGORIES:Training
END:VEVENT
BEGIN:VEVENT
DTSTART;TZID=Europe/Berlin:20241006T130000
DTEND;TZID=Europe/Berlin:20241006T150000
DTSTAMP:20260425T164242
CREATED:20240103T122016Z
LAST-MODIFIED:20240724T222111Z
UID:10000649-1728219600-1728226800@schuetzengesellschaft-nassenbeuren.de
SUMMARY:GK/KK KW 25m
DESCRIPTION:
URL:https://schuetzengesellschaft-nassenbeuren.de/termin/gk-kk-kw-25m-172/
LOCATION:25m KW Schießstand
CATEGORIES:Training
END:VEVENT
BEGIN:VEVENT
DTSTART;TZID=Europe/Berlin:20240929T100000
DTEND;TZID=Europe/Berlin:20240929T120000
DTSTAMP:20260425T164242
CREATED:20240724T223113Z
LAST-MODIFIED:20240724T223113Z
UID:10000896-1727604000-1727611200@schuetzengesellschaft-nassenbeuren.de
SUMMARY:GK/KK KW 25m - BDS-Wettkampftraining
DESCRIPTION:Präzision\, Intervall\, Zeitserie
URL:https://schuetzengesellschaft-nassenbeuren.de/termin/gk-kk-kw-25m-bds-wettkampftraining-7/
LOCATION:25m KW Schießstand
CATEGORIES:Training
END:VEVENT
BEGIN:VEVENT
DTSTART;TZID=Europe/Berlin:20240922T130000
DTEND;TZID=Europe/Berlin:20240922T150000
DTSTAMP:20260425T164242
CREATED:20240103T122001Z
LAST-MODIFIED:20240724T222037Z
UID:10000648-1727010000-1727017200@schuetzengesellschaft-nassenbeuren.de
SUMMARY:GK/KK KW 25m
DESCRIPTION:
URL:https://schuetzengesellschaft-nassenbeuren.de/termin/gk-kk-kw-25m-171/
LOCATION:25m KW Schießstand
CATEGORIES:Training
END:VEVENT
BEGIN:VEVENT
DTSTART;TZID=Europe/Berlin:20240915T100000
DTEND;TZID=Europe/Berlin:20240915T120000
DTSTAMP:20260425T164242
CREATED:20240722T104201Z
LAST-MODIFIED:20240722T104201Z
UID:10000895-1726394400-1726401600@schuetzengesellschaft-nassenbeuren.de
SUMMARY:GK/KK KW 25m - BDS-Wettkampftraining
DESCRIPTION:Präzision\, Intervall\, Zeitserie
URL:https://schuetzengesellschaft-nassenbeuren.de/termin/gk-kk-kw-25m-bds-wettkampftraining-6/
LOCATION:25m KW Schießstand
CATEGORIES:Training
END:VEVENT
BEGIN:VEVENT
DTSTART;TZID=Europe/Berlin:20240901T100000
DTEND;TZID=Europe/Berlin:20240901T120000
DTSTAMP:20260425T164242
CREATED:20240722T104137Z
LAST-MODIFIED:20240722T104137Z
UID:10000894-1725184800-1725192000@schuetzengesellschaft-nassenbeuren.de
SUMMARY:GK/KK KW 25m - BDS-Wettkampftraining
DESCRIPTION:Präzision\, Intervall\, Zeitserie
URL:https://schuetzengesellschaft-nassenbeuren.de/termin/gk-kk-kw-25m-bds-wettkampftraining-5/
LOCATION:25m KW Schießstand
CATEGORIES:Training
END:VEVENT
BEGIN:VEVENT
DTSTART;TZID=Europe/Berlin:20240818T100000
DTEND;TZID=Europe/Berlin:20240818T120000
DTSTAMP:20260425T164242
CREATED:20240722T104116Z
LAST-MODIFIED:20240722T104116Z
UID:10000893-1723975200-1723982400@schuetzengesellschaft-nassenbeuren.de
SUMMARY:GK/KK KW 25m - BDS-Wettkampftraining
DESCRIPTION:Präzision\, Intervall\, Zeitserie
URL:https://schuetzengesellschaft-nassenbeuren.de/termin/gk-kk-kw-25m-bds-wettkampftraining-4/
LOCATION:25m KW Schießstand
CATEGORIES:Training
END:VEVENT
BEGIN:VEVENT
DTSTART;TZID=Europe/Berlin:20240815T193000
DTEND;TZID=Europe/Berlin:20240815T220000
DTSTAMP:20260425T164242
CREATED:20240728T214252Z
LAST-MODIFIED:20240728T214252Z
UID:10000913-1723750200-1723759200@schuetzengesellschaft-nassenbeuren.de
SUMMARY:GK/KK KW 25m
DESCRIPTION:Offenes Training
URL:https://schuetzengesellschaft-nassenbeuren.de/termin/gk-kk-kw-25m-223/
LOCATION:25m KW Schießstand
CATEGORIES:Training
END:VEVENT
BEGIN:VEVENT
DTSTART;TZID=Europe/Berlin:20240811T130000
DTEND;TZID=Europe/Berlin:20240811T150000
DTSTAMP:20260425T164242
CREATED:20240805T181101Z
LAST-MODIFIED:20240805T181101Z
UID:10000918-1723381200-1723388400@schuetzengesellschaft-nassenbeuren.de
SUMMARY:GK/KK KW 25m
DESCRIPTION:Offenes Training
URL:https://schuetzengesellschaft-nassenbeuren.de/termin/gk-kk-kw-25m-226/
LOCATION:25m KW Schießstand
CATEGORIES:Training
END:VEVENT
BEGIN:VEVENT
DTSTART;TZID=Europe/Berlin:20240804T100000
DTEND;TZID=Europe/Berlin:20240804T120000
DTSTAMP:20260425T164242
CREATED:20240722T104054Z
LAST-MODIFIED:20240722T104054Z
UID:10000892-1722765600-1722772800@schuetzengesellschaft-nassenbeuren.de
SUMMARY:GK/KK KW 25m - BDS-Wettkampftraining
DESCRIPTION:Präzision\, Intervall\, Zeitserie
URL:https://schuetzengesellschaft-nassenbeuren.de/termin/gk-kk-kw-25m-bds-wettkampftraining-3/
LOCATION:25m KW Schießstand
CATEGORIES:Training
END:VEVENT
BEGIN:VEVENT
DTSTART;TZID=Europe/Berlin:20240801T193000
DTEND;TZID=Europe/Berlin:20240801T220000
DTSTAMP:20260425T164242
CREATED:20240728T214210Z
LAST-MODIFIED:20240728T214821Z
UID:10000911-1722540600-1722549600@schuetzengesellschaft-nassenbeuren.de
SUMMARY:GK/KK KW 25m
DESCRIPTION:Offenes Training
URL:https://schuetzengesellschaft-nassenbeuren.de/termin/gk-kk-kw-25m-221/
LOCATION:25m KW Schießstand
CATEGORIES:Training
END:VEVENT
BEGIN:VEVENT
DTSTART;TZID=Europe/Berlin:20240728T180000
DTEND;TZID=Europe/Berlin:20240728T200000
DTSTAMP:20260425T164242
CREATED:20240611T155646Z
LAST-MODIFIED:20240625T075130Z
UID:10000819-1722189600-1722196800@schuetzengesellschaft-nassenbeuren.de
SUMMARY:Sommerfestschießen KK und Königsschießen
DESCRIPTION:Gesellschaftsschießen KK LW: Einlage 10€\, Nachkauf 1€
URL:https://schuetzengesellschaft-nassenbeuren.de/termin/sommerfestschiessen-kk-und-koenigsschiessen-6/
LOCATION:50m LW Schießstand
CATEGORIES:Wettkampf
END:VEVENT
BEGIN:VEVENT
DTSTART;TZID=Europe/Berlin:20240721T100000
DTEND;TZID=Europe/Berlin:20240721T120000
DTSTAMP:20260425T164242
CREATED:20240708T150356Z
LAST-MODIFIED:20240708T150356Z
UID:10000883-1721556000-1721563200@schuetzengesellschaft-nassenbeuren.de
SUMMARY:GK/KK KW 25m - BDS-Wettkampftraining
DESCRIPTION:Präzision\, Intervall\, Zeitserie
URL:https://schuetzengesellschaft-nassenbeuren.de/termin/gk-kk-kw-25m-bds-wettkampftraining-2/
LOCATION:25m KW Schießstand
CATEGORIES:Training
END:VEVENT
BEGIN:VEVENT
DTSTART;TZID=Europe/Berlin:20240707T100000
DTEND;TZID=Europe/Berlin:20240707T120000
DTSTAMP:20260425T164242
CREATED:20240704T165427Z
LAST-MODIFIED:20240704T165427Z
UID:10000847-1720346400-1720353600@schuetzengesellschaft-nassenbeuren.de
SUMMARY:GK/KK KW 25m - BDS-Wettkampftraining
DESCRIPTION:Präzision\, Intervall\, Zeitserie
URL:https://schuetzengesellschaft-nassenbeuren.de/termin/gk-kk-kw-25m-bds-wettkampftraining/
LOCATION:25m KW Schießstand
CATEGORIES:Training
END:VEVENT
BEGIN:VEVENT
DTSTART;TZID=Europe/Berlin:20240623T100000
DTEND;TZID=Europe/Berlin:20240623T120000
DTSTAMP:20260425T164242
CREATED:20240620T083303Z
LAST-MODIFIED:20240620T083303Z
UID:10000831-1719136800-1719144000@schuetzengesellschaft-nassenbeuren.de
SUMMARY:GK/KK KW 25m - BDS-Wettkampf-Training
DESCRIPTION:Präzision\, Intervall\, Zeitserie
URL:https://schuetzengesellschaft-nassenbeuren.de/termin/gk-kk-kw-25m-bds-wettkampf-training/
LOCATION:25m KW Schießstand
CATEGORIES:Training
END:VEVENT
END:VCALENDAR