BEGIN:VCALENDAR
VERSION:2.0
PRODID:-//Kgl. priv. Schützengesellschaft Nassenbeuren - ECPv6.15.18//NONSGML v1.0//EN
CALSCALE:GREGORIAN
METHOD:PUBLISH
X-WR-CALNAME:Kgl. priv. Schützengesellschaft Nassenbeuren
X-ORIGINAL-URL:https://schuetzengesellschaft-nassenbeuren.de
X-WR-CALDESC:Veranstaltungen für Kgl. priv. Schützengesellschaft Nassenbeuren
REFRESH-INTERVAL;VALUE=DURATION:PT1H
X-Robots-Tag:noindex
X-PUBLISHED-TTL:PT1H
BEGIN:VTIMEZONE
TZID:Europe/Berlin
BEGIN:DAYLIGHT
TZOFFSETFROM:+0100
TZOFFSETTO:+0200
TZNAME:CEST
DTSTART:20220327T010000
END:DAYLIGHT
BEGIN:STANDARD
TZOFFSETFROM:+0200
TZOFFSETTO:+0100
TZNAME:CET
DTSTART:20221030T010000
END:STANDARD
BEGIN:DAYLIGHT
TZOFFSETFROM:+0100
TZOFFSETTO:+0200
TZNAME:CEST
DTSTART:20230326T010000
END:DAYLIGHT
BEGIN:STANDARD
TZOFFSETFROM:+0200
TZOFFSETTO:+0100
TZNAME:CET
DTSTART:20231029T010000
END:STANDARD
BEGIN:DAYLIGHT
TZOFFSETFROM:+0100
TZOFFSETTO:+0200
TZNAME:CEST
DTSTART:20240331T010000
END:DAYLIGHT
BEGIN:STANDARD
TZOFFSETFROM:+0200
TZOFFSETTO:+0100
TZNAME:CET
DTSTART:20241027T010000
END:STANDARD
BEGIN:DAYLIGHT
TZOFFSETFROM:+0100
TZOFFSETTO:+0200
TZNAME:CEST
DTSTART:20250330T010000
END:DAYLIGHT
BEGIN:STANDARD
TZOFFSETFROM:+0200
TZOFFSETTO:+0100
TZNAME:CET
DTSTART:20251026T010000
END:STANDARD
BEGIN:DAYLIGHT
TZOFFSETFROM:+0100
TZOFFSETTO:+0200
TZNAME:CEST
DTSTART:20260329T010000
END:DAYLIGHT
BEGIN:STANDARD
TZOFFSETFROM:+0200
TZOFFSETTO:+0100
TZNAME:CET
DTSTART:20261025T010000
END:STANDARD
BEGIN:DAYLIGHT
TZOFFSETFROM:+0100
TZOFFSETTO:+0200
TZNAME:CEST
DTSTART:20270328T010000
END:DAYLIGHT
BEGIN:STANDARD
TZOFFSETFROM:+0200
TZOFFSETTO:+0100
TZNAME:CET
DTSTART:20271031T010000
END:STANDARD
END:VTIMEZONE
BEGIN:VEVENT
DTSTART;TZID=Europe/Berlin:20260417T160000
DTEND;TZID=Europe/Berlin:20260417T180000
DTSTAMP:20260425T022516
CREATED:20260105T150019Z
LAST-MODIFIED:20260106T102231Z
UID:10002641-1776441600-1776448800@schuetzengesellschaft-nassenbeuren.de
SUMMARY:Schießstand Reinigung 25m Frühjahr
DESCRIPTION:Im Rahmen der Generalreinigung und -wartung sollen folgende Maßnahmen durchgeführt werden: \n\nGeschossfang-Zustand prüfen\nSplitterschutz prüfen\, reparieren\nGeschossfangbereich säubern\, Geschossreste aufsammeln\nSeitenwände und Ablagetische absaugen\nElektrischen Betriebseinrichtungen prüfen\, Mängel beseitigen\nÖffnungskontakt der Notausgangstüre und Warnleuchte prüfen\nNotaus\, Notbeleuchtung\, Erste-Hilfe-Kasten und Feuerlöscher prüfen\nReinigung und Inspektion der Lüftungskanäle/Filter
URL:https://schuetzengesellschaft-nassenbeuren.de/termin/schiessstand-reinigung-25m-fruehjahr/
LOCATION:25m KW Schießstand
CATEGORIES:Arbeit
END:VEVENT
BEGIN:VEVENT
DTSTART;TZID=Europe/Berlin:20260104T100000
DTEND;TZID=Europe/Berlin:20260104T130000
DTSTAMP:20260425T022516
CREATED:20251227T143522Z
LAST-MODIFIED:20260105T140401Z
UID:10002584-1767520800-1767531600@schuetzengesellschaft-nassenbeuren.de
SUMMARY:GK / Ordonanz 100m
DESCRIPTION:Offenes Training für Mitglieder
URL:https://schuetzengesellschaft-nassenbeuren.de/termin/gk-ordonanz-100m-113/
LOCATION:100m LW Schießstand
CATEGORIES:Training
END:VEVENT
BEGIN:VEVENT
DTSTART;TZID=Europe/Berlin:20260104T090000
DTEND;TZID=Europe/Berlin:20260104T110000
DTSTAMP:20260425T022516
CREATED:20260105T150220Z
LAST-MODIFIED:20260105T150220Z
UID:10002648-1767517200-1767524400@schuetzengesellschaft-nassenbeuren.de
SUMMARY:GK/KK KW 25m
DESCRIPTION:Offenes Training für Mitglieder\, Präzision und Duell\, KK und GK
URL:https://schuetzengesellschaft-nassenbeuren.de/termin/gk-kk-kw-25m-292/
LOCATION:25m KW Schießstand
CATEGORIES:Training
END:VEVENT
BEGIN:VEVENT
DTSTART;TZID=Europe/Berlin:20251122T140000
DTEND;TZID=Europe/Berlin:20251122T160000
DTSTAMP:20260425T022516
CREATED:20250908T144518Z
LAST-MODIFIED:20251019T205659Z
UID:10002417-1763820000-1763827200@schuetzengesellschaft-nassenbeuren.de
SUMMARY:GK / Ordonanz 100m Krieger und Soldatenkameradschaft Nassenbeuren
DESCRIPTION:Externe Teilnehmer – geschlossene Gesellschaft
URL:https://schuetzengesellschaft-nassenbeuren.de/termin/gk-ordonanz-100m-krieger-und-soldatenkameradschaft-nassenbeuren-3/
LOCATION:100m LW Schießstand
CATEGORIES:Training
END:VEVENT
BEGIN:VEVENT
DTSTART;TZID=Europe/Berlin:20250316T100000
DTEND;TZID=Europe/Berlin:20250316T130000
DTSTAMP:20260425T022516
CREATED:20241226T224650Z
LAST-MODIFIED:20241226T224650Z
UID:10001383-1742119200-1742130000@schuetzengesellschaft-nassenbeuren.de
SUMMARY:GK / Ordonanz 100m
DESCRIPTION:
URL:https://schuetzengesellschaft-nassenbeuren.de/termin/gk-ordonanz-100m-92/
LOCATION:100m LW Schießstand
CATEGORIES:Training
END:VEVENT
BEGIN:VEVENT
DTSTART;TZID=Europe/Berlin:20230604T100000
DTEND;TZID=Europe/Berlin:20230604T120000
DTSTAMP:20260425T022516
CREATED:20221226T165023Z
LAST-MODIFIED:20230108T215833Z
UID:10000415-1685872800-1685880000@schuetzengesellschaft-nassenbeuren.de
SUMMARY:GK / Ordonanz 100m
DESCRIPTION:
URL:https://schuetzengesellschaft-nassenbeuren.de/termin/gk-ordonanz-100m-46/
LOCATION:100m LW Schießstand
CATEGORIES:Training
END:VEVENT
END:VCALENDAR