BEGIN:VCALENDAR
VERSION:2.0
PRODID:-//Kgl. priv. Schützengesellschaft Nassenbeuren - ECPv6.15.18//NONSGML v1.0//EN
CALSCALE:GREGORIAN
METHOD:PUBLISH
X-WR-CALNAME:Kgl. priv. Schützengesellschaft Nassenbeuren
X-ORIGINAL-URL:https://schuetzengesellschaft-nassenbeuren.de
X-WR-CALDESC:Veranstaltungen für Kgl. priv. Schützengesellschaft Nassenbeuren
REFRESH-INTERVAL;VALUE=DURATION:PT1H
X-Robots-Tag:noindex
X-PUBLISHED-TTL:PT1H
BEGIN:VTIMEZONE
TZID:Europe/Berlin
BEGIN:DAYLIGHT
TZOFFSETFROM:+0100
TZOFFSETTO:+0200
TZNAME:CEST
DTSTART:20220327T010000
END:DAYLIGHT
BEGIN:STANDARD
TZOFFSETFROM:+0200
TZOFFSETTO:+0100
TZNAME:CET
DTSTART:20221030T010000
END:STANDARD
BEGIN:DAYLIGHT
TZOFFSETFROM:+0100
TZOFFSETTO:+0200
TZNAME:CEST
DTSTART:20230326T010000
END:DAYLIGHT
BEGIN:STANDARD
TZOFFSETFROM:+0200
TZOFFSETTO:+0100
TZNAME:CET
DTSTART:20231029T010000
END:STANDARD
BEGIN:DAYLIGHT
TZOFFSETFROM:+0100
TZOFFSETTO:+0200
TZNAME:CEST
DTSTART:20240331T010000
END:DAYLIGHT
BEGIN:STANDARD
TZOFFSETFROM:+0200
TZOFFSETTO:+0100
TZNAME:CET
DTSTART:20241027T010000
END:STANDARD
END:VTIMEZONE
BEGIN:VEVENT
DTSTART;TZID=Europe/Berlin:20231022T100000
DTEND;TZID=Europe/Berlin:20231022T120000
DTSTAMP:20260423T003354
CREATED:20221226T165053Z
LAST-MODIFIED:20230108T215903Z
UID:10000425-1697968800-1697976000@schuetzengesellschaft-nassenbeuren.de
SUMMARY:GK / Ordonanz 100m
DESCRIPTION:
URL:https://schuetzengesellschaft-nassenbeuren.de/termin/gk-ordonanz-100m-56/
LOCATION:100m LW Schießstand
CATEGORIES:Training
END:VEVENT
BEGIN:VEVENT
DTSTART;TZID=Europe/Berlin:20231021T130000
DTEND;TZID=Europe/Berlin:20231021T150000
DTSTAMP:20260423T003354
CREATED:20231020T151338Z
LAST-MODIFIED:20231020T152200Z
UID:10000602-1697893200-1697900400@schuetzengesellschaft-nassenbeuren.de
SUMMARY:GK LW Einschießen WBK Jäger/WL 100m
DESCRIPTION:Langwaffen mit jagdlichen Kalibern auf dem 100m-Stand\nEinschießen\, Prüfen und Justieren von Vorsatzgeräten und Wärmebildkameras\nfür Jäger und Wiederlader\nBei Interesse an der Teilname bitte Email senden an: enlutz100meter@gmx.de
URL:https://schuetzengesellschaft-nassenbeuren.de/termin/gk-lw-einschiessen-wbk-jaeger-wl-100m-7/
LOCATION:100m LW Schießstand
CATEGORIES:Jagdlich
END:VEVENT
BEGIN:VEVENT
DTSTART;TZID=Europe/Berlin:20231020T150000
DTEND;TZID=Europe/Berlin:20231020T170000
DTSTAMP:20260423T003355
CREATED:20231009T103601Z
LAST-MODIFIED:20231009T103601Z
UID:10000600-1697814000-1697821200@schuetzengesellschaft-nassenbeuren.de
SUMMARY:GK LW Einschießen WBK Jäger/WL 100m
DESCRIPTION:Langwaffen mit jagdlichen Kalibern auf dem 100m-Stand\nEinschießen\, Prüfen und Justieren von Vorsatzgeräten und Wärmebildkameras\nfür Jäger und Wiederlader\nBei Interesse an der Teilname bitte Email senden an: enlutz100meter@gmx.de
URL:https://schuetzengesellschaft-nassenbeuren.de/termin/gk-lw-einschiessen-wbk-jaeger-wl-100m-6/
LOCATION:100m LW Schießstand
CATEGORIES:Jagdlich
END:VEVENT
BEGIN:VEVENT
DTSTART;TZID=Europe/Berlin:20231006T150000
DTEND;TZID=Europe/Berlin:20231006T170000
DTSTAMP:20260423T003355
CREATED:20231004T132016Z
LAST-MODIFIED:20231004T132016Z
UID:10000598-1696604400-1696611600@schuetzengesellschaft-nassenbeuren.de
SUMMARY:GK LW Einschießen WBK Jäger/WL 100m
DESCRIPTION:Langwaffen mit jagdlichen Kalibern auf dem 100m-Stand\nEinschießen\, Prüfen und Justieren von Vorsatzgeräten und Wärmebildkameras\nfür Jäger und Wiederlader
URL:https://schuetzengesellschaft-nassenbeuren.de/termin/gk-lw-einschiessen-wbk-jaeger-wl-100m-5/
LOCATION:100m LW Schießstand
CATEGORIES:Jagdlich
END:VEVENT
BEGIN:VEVENT
DTSTART;TZID=Europe/Berlin:20230930T140000
DTEND;TZID=Europe/Berlin:20230930T160000
DTSTAMP:20260423T003355
CREATED:20230927T195611Z
LAST-MODIFIED:20231003T110941Z
UID:10000595-1696082400-1696089600@schuetzengesellschaft-nassenbeuren.de
SUMMARY:GK LW Einschießen WBK Jäger/WL 100m
DESCRIPTION:Langwaffen mit jagdlichen Kalibern auf dem 100m-Stand\nEinschießen\, Prüfen und Justieren von Vorsatzgeräten und Wärmebildkameras\nfür Jäger und Wiederlader\nBei Interesse an der Teilname bitte Email senden an: enlutz100meter@gmx.de
URL:https://schuetzengesellschaft-nassenbeuren.de/termin/gk-lw-einschiessen-wbk-jaeger-wl-100m-3/
LOCATION:100m LW Schießstand
CATEGORIES:Jagdlich
END:VEVENT
BEGIN:VEVENT
DTSTART;TZID=Europe/Berlin:20230929T140000
DTEND;TZID=Europe/Berlin:20230929T160000
DTSTAMP:20260423T003355
CREATED:20230928T092658Z
LAST-MODIFIED:20230928T092658Z
UID:10000596-1695996000-1696003200@schuetzengesellschaft-nassenbeuren.de
SUMMARY:GK LW Einschießen WBK Jäger/WL 100m
DESCRIPTION:Langwaffen mit jagdlichen Kalibern auf dem 100m-Stand\nEinschießen\, Prüfen und Justieren von Vorsatzgeräten und Wärmebildkameras\nfür Jäger und Wiederlader
URL:https://schuetzengesellschaft-nassenbeuren.de/termin/gk-lw-einschiessen-wbk-jaeger-wl-100m-4/
LOCATION:100m LW Schießstand
CATEGORIES:Jagdlich
END:VEVENT
BEGIN:VEVENT
DTSTART;TZID=Europe/Berlin:20230923T100000
DTEND;TZID=Europe/Berlin:20230923T130000
DTSTAMP:20260423T003355
CREATED:20230917T124252Z
LAST-MODIFIED:20230921T080812Z
UID:10000580-1695463200-1695474000@schuetzengesellschaft-nassenbeuren.de
SUMMARY:GK LW Einschießen WBK Jäger/WL 100m
DESCRIPTION:Langwaffen mit jagdlichen Kalibern auf dem 100m-Stand\nEinschießen\, Prüfen und Justieren von Vorsatzgeräten und Wärmebildkameras\nfür Jäger und Wiederlader
URL:https://schuetzengesellschaft-nassenbeuren.de/termin/gk-lw-einschiessen-wbk-jaeger-wl-100m-2/
LOCATION:100m LW Schießstand
CATEGORIES:Jagdlich
END:VEVENT
BEGIN:VEVENT
DTSTART;TZID=Europe/Berlin:20230922T150000
DTEND;TZID=Europe/Berlin:20230922T170000
DTSTAMP:20260423T003355
CREATED:20230921T080042Z
LAST-MODIFIED:20230921T080808Z
UID:10000583-1695394800-1695402000@schuetzengesellschaft-nassenbeuren.de
SUMMARY:GK LW Einschießen WBK Jäger/WL 100m
DESCRIPTION:Langwaffen mit jagdlichen Kalibern auf dem 100m-Stand\nEinschießen\, Prüfen und Justieren von Vorsatzgeräten und Wärmebildkameras\nfür Jäger und Wiederlader
URL:https://schuetzengesellschaft-nassenbeuren.de/termin/gk-lw-einschiessen-wbk-jaeger-wl-100m/
LOCATION:100m LW Schießstand
CATEGORIES:Jagdlich
END:VEVENT
BEGIN:VEVENT
DTSTART;TZID=Europe/Berlin:20230819T100000
DTEND;TZID=Europe/Berlin:20230819T120000
DTSTAMP:20260423T003355
CREATED:20230818T092309Z
LAST-MODIFIED:20231112T192940Z
UID:10000578-1692439200-1692446400@schuetzengesellschaft-nassenbeuren.de
SUMMARY:GK LW Einschießen WBK Jäger/WL 100m
DESCRIPTION:
URL:https://schuetzengesellschaft-nassenbeuren.de/termin/gk-lw-einschiessen-wbk-jaeger-wl-100m-11/
LOCATION:100m LW Schießstand
CATEGORIES:Jagdlich
END:VEVENT
BEGIN:VEVENT
DTSTART;TZID=Europe/Berlin:20230716T100000
DTEND;TZID=Europe/Berlin:20230716T120000
DTSTAMP:20260423T003355
CREATED:20230528T145843Z
LAST-MODIFIED:20230528T145843Z
UID:10000563-1689501600-1689508800@schuetzengesellschaft-nassenbeuren.de
SUMMARY:Sommerfest Abbau
DESCRIPTION:
URL:https://schuetzengesellschaft-nassenbeuren.de/termin/sommerfest-abbau-2/
LOCATION:Schützenheim
CATEGORIES:Arbeit
END:VEVENT
BEGIN:VEVENT
DTSTART;TZID=Europe/Berlin:20230715T100000
DTEND;TZID=Europe/Berlin:20230715T120000
DTSTAMP:20260423T003355
CREATED:20230528T145843Z
LAST-MODIFIED:20230528T145843Z
UID:10000562-1689415200-1689422400@schuetzengesellschaft-nassenbeuren.de
SUMMARY:Sommerfest Aufbau Rest
DESCRIPTION:
URL:https://schuetzengesellschaft-nassenbeuren.de/termin/sommerfest-aufbau-rest/
LOCATION:Schützenheim
CATEGORIES:Arbeit
END:VEVENT
BEGIN:VEVENT
DTSTART;TZID=Europe/Berlin:20230714T170000
DTEND;TZID=Europe/Berlin:20230714T190000
DTSTAMP:20260423T003355
CREATED:20230528T145843Z
LAST-MODIFIED:20230528T145843Z
UID:10000561-1689354000-1689361200@schuetzengesellschaft-nassenbeuren.de
SUMMARY:Sommerfest Aufbau Zelt
DESCRIPTION:
URL:https://schuetzengesellschaft-nassenbeuren.de/termin/sommerfest-aufbau-zelt/
LOCATION:Schützenheim
CATEGORIES:Arbeit
END:VEVENT
BEGIN:VEVENT
DTSTART;TZID=Europe/Berlin:20230429T130000
DTEND;TZID=Europe/Berlin:20230429T150000
DTSTAMP:20260423T003355
CREATED:20230423T174134Z
LAST-MODIFIED:20230424T160637Z
UID:10000498-1682773200-1682780400@schuetzengesellschaft-nassenbeuren.de
SUMMARY:Jagdliches Einschießen/Nachtsicht/Wärmebild 100m
DESCRIPTION:Bei Interesse an der Teilname bitte Email senden an: enlutz100meter@gmx.de
URL:https://schuetzengesellschaft-nassenbeuren.de/termin/jagdliches-einschiessen-nachtsicht-waermebild-100m/
LOCATION:100m LW Schießstand
CATEGORIES:Jagdlich
END:VEVENT
END:VCALENDAR