BEGIN:VCALENDAR
VERSION:2.0
PRODID:-//Kgl. priv. Schützengesellschaft Nassenbeuren - ECPv6.15.18//NONSGML v1.0//EN
CALSCALE:GREGORIAN
METHOD:PUBLISH
X-WR-CALNAME:Kgl. priv. Schützengesellschaft Nassenbeuren
X-ORIGINAL-URL:https://schuetzengesellschaft-nassenbeuren.de
X-WR-CALDESC:Veranstaltungen für Kgl. priv. Schützengesellschaft Nassenbeuren
REFRESH-INTERVAL;VALUE=DURATION:PT1H
X-Robots-Tag:noindex
X-PUBLISHED-TTL:PT1H
BEGIN:VTIMEZONE
TZID:Europe/Berlin
BEGIN:DAYLIGHT
TZOFFSETFROM:+0100
TZOFFSETTO:+0200
TZNAME:CEST
DTSTART:20220327T010000
END:DAYLIGHT
BEGIN:STANDARD
TZOFFSETFROM:+0200
TZOFFSETTO:+0100
TZNAME:CET
DTSTART:20221030T010000
END:STANDARD
BEGIN:DAYLIGHT
TZOFFSETFROM:+0100
TZOFFSETTO:+0200
TZNAME:CEST
DTSTART:20230326T010000
END:DAYLIGHT
BEGIN:STANDARD
TZOFFSETFROM:+0200
TZOFFSETTO:+0100
TZNAME:CET
DTSTART:20231029T010000
END:STANDARD
BEGIN:DAYLIGHT
TZOFFSETFROM:+0100
TZOFFSETTO:+0200
TZNAME:CEST
DTSTART:20240331T010000
END:DAYLIGHT
BEGIN:STANDARD
TZOFFSETFROM:+0200
TZOFFSETTO:+0100
TZNAME:CET
DTSTART:20241027T010000
END:STANDARD
BEGIN:DAYLIGHT
TZOFFSETFROM:+0100
TZOFFSETTO:+0200
TZNAME:CEST
DTSTART:20250330T010000
END:DAYLIGHT
BEGIN:STANDARD
TZOFFSETFROM:+0200
TZOFFSETTO:+0100
TZNAME:CET
DTSTART:20251026T010000
END:STANDARD
END:VTIMEZONE
BEGIN:VEVENT
DTSTART;TZID=Europe/Berlin:20240913T150000
DTEND;TZID=Europe/Berlin:20240913T170000
DTSTAMP:20260422T213124
CREATED:20240905T081150Z
LAST-MODIFIED:20240911T203323Z
UID:10000924-1726239600-1726246800@schuetzengesellschaft-nassenbeuren.de
SUMMARY:GK LW Einschießen WBK Jäger/WL 100m
DESCRIPTION:Langwaffen mit jagdlichen Kalibern auf dem 100m-Stand\nEinschießen\, Prüfen und Justieren von Vorsatzgeräten und Wärmebildkameras\nfür Jäger und Wiederlader\nBei Interesse an der Teilname bitte Email senden an: 2.schuetzenmeister@schuetzengesellschaft-nassenbeuren.de\nAchtung: Verwendung von Solid-Geschossen derzeit nicht möglich!
URL:https://schuetzengesellschaft-nassenbeuren.de/termin/gk-lw-einschiessen-wbk-jaeger-wl-100m-28/
LOCATION:100m LW Schießstand
CATEGORIES:Jagdlich
END:VEVENT
BEGIN:VEVENT
DTSTART;TZID=Europe/Berlin:20240830T150000
DTEND;TZID=Europe/Berlin:20240830T170000
DTSTAMP:20260422T213124
CREATED:20240829T051910Z
LAST-MODIFIED:20240829T051910Z
UID:10000923-1725030000-1725037200@schuetzengesellschaft-nassenbeuren.de
SUMMARY:GK LW Einschießen WBK Jäger/WL 100m
DESCRIPTION:Langwaffen mit jagdlichen Kalibern auf dem 100m-Stand\nEinschießen\, Prüfen und Justieren von Vorsatzgeräten und Wärmebildkameras\nfür Jäger und Wiederlader\nBei Interesse an der Teilname bitte Email senden an: 2.schuetzenmeister@schuetzengesellschaft-nassenbeuren.de\nAchtung: Verwendung von Solid-Geschossen derzeit nicht möglich!
URL:https://schuetzengesellschaft-nassenbeuren.de/termin/gk-lw-einschiessen-wbk-jaeger-wl-100m-27/
LOCATION:100m LW Schießstand
CATEGORIES:Jagdlich
END:VEVENT
BEGIN:VEVENT
DTSTART;TZID=Europe/Berlin:20240823T150000
DTEND;TZID=Europe/Berlin:20240823T170000
DTSTAMP:20260422T213124
CREATED:20240819T081747Z
LAST-MODIFIED:20240819T081747Z
UID:10000922-1724425200-1724432400@schuetzengesellschaft-nassenbeuren.de
SUMMARY:GK LW Einschießen WBK Jäger/WL 100m
DESCRIPTION:Langwaffen mit jagdlichen Kalibern auf dem 100m-Stand\nEinschießen\, Prüfen und Justieren von Vorsatzgeräten und Wärmebildkameras\nfür Jäger und Wiederlader\nBei Interesse an der Teilname bitte Email senden an: 2.schuetzenmeister@schuetzengesellschaft-nassenbeuren.de\nAchtung: Verwendung von Solid-Geschossen derzeit nicht möglich!
URL:https://schuetzengesellschaft-nassenbeuren.de/termin/gk-lw-einschiessen-wbk-jaeger-wl-100m-26/
LOCATION:100m LW Schießstand
CATEGORIES:Jagdlich
END:VEVENT
BEGIN:VEVENT
DTSTART;TZID=Europe/Berlin:20240816T150000
DTEND;TZID=Europe/Berlin:20240816T170000
DTSTAMP:20260422T213124
CREATED:20240812T082224Z
LAST-MODIFIED:20240812T082224Z
UID:10000919-1723820400-1723827600@schuetzengesellschaft-nassenbeuren.de
SUMMARY:GK LW Einschießen WBK Jäger/WL 100m
DESCRIPTION:Langwaffen mit jagdlichen Kalibern auf dem 100m-Stand\nEinschießen\, Prüfen und Justieren von Vorsatzgeräten und Wärmebildkameras\nfür Jäger und Wiederlader\nBei Interesse an der Teilname bitte Email senden an: 2.schuetzenmeister@schuetzengesellschaft-nassenbeuren.de\nAchtung: Verwendung von Solid-Geschossen derzeit nicht möglich!
URL:https://schuetzengesellschaft-nassenbeuren.de/termin/gk-lw-einschiessen-wbk-jaeger-wl-100m-25/
LOCATION:100m LW Schießstand
CATEGORIES:Jagdlich
END:VEVENT
BEGIN:VEVENT
DTSTART;TZID=Europe/Berlin:20240811T100000
DTEND;TZID=Europe/Berlin:20240811T120000
DTSTAMP:20260422T213124
CREATED:20240625T074355Z
LAST-MODIFIED:20240625T075132Z
UID:10000838-1723370400-1723377600@schuetzengesellschaft-nassenbeuren.de
SUMMARY:Sommerfest Abbau
DESCRIPTION:
URL:https://schuetzengesellschaft-nassenbeuren.de/termin/sommerfest-abbau-4/
LOCATION:Schützenheim
CATEGORIES:Arbeit
END:VEVENT
BEGIN:VEVENT
DTSTART;TZID=Europe/Berlin:20240810T100000
DTEND;TZID=Europe/Berlin:20240810T120000
DTSTAMP:20260422T213124
CREATED:20240625T074354Z
LAST-MODIFIED:20240625T075132Z
UID:10000836-1723284000-1723291200@schuetzengesellschaft-nassenbeuren.de
SUMMARY:Sommerfest Aufbau Rest
DESCRIPTION:
URL:https://schuetzengesellschaft-nassenbeuren.de/termin/sommerfest-aufbau-rest-3/
LOCATION:Schützenheim
CATEGORIES:Arbeit
END:VEVENT
BEGIN:VEVENT
DTSTART;TZID=Europe/Berlin:20240809T170000
DTEND;TZID=Europe/Berlin:20240809T190000
DTSTAMP:20260422T213124
CREATED:20240625T074354Z
LAST-MODIFIED:20240625T075132Z
UID:10000835-1723222800-1723230000@schuetzengesellschaft-nassenbeuren.de
SUMMARY:Sommerfest Aufbau Zelt
DESCRIPTION:
URL:https://schuetzengesellschaft-nassenbeuren.de/termin/sommerfest-aufbau-zelt-3/
LOCATION:Schützenheim
CATEGORIES:Arbeit
END:VEVENT
BEGIN:VEVENT
DTSTART;TZID=Europe/Berlin:20240802T150000
DTEND;TZID=Europe/Berlin:20240802T170000
DTSTAMP:20260422T213124
CREATED:20240801T160844Z
LAST-MODIFIED:20240801T160844Z
UID:10000916-1722610800-1722618000@schuetzengesellschaft-nassenbeuren.de
SUMMARY:GK LW Einschießen WBK Jäger/WL 100m
DESCRIPTION:Langwaffen mit jagdlichen Kalibern auf dem 100m-Stand\nEinschießen\, Prüfen und Justieren von Vorsatzgeräten und Wärmebildkameras\nfür Jäger und Wiederlader\nBei Interesse an der Teilname bitte Email senden an: 2.schuetzenmeister@schuetzengesellschaft-nassenbeuren.de\nAchtung: Verwendung von Solid-Geschossen derzeit nicht möglich!
URL:https://schuetzengesellschaft-nassenbeuren.de/termin/gk-lw-einschiessen-wbk-jaeger-wl-100m-24/
LOCATION:100m LW Schießstand
CATEGORIES:Jagdlich
END:VEVENT
BEGIN:VEVENT
DTSTART;TZID=Europe/Berlin:20240726T150000
DTEND;TZID=Europe/Berlin:20240726T170000
DTSTAMP:20260422T213124
CREATED:20240726T095928Z
LAST-MODIFIED:20240726T095928Z
UID:10000790-1722006000-1722013200@schuetzengesellschaft-nassenbeuren.de
SUMMARY:GK LW Einschießen WBK Jäger/WL 100m
DESCRIPTION:Langwaffen mit jagdlichen Kalibern auf dem 100m-Stand\nEinschießen\, Prüfen und Justieren von Vorsatzgeräten und Wärmebildkameras\nfür Jäger und Wiederlader\nBei Interesse an der Teilname bitte Email senden an: 2.schuetzenmeister@schuetzengesellschaft-nassenbeuren.de\nAchtung: Verwendung von Solid-Geschossen derzeit nicht möglich!
URL:https://schuetzengesellschaft-nassenbeuren.de/termin/gk-lw-einschiessen-wbk-jaeger-wl-100m-23/
LOCATION:100m LW Schießstand
CATEGORIES:Jagdlich
END:VEVENT
BEGIN:VEVENT
DTSTART;TZID=Europe/Berlin:20240308T140000
DTEND;TZID=Europe/Berlin:20240308T160000
DTSTAMP:20260422T213124
CREATED:20240304T110211Z
LAST-MODIFIED:20240304T110211Z
UID:10000788-1709906400-1709913600@schuetzengesellschaft-nassenbeuren.de
SUMMARY:GK LW Einschießen WBK Jäger/WL 100m
DESCRIPTION:Langwaffen mit jagdlichen Kalibern auf dem 100m-Stand\nEinschießen\, Prüfen und Justieren von Vorsatzgeräten und Wärmebildkameras\nfür Jäger und Wiederlader\nBei Interesse an der Teilname bitte Email senden an: enlutz100meter@gmx.de
URL:https://schuetzengesellschaft-nassenbeuren.de/termin/gk-lw-einschiessen-wbk-jaeger-wl-100m-22/
LOCATION:100m LW Schießstand
CATEGORIES:Jagdlich
END:VEVENT
BEGIN:VEVENT
DTSTART;TZID=Europe/Berlin:20240224T100000
DTEND;TZID=Europe/Berlin:20240224T120000
DTSTAMP:20260422T213124
CREATED:20240219T165721Z
LAST-MODIFIED:20240219T165721Z
UID:10000775-1708768800-1708776000@schuetzengesellschaft-nassenbeuren.de
SUMMARY:GK LW Einschießen WBK Jäger/WL 100m
DESCRIPTION:Langwaffen mit jagdlichen Kalibern auf dem 100m-Stand\nEinschießen\, Prüfen und Justieren von Vorsatzgeräten und Wärmebildkameras\nfür Jäger und Wiederlader\nBei Interesse an der Teilname bitte Email senden an: enlutz100meter@gmx.de
URL:https://schuetzengesellschaft-nassenbeuren.de/termin/gk-lw-einschiessen-wbk-jaeger-wl-100m-21/
LOCATION:100m LW Schießstand
CATEGORIES:Jagdlich
END:VEVENT
BEGIN:VEVENT
DTSTART;TZID=Europe/Berlin:20240217T100000
DTEND;TZID=Europe/Berlin:20240217T120000
DTSTAMP:20260422T213124
CREATED:20240213T190824Z
LAST-MODIFIED:20240213T190824Z
UID:10000773-1708164000-1708171200@schuetzengesellschaft-nassenbeuren.de
SUMMARY:GK LW Einschießen WBK Jäger/WL 100m
DESCRIPTION:Langwaffen mit jagdlichen Kalibern auf dem 100m-Stand\nEinschießen\, Prüfen und Justieren von Vorsatzgeräten und Wärmebildkameras\nfür Jäger und Wiederlader\nBei Interesse an der Teilname bitte Email senden an: enlutz100meter@gmx.de
URL:https://schuetzengesellschaft-nassenbeuren.de/termin/gk-lw-einschiessen-wbk-jaeger-wl-100m-20/
LOCATION:100m LW Schießstand
CATEGORIES:Jagdlich
END:VEVENT
BEGIN:VEVENT
DTSTART;TZID=Europe/Berlin:20240209T140000
DTEND;TZID=Europe/Berlin:20240209T160000
DTSTAMP:20260422T213124
CREATED:20240207T101156Z
LAST-MODIFIED:20240207T101156Z
UID:10000772-1707487200-1707494400@schuetzengesellschaft-nassenbeuren.de
SUMMARY:GK LW Einschießen WBK Jäger/WL 100m
DESCRIPTION:Langwaffen mit jagdlichen Kalibern auf dem 100m-Stand\nEinschießen\, Prüfen und Justieren von Vorsatzgeräten und Wärmebildkameras\nfür Jäger und Wiederlader\nBei Interesse an der Teilname bitte Email senden an: enlutz100meter@gmx.de
URL:https://schuetzengesellschaft-nassenbeuren.de/termin/gk-lw-einschiessen-wbk-jaeger-wl-100m-19/
LOCATION:100m LW Schießstand
CATEGORIES:Jagdlich
END:VEVENT
BEGIN:VEVENT
DTSTART;TZID=Europe/Berlin:20240202T140000
DTEND;TZID=Europe/Berlin:20240202T160000
DTSTAMP:20260422T213124
CREATED:20240129T104901Z
LAST-MODIFIED:20240129T104901Z
UID:10000771-1706882400-1706889600@schuetzengesellschaft-nassenbeuren.de
SUMMARY:GK LW Einschießen WBK Jäger/WL 100m
DESCRIPTION:Langwaffen mit jagdlichen Kalibern auf dem 100m-Stand\nEinschießen\, Prüfen und Justieren von Vorsatzgeräten und Wärmebildkameras\nfür Jäger und Wiederlader\nBei Interesse an der Teilname bitte Email senden an: enlutz100meter@gmx.de
URL:https://schuetzengesellschaft-nassenbeuren.de/termin/gk-lw-einschiessen-wbk-jaeger-wl-100m-18/
LOCATION:100m LW Schießstand
CATEGORIES:Jagdlich
END:VEVENT
BEGIN:VEVENT
DTSTART;TZID=Europe/Berlin:20240120T100000
DTEND;TZID=Europe/Berlin:20240120T120000
DTSTAMP:20260422T213124
CREATED:20240114T160611Z
LAST-MODIFIED:20240114T160820Z
UID:10000770-1705744800-1705752000@schuetzengesellschaft-nassenbeuren.de
SUMMARY:GK LW Einschießen WBK Jäger/WL 100m
DESCRIPTION:Langwaffen mit jagdlichen Kalibern auf dem 100m-Stand\nEinschießen\, Prüfen und Justieren von Vorsatzgeräten und Wärmebildkameras\nfür Jäger und Wiederlader\nBei Interesse an der Teilname bitte Email senden an: enlutz100meter@gmx.de
URL:https://schuetzengesellschaft-nassenbeuren.de/termin/gk-lw-einschiessen-wbk-jaeger-wl-100m-17/
LOCATION:100m LW Schießstand
CATEGORIES:Jagdlich
END:VEVENT
BEGIN:VEVENT
DTSTART;TZID=Europe/Berlin:20240105T150000
DTEND;TZID=Europe/Berlin:20240105T190000
DTSTAMP:20260422T213124
CREATED:20231220T120712Z
LAST-MODIFIED:20231220T120712Z
UID:10000628-1704466800-1704481200@schuetzengesellschaft-nassenbeuren.de
SUMMARY:Gerümpelschießen 2024
DESCRIPTION:Vereinsinternes Schießen: „Gerümpelschießen“ mit Langwaffen \nJeder bringt die Waffe(n) mit\, die das ganze Jahr nur in der Schrankecke stehen und nie benutzt werden. Das „Gerümpel“ halt. Damit schießen wir auf 50 und 100m.
URL:https://schuetzengesellschaft-nassenbeuren.de/termin/geruempelschiessen-2024/
LOCATION:100m LW Schießstand
CATEGORIES:Veranstaltung
END:VEVENT
BEGIN:VEVENT
DTSTART;TZID=Europe/Berlin:20240104T140000
DTEND;TZID=Europe/Berlin:20240104T160000
DTSTAMP:20260422T213124
CREATED:20231230T084512Z
LAST-MODIFIED:20231230T091821Z
UID:10000630-1704376800-1704384000@schuetzengesellschaft-nassenbeuren.de
SUMMARY:GK LW Einschießen WBK Jäger/WL 100m
DESCRIPTION:Langwaffen mit jagdlichen Kalibern auf dem 100m-Stand\nEinschießen\, Prüfen und Justieren von Vorsatzgeräten und Wärmebildkameras\nfür Jäger und Wiederlader\nBei Interesse an der Teilname bitte Email senden an: enlutz100meter@gmx.de
URL:https://schuetzengesellschaft-nassenbeuren.de/termin/gk-lw-einschiessen-wbk-jaeger-wl-100m-16/
LOCATION:100m LW Schießstand
CATEGORIES:Jagdlich
END:VEVENT
BEGIN:VEVENT
DTSTART;TZID=Europe/Berlin:20231222T150000
DTEND;TZID=Europe/Berlin:20231222T170000
DTSTAMP:20260422T213124
CREATED:20231220T200047Z
LAST-MODIFIED:20231220T200121Z
UID:10000622-1703257200-1703264400@schuetzengesellschaft-nassenbeuren.de
SUMMARY:GK LW Einschießen WBK Jäger/WL 100m
DESCRIPTION:Langwaffen mit jagdlichen Kalibern auf dem 100m-Stand\nEinschießen\, Prüfen und Justieren von Vorsatzgeräten und Wärmebildkameras\nfür Jäger und Wiederlader\nBei Interesse an der Teilname bitte Email senden an: enlutz100meter@gmx.de
URL:https://schuetzengesellschaft-nassenbeuren.de/termin/gk-lw-einschiessen-wbk-jaeger-wl-100m-15/
LOCATION:100m LW Schießstand
CATEGORIES:Jagdlich
END:VEVENT
BEGIN:VEVENT
DTSTART;TZID=Europe/Berlin:20231201T150000
DTEND;TZID=Europe/Berlin:20231201T170000
DTSTAMP:20260422T213124
CREATED:20231128T100937Z
LAST-MODIFIED:20231128T100937Z
UID:10000617-1701442800-1701450000@schuetzengesellschaft-nassenbeuren.de
SUMMARY:GK LW Einschießen WBK Jäger/WL 100m
DESCRIPTION:Langwaffen mit jagdlichen Kalibern auf dem 100m-Stand\nEinschießen\, Prüfen und Justieren von Vorsatzgeräten und Wärmebildkameras\nfür Jäger und Wiederlader\nBei Interesse an der Teilname bitte Email senden an: enlutz100meter@gmx.de
URL:https://schuetzengesellschaft-nassenbeuren.de/termin/gk-lw-einschiessen-wbk-jaeger-wl-100m-14/
LOCATION:100m LW Schießstand
CATEGORIES:Jagdlich
END:VEVENT
BEGIN:VEVENT
DTSTART;TZID=Europe/Berlin:20231124T150000
DTEND;TZID=Europe/Berlin:20231124T170000
DTSTAMP:20260422T213124
CREATED:20231120T084622Z
LAST-MODIFIED:20231120T084622Z
UID:10000616-1700838000-1700845200@schuetzengesellschaft-nassenbeuren.de
SUMMARY:GK LW Einschießen WBK Jäger/WL 100m
DESCRIPTION:Langwaffen mit jagdlichen Kalibern auf dem 100m-Stand\nEinschießen\, Prüfen und Justieren von Vorsatzgeräten und Wärmebildkameras\nfür Jäger und Wiederlader\nBei Interesse an der Teilname bitte Email senden an: enlutz100meter@gmx.de
URL:https://schuetzengesellschaft-nassenbeuren.de/termin/gk-lw-einschiessen-wbk-jaeger-wl-100m-13/
LOCATION:100m LW Schießstand
CATEGORIES:Jagdlich
END:VEVENT
BEGIN:VEVENT
DTSTART;TZID=Europe/Berlin:20231117T150000
DTEND;TZID=Europe/Berlin:20231117T170000
DTSTAMP:20260422T213124
CREATED:20231112T193015Z
LAST-MODIFIED:20231112T193015Z
UID:10000608-1700233200-1700240400@schuetzengesellschaft-nassenbeuren.de
SUMMARY:GK LW Einschießen WBK Jäger/WL 100m
DESCRIPTION:Langwaffen mit jagdlichen Kalibern auf dem 100m-Stand\nEinschießen\, Prüfen und Justieren von Vorsatzgeräten und Wärmebildkameras\nfür Jäger und Wiederlader\nBei Interesse an der Teilname bitte Email senden an: enlutz100meter@gmx.de
URL:https://schuetzengesellschaft-nassenbeuren.de/termin/gk-lw-einschiessen-wbk-jaeger-wl-100m-12/
LOCATION:100m LW Schießstand
CATEGORIES:Jagdlich
END:VEVENT
BEGIN:VEVENT
DTSTART;TZID=Europe/Berlin:20231110T150000
DTEND;TZID=Europe/Berlin:20231110T170000
DTSTAMP:20260422T213124
CREATED:20231107T084601Z
LAST-MODIFIED:20231107T084601Z
UID:10000606-1699628400-1699635600@schuetzengesellschaft-nassenbeuren.de
SUMMARY:GK LW Einschießen WBK Jäger/WL 100m
DESCRIPTION:Langwaffen mit jagdlichen Kalibern auf dem 100m-Stand\nEinschießen\, Prüfen und Justieren von Vorsatzgeräten und Wärmebildkameras\nfür Jäger und Wiederlader\nBei Interesse an der Teilname bitte Email senden an: enlutz100meter@gmx.de
URL:https://schuetzengesellschaft-nassenbeuren.de/termin/gk-lw-einschiessen-wbk-jaeger-wl-100m-10/
LOCATION:100m LW Schießstand
CATEGORIES:Jagdlich
END:VEVENT
BEGIN:VEVENT
DTSTART;TZID=Europe/Berlin:20231103T150000
DTEND;TZID=Europe/Berlin:20231103T170000
DTSTAMP:20260422T213124
CREATED:20231031T104757Z
LAST-MODIFIED:20231031T104757Z
UID:10000605-1699023600-1699030800@schuetzengesellschaft-nassenbeuren.de
SUMMARY:GK LW Einschießen WBK Jäger/WL 100m
DESCRIPTION:Langwaffen mit jagdlichen Kalibern auf dem 100m-Stand\nEinschießen\, Prüfen und Justieren von Vorsatzgeräten und Wärmebildkameras\nfür Jäger und Wiederlader\nBei Interesse an der Teilname bitte Email senden an: enlutz100meter@gmx.de
URL:https://schuetzengesellschaft-nassenbeuren.de/termin/gk-lw-einschiessen-wbk-jaeger-wl-100m-9/
LOCATION:100m LW Schießstand
CATEGORIES:Jagdlich
END:VEVENT
BEGIN:VEVENT
DTSTART;TZID=Europe/Berlin:20231027T140000
DTEND;TZID=Europe/Berlin:20231027T160000
DTSTAMP:20260422T213124
CREATED:20231023T225840Z
LAST-MODIFIED:20231023T225840Z
UID:10000603-1698415200-1698422400@schuetzengesellschaft-nassenbeuren.de
SUMMARY:GK LW Einschießen WBK Jäger/WL 100m
DESCRIPTION:Langwaffen mit jagdlichen Kalibern auf dem 100m-Stand\nEinschießen\, Prüfen und Justieren von Vorsatzgeräten und Wärmebildkameras\nfür Jäger und Wiederlader\nBei Interesse an der Teilname bitte Email senden an: enlutz100meter@gmx.de
URL:https://schuetzengesellschaft-nassenbeuren.de/termin/gk-lw-einschiessen-wbk-jaeger-wl-100m-8/
LOCATION:100m LW Schießstand
CATEGORIES:Jagdlich
END:VEVENT
BEGIN:VEVENT
DTSTART;TZID=Europe/Berlin:20231022T100000
DTEND;TZID=Europe/Berlin:20231022T120000
DTSTAMP:20260422T213124
CREATED:20221226T165053Z
LAST-MODIFIED:20230108T215903Z
UID:10000425-1697968800-1697976000@schuetzengesellschaft-nassenbeuren.de
SUMMARY:GK / Ordonanz 100m
DESCRIPTION:
URL:https://schuetzengesellschaft-nassenbeuren.de/termin/gk-ordonanz-100m-56/
LOCATION:100m LW Schießstand
CATEGORIES:Training
END:VEVENT
BEGIN:VEVENT
DTSTART;TZID=Europe/Berlin:20231021T130000
DTEND;TZID=Europe/Berlin:20231021T150000
DTSTAMP:20260422T213124
CREATED:20231020T151338Z
LAST-MODIFIED:20231020T152200Z
UID:10000602-1697893200-1697900400@schuetzengesellschaft-nassenbeuren.de
SUMMARY:GK LW Einschießen WBK Jäger/WL 100m
DESCRIPTION:Langwaffen mit jagdlichen Kalibern auf dem 100m-Stand\nEinschießen\, Prüfen und Justieren von Vorsatzgeräten und Wärmebildkameras\nfür Jäger und Wiederlader\nBei Interesse an der Teilname bitte Email senden an: enlutz100meter@gmx.de
URL:https://schuetzengesellschaft-nassenbeuren.de/termin/gk-lw-einschiessen-wbk-jaeger-wl-100m-7/
LOCATION:100m LW Schießstand
CATEGORIES:Jagdlich
END:VEVENT
BEGIN:VEVENT
DTSTART;TZID=Europe/Berlin:20231020T150000
DTEND;TZID=Europe/Berlin:20231020T170000
DTSTAMP:20260422T213124
CREATED:20231009T103601Z
LAST-MODIFIED:20231009T103601Z
UID:10000600-1697814000-1697821200@schuetzengesellschaft-nassenbeuren.de
SUMMARY:GK LW Einschießen WBK Jäger/WL 100m
DESCRIPTION:Langwaffen mit jagdlichen Kalibern auf dem 100m-Stand\nEinschießen\, Prüfen und Justieren von Vorsatzgeräten und Wärmebildkameras\nfür Jäger und Wiederlader\nBei Interesse an der Teilname bitte Email senden an: enlutz100meter@gmx.de
URL:https://schuetzengesellschaft-nassenbeuren.de/termin/gk-lw-einschiessen-wbk-jaeger-wl-100m-6/
LOCATION:100m LW Schießstand
CATEGORIES:Jagdlich
END:VEVENT
BEGIN:VEVENT
DTSTART;TZID=Europe/Berlin:20231006T150000
DTEND;TZID=Europe/Berlin:20231006T170000
DTSTAMP:20260422T213124
CREATED:20231004T132016Z
LAST-MODIFIED:20231004T132016Z
UID:10000598-1696604400-1696611600@schuetzengesellschaft-nassenbeuren.de
SUMMARY:GK LW Einschießen WBK Jäger/WL 100m
DESCRIPTION:Langwaffen mit jagdlichen Kalibern auf dem 100m-Stand\nEinschießen\, Prüfen und Justieren von Vorsatzgeräten und Wärmebildkameras\nfür Jäger und Wiederlader
URL:https://schuetzengesellschaft-nassenbeuren.de/termin/gk-lw-einschiessen-wbk-jaeger-wl-100m-5/
LOCATION:100m LW Schießstand
CATEGORIES:Jagdlich
END:VEVENT
BEGIN:VEVENT
DTSTART;TZID=Europe/Berlin:20230930T140000
DTEND;TZID=Europe/Berlin:20230930T160000
DTSTAMP:20260422T213124
CREATED:20230927T195611Z
LAST-MODIFIED:20231003T110941Z
UID:10000595-1696082400-1696089600@schuetzengesellschaft-nassenbeuren.de
SUMMARY:GK LW Einschießen WBK Jäger/WL 100m
DESCRIPTION:Langwaffen mit jagdlichen Kalibern auf dem 100m-Stand\nEinschießen\, Prüfen und Justieren von Vorsatzgeräten und Wärmebildkameras\nfür Jäger und Wiederlader\nBei Interesse an der Teilname bitte Email senden an: enlutz100meter@gmx.de
URL:https://schuetzengesellschaft-nassenbeuren.de/termin/gk-lw-einschiessen-wbk-jaeger-wl-100m-3/
LOCATION:100m LW Schießstand
CATEGORIES:Jagdlich
END:VEVENT
BEGIN:VEVENT
DTSTART;TZID=Europe/Berlin:20230929T140000
DTEND;TZID=Europe/Berlin:20230929T160000
DTSTAMP:20260422T213124
CREATED:20230928T092658Z
LAST-MODIFIED:20230928T092658Z
UID:10000596-1695996000-1696003200@schuetzengesellschaft-nassenbeuren.de
SUMMARY:GK LW Einschießen WBK Jäger/WL 100m
DESCRIPTION:Langwaffen mit jagdlichen Kalibern auf dem 100m-Stand\nEinschießen\, Prüfen und Justieren von Vorsatzgeräten und Wärmebildkameras\nfür Jäger und Wiederlader
URL:https://schuetzengesellschaft-nassenbeuren.de/termin/gk-lw-einschiessen-wbk-jaeger-wl-100m-4/
LOCATION:100m LW Schießstand
CATEGORIES:Jagdlich
END:VEVENT
BEGIN:VEVENT
DTSTART;TZID=Europe/Berlin:20230923T100000
DTEND;TZID=Europe/Berlin:20230923T130000
DTSTAMP:20260422T213124
CREATED:20230917T124252Z
LAST-MODIFIED:20230921T080812Z
UID:10000580-1695463200-1695474000@schuetzengesellschaft-nassenbeuren.de
SUMMARY:GK LW Einschießen WBK Jäger/WL 100m
DESCRIPTION:Langwaffen mit jagdlichen Kalibern auf dem 100m-Stand\nEinschießen\, Prüfen und Justieren von Vorsatzgeräten und Wärmebildkameras\nfür Jäger und Wiederlader
URL:https://schuetzengesellschaft-nassenbeuren.de/termin/gk-lw-einschiessen-wbk-jaeger-wl-100m-2/
LOCATION:100m LW Schießstand
CATEGORIES:Jagdlich
END:VEVENT
BEGIN:VEVENT
DTSTART;TZID=Europe/Berlin:20230922T150000
DTEND;TZID=Europe/Berlin:20230922T170000
DTSTAMP:20260422T213124
CREATED:20230921T080042Z
LAST-MODIFIED:20230921T080808Z
UID:10000583-1695394800-1695402000@schuetzengesellschaft-nassenbeuren.de
SUMMARY:GK LW Einschießen WBK Jäger/WL 100m
DESCRIPTION:Langwaffen mit jagdlichen Kalibern auf dem 100m-Stand\nEinschießen\, Prüfen und Justieren von Vorsatzgeräten und Wärmebildkameras\nfür Jäger und Wiederlader
URL:https://schuetzengesellschaft-nassenbeuren.de/termin/gk-lw-einschiessen-wbk-jaeger-wl-100m/
LOCATION:100m LW Schießstand
CATEGORIES:Jagdlich
END:VEVENT
BEGIN:VEVENT
DTSTART;TZID=Europe/Berlin:20230819T100000
DTEND;TZID=Europe/Berlin:20230819T120000
DTSTAMP:20260422T213124
CREATED:20230818T092309Z
LAST-MODIFIED:20231112T192940Z
UID:10000578-1692439200-1692446400@schuetzengesellschaft-nassenbeuren.de
SUMMARY:GK LW Einschießen WBK Jäger/WL 100m
DESCRIPTION:
URL:https://schuetzengesellschaft-nassenbeuren.de/termin/gk-lw-einschiessen-wbk-jaeger-wl-100m-11/
LOCATION:100m LW Schießstand
CATEGORIES:Jagdlich
END:VEVENT
BEGIN:VEVENT
DTSTART;TZID=Europe/Berlin:20230716T100000
DTEND;TZID=Europe/Berlin:20230716T120000
DTSTAMP:20260422T213124
CREATED:20230528T145843Z
LAST-MODIFIED:20230528T145843Z
UID:10000563-1689501600-1689508800@schuetzengesellschaft-nassenbeuren.de
SUMMARY:Sommerfest Abbau
DESCRIPTION:
URL:https://schuetzengesellschaft-nassenbeuren.de/termin/sommerfest-abbau-2/
LOCATION:Schützenheim
CATEGORIES:Arbeit
END:VEVENT
BEGIN:VEVENT
DTSTART;TZID=Europe/Berlin:20230715T100000
DTEND;TZID=Europe/Berlin:20230715T120000
DTSTAMP:20260422T213124
CREATED:20230528T145843Z
LAST-MODIFIED:20230528T145843Z
UID:10000562-1689415200-1689422400@schuetzengesellschaft-nassenbeuren.de
SUMMARY:Sommerfest Aufbau Rest
DESCRIPTION:
URL:https://schuetzengesellschaft-nassenbeuren.de/termin/sommerfest-aufbau-rest/
LOCATION:Schützenheim
CATEGORIES:Arbeit
END:VEVENT
BEGIN:VEVENT
DTSTART;TZID=Europe/Berlin:20230714T170000
DTEND;TZID=Europe/Berlin:20230714T190000
DTSTAMP:20260422T213124
CREATED:20230528T145843Z
LAST-MODIFIED:20230528T145843Z
UID:10000561-1689354000-1689361200@schuetzengesellschaft-nassenbeuren.de
SUMMARY:Sommerfest Aufbau Zelt
DESCRIPTION:
URL:https://schuetzengesellschaft-nassenbeuren.de/termin/sommerfest-aufbau-zelt/
LOCATION:Schützenheim
CATEGORIES:Arbeit
END:VEVENT
BEGIN:VEVENT
DTSTART;TZID=Europe/Berlin:20230429T130000
DTEND;TZID=Europe/Berlin:20230429T150000
DTSTAMP:20260422T213124
CREATED:20230423T174134Z
LAST-MODIFIED:20230424T160637Z
UID:10000498-1682773200-1682780400@schuetzengesellschaft-nassenbeuren.de
SUMMARY:Jagdliches Einschießen/Nachtsicht/Wärmebild 100m
DESCRIPTION:Bei Interesse an der Teilname bitte Email senden an: enlutz100meter@gmx.de
URL:https://schuetzengesellschaft-nassenbeuren.de/termin/jagdliches-einschiessen-nachtsicht-waermebild-100m/
LOCATION:100m LW Schießstand
CATEGORIES:Jagdlich
END:VEVENT
END:VCALENDAR