BEGIN:VCALENDAR
VERSION:2.0
PRODID:-//Kgl. priv. Schützengesellschaft Nassenbeuren - ECPv6.15.18//NONSGML v1.0//EN
CALSCALE:GREGORIAN
METHOD:PUBLISH
X-WR-CALNAME:Kgl. priv. Schützengesellschaft Nassenbeuren
X-ORIGINAL-URL:https://schuetzengesellschaft-nassenbeuren.de
X-WR-CALDESC:Veranstaltungen für Kgl. priv. Schützengesellschaft Nassenbeuren
REFRESH-INTERVAL;VALUE=DURATION:PT1H
X-Robots-Tag:noindex
X-PUBLISHED-TTL:PT1H
BEGIN:VTIMEZONE
TZID:Europe/Berlin
BEGIN:DAYLIGHT
TZOFFSETFROM:+0100
TZOFFSETTO:+0200
TZNAME:CEST
DTSTART:20250330T010000
END:DAYLIGHT
BEGIN:STANDARD
TZOFFSETFROM:+0200
TZOFFSETTO:+0100
TZNAME:CET
DTSTART:20251026T010000
END:STANDARD
BEGIN:DAYLIGHT
TZOFFSETFROM:+0100
TZOFFSETTO:+0200
TZNAME:CEST
DTSTART:20260329T010000
END:DAYLIGHT
BEGIN:STANDARD
TZOFFSETFROM:+0200
TZOFFSETTO:+0100
TZNAME:CET
DTSTART:20261025T010000
END:STANDARD
BEGIN:DAYLIGHT
TZOFFSETFROM:+0100
TZOFFSETTO:+0200
TZNAME:CEST
DTSTART:20270328T010000
END:DAYLIGHT
BEGIN:STANDARD
TZOFFSETFROM:+0200
TZOFFSETTO:+0100
TZNAME:CET
DTSTART:20271031T010000
END:STANDARD
END:VTIMEZONE
BEGIN:VEVENT
DTSTART;TZID=Europe/Berlin:20260424T150000
DTEND;TZID=Europe/Berlin:20260424T170000
DTSTAMP:20260422T154012
CREATED:20260420T141647Z
LAST-MODIFIED:20260420T141647Z
UID:10002876-1777042800-1777050000@schuetzengesellschaft-nassenbeuren.de
SUMMARY:GK LW Einschießen WBK Jäger/WL 100m
DESCRIPTION:Für angemeldete Schützen mit Langwaffen in jagdlichen Kalibern auf dem 100m-Stand\, mit oder ohne Schalldämpfer.\nEinschießen\, Prüfen und Justieren von Zielfernrohren\, Vorsatzgeräten und Wärmebildkameras für Jäger\, V0-Messung für Wiederlader.\nBei Interesse an der Teilname bitte Email senden an: 2sm@schuetzengesellschaft-nassenbeuren.de\nAchtung: Verwendung von Solid-Geschossen ist derzeit nicht erlaubt!
URL:https://schuetzengesellschaft-nassenbeuren.de/termin/gk-lw-einschiessen-wbk-jaeger-wl-100m-62/
LOCATION:100m LW Schießstand
CATEGORIES:Jagdlich
ATTACH;FMTTYPE=image/jpeg:https://schuetzengesellschaft-nassenbeuren.de/wp-content/uploads/100m_therm_1067.jpg
END:VEVENT
BEGIN:VEVENT
DTSTART;TZID=Europe/Berlin:20260509T090000
DTEND;TZID=Europe/Berlin:20260509T110000
DTSTAMP:20260422T154012
CREATED:20260105T150021Z
LAST-MODIFIED:20260106T102221Z
UID:10002643-1778317200-1778324400@schuetzengesellschaft-nassenbeuren.de
SUMMARY:Schießstand Reinigung 100m Frühjahr
DESCRIPTION:Im Rahmen der Generalreinigung und -wartung sollen folgende Maßnahmen durchgeführt werden: \n\nGeschossfang-Zustand prüfen\nSand aufhäufeln\nSeitenwände und Ablagetische absaugen\nElektrischen Betriebseinrichtungen prüfen\, Mängel beseitigen\nNotaus\, Notbeleuchtung\, Erste-Hilfe-Kasten und Feuerlöscher prüfen\nReinigung und Inspektion der Lüftungskanäle/Filter
URL:https://schuetzengesellschaft-nassenbeuren.de/termin/schiessstand-reinigung-100m-fruehjahr/
LOCATION:100m LW Schießstand
CATEGORIES:Arbeit
END:VEVENT
BEGIN:VEVENT
DTSTART;TZID=Europe/Berlin:20261107T090000
DTEND;TZID=Europe/Berlin:20261107T110000
DTSTAMP:20260422T154012
CREATED:20260105T150217Z
LAST-MODIFIED:20260106T102216Z
UID:10002644-1794042000-1794049200@schuetzengesellschaft-nassenbeuren.de
SUMMARY:Schießstand Reinigung 100m Herbst
DESCRIPTION:Im Rahmen der Generalreinigung und -wartung sollen folgende Maßnahmen durchgeführt werden: \n\nGeschossfang-Zustand prüfen\nSand aufhäufeln\nSeitenwände und Ablagetische absaugen\nElektrischen Betriebseinrichtungen prüfen\, Mängel beseitigen\nNotaus\, Notbeleuchtung\, Erste-Hilfe-Kasten und Feuerlöscher prüfen\nReinigung und Inspektion der Lüftungskanäle/Filter
URL:https://schuetzengesellschaft-nassenbeuren.de/termin/schiessstand-reinigung-100m-herbst/
LOCATION:100m LW Schießstand
CATEGORIES:Arbeit
END:VEVENT
END:VCALENDAR