BEGIN:VCALENDAR
VERSION:2.0
PRODID:-//Kgl. priv. Schützengesellschaft Nassenbeuren - ECPv6.15.18//NONSGML v1.0//EN
CALSCALE:GREGORIAN
METHOD:PUBLISH
X-WR-CALNAME:Kgl. priv. Schützengesellschaft Nassenbeuren
X-ORIGINAL-URL:https://schuetzengesellschaft-nassenbeuren.de
X-WR-CALDESC:Veranstaltungen für Kgl. priv. Schützengesellschaft Nassenbeuren
REFRESH-INTERVAL;VALUE=DURATION:PT1H
X-Robots-Tag:noindex
X-PUBLISHED-TTL:PT1H
BEGIN:VTIMEZONE
TZID:Europe/Berlin
BEGIN:DAYLIGHT
TZOFFSETFROM:+0100
TZOFFSETTO:+0200
TZNAME:CEST
DTSTART:20220327T010000
END:DAYLIGHT
BEGIN:STANDARD
TZOFFSETFROM:+0200
TZOFFSETTO:+0100
TZNAME:CET
DTSTART:20221030T010000
END:STANDARD
BEGIN:DAYLIGHT
TZOFFSETFROM:+0100
TZOFFSETTO:+0200
TZNAME:CEST
DTSTART:20230326T010000
END:DAYLIGHT
BEGIN:STANDARD
TZOFFSETFROM:+0200
TZOFFSETTO:+0100
TZNAME:CET
DTSTART:20231029T010000
END:STANDARD
BEGIN:DAYLIGHT
TZOFFSETFROM:+0100
TZOFFSETTO:+0200
TZNAME:CEST
DTSTART:20240331T010000
END:DAYLIGHT
BEGIN:STANDARD
TZOFFSETFROM:+0200
TZOFFSETTO:+0100
TZNAME:CET
DTSTART:20241027T010000
END:STANDARD
END:VTIMEZONE
BEGIN:VEVENT
DTSTART;TZID=Europe/Berlin:20231105T180000
DTEND;TZID=Europe/Berlin:20231105T210000
DTSTAMP:20260423T052938
CREATED:20230515T151003Z
LAST-MODIFIED:20230515T151003Z
UID:10000544-1699207200-1699218000@schuetzengesellschaft-nassenbeuren.de
SUMMARY:RAG GK/KK-KW KK-LW 25m
DESCRIPTION:RAG-Schießsport Allgäu Mindelheim\, externe Teilnehmer – geschlossene Veranstaltung\, Teilnahme am Schießbetrieb nur nach jährlicher Teilnahme an der Sicherheitsbelehrung\, Unregelmäßige Teilnehmer vorher beim Schießleiter W. Ertl anrufen!
URL:https://schuetzengesellschaft-nassenbeuren.de/termin/rag-gk-kk-kw-kk-lw-25m-12/
LOCATION:25m KW Schießstand
CATEGORIES:Training
END:VEVENT
BEGIN:VEVENT
DTSTART;TZID=Europe/Berlin:20231015T180000
DTEND;TZID=Europe/Berlin:20231015T210000
DTSTAMP:20260423T052938
CREATED:20230515T151003Z
LAST-MODIFIED:20230515T151003Z
UID:10000543-1697392800-1697403600@schuetzengesellschaft-nassenbeuren.de
SUMMARY:RAG GK/KK-KW KK-LW 25m
DESCRIPTION:RAG-Schießsport Allgäu Mindelheim\, externe Teilnehmer – geschlossene Veranstaltung\, Teilnahme am Schießbetrieb nur nach jährlicher Teilnahme an der Sicherheitsbelehrung\, Unregelmäßige Teilnehmer vorher beim Schießleiter W. Ertl anrufen!
URL:https://schuetzengesellschaft-nassenbeuren.de/termin/rag-gk-kk-kw-kk-lw-25m-11/
LOCATION:25m KW Schießstand
CATEGORIES:Training
END:VEVENT
BEGIN:VEVENT
DTSTART;TZID=Europe/Berlin:20231001T180000
DTEND;TZID=Europe/Berlin:20231001T210000
DTSTAMP:20260423T052938
CREATED:20230515T150958Z
LAST-MODIFIED:20230515T150958Z
UID:10000542-1696183200-1696194000@schuetzengesellschaft-nassenbeuren.de
SUMMARY:RAG GK/KK-KW KK-LW 25m
DESCRIPTION:RAG-Schießsport Allgäu Mindelheim\, externe Teilnehmer – geschlossene Veranstaltung\, Teilnahme am Schießbetrieb nur nach jährlicher Teilnahme an der Sicherheitsbelehrung\, Unregelmäßige Teilnehmer vorher beim Schießleiter W. Ertl anrufen!
URL:https://schuetzengesellschaft-nassenbeuren.de/termin/rag-gk-kk-kw-kk-lw-25m-10/
LOCATION:25m KW Schießstand
CATEGORIES:Training
END:VEVENT
BEGIN:VEVENT
DTSTART;TZID=Europe/Berlin:20230917T180000
DTEND;TZID=Europe/Berlin:20230917T210000
DTSTAMP:20260423T052938
CREATED:20230515T150958Z
LAST-MODIFIED:20230515T150958Z
UID:10000541-1694973600-1694984400@schuetzengesellschaft-nassenbeuren.de
SUMMARY:RAG GK/KK-KW KK-LW 25m
DESCRIPTION:RAG-Schießsport Allgäu Mindelheim\, externe Teilnehmer – geschlossene Veranstaltung\, Teilnahme am Schießbetrieb nur nach jährlicher Teilnahme an der Sicherheitsbelehrung\, Unregelmäßige Teilnehmer vorher beim Schießleiter W. Ertl anrufen!
URL:https://schuetzengesellschaft-nassenbeuren.de/termin/rag-gk-kk-kw-kk-lw-25m-9/
LOCATION:25m KW Schießstand
CATEGORIES:Training
END:VEVENT
BEGIN:VEVENT
DTSTART;TZID=Europe/Berlin:20230903T180000
DTEND;TZID=Europe/Berlin:20230903T210000
DTSTAMP:20260423T052938
CREATED:20230515T150958Z
LAST-MODIFIED:20230515T150958Z
UID:10000540-1693764000-1693774800@schuetzengesellschaft-nassenbeuren.de
SUMMARY:RAG GK/KK-KW KK-LW 25m
DESCRIPTION:RAG-Schießsport Allgäu Mindelheim\, externe Teilnehmer – geschlossene Veranstaltung\, Teilnahme am Schießbetrieb nur nach jährlicher Teilnahme an der Sicherheitsbelehrung\, Unregelmäßige Teilnehmer vorher beim Schießleiter W. Ertl anrufen!
URL:https://schuetzengesellschaft-nassenbeuren.de/termin/rag-gk-kk-kw-kk-lw-25m-8/
LOCATION:25m KW Schießstand
CATEGORIES:Training
END:VEVENT
BEGIN:VEVENT
DTSTART;TZID=Europe/Berlin:20230820T180000
DTEND;TZID=Europe/Berlin:20230820T210000
DTSTAMP:20260423T052938
CREATED:20230515T150958Z
LAST-MODIFIED:20230515T150958Z
UID:10000539-1692554400-1692565200@schuetzengesellschaft-nassenbeuren.de
SUMMARY:RAG GK/KK-KW KK-LW 25m
DESCRIPTION:RAG-Schießsport Allgäu Mindelheim\, externe Teilnehmer – geschlossene Veranstaltung\, Teilnahme am Schießbetrieb nur nach jährlicher Teilnahme an der Sicherheitsbelehrung\, Unregelmäßige Teilnehmer vorher beim Schießleiter W. Ertl anrufen!
URL:https://schuetzengesellschaft-nassenbeuren.de/termin/rag-gk-kk-kw-kk-lw-25m-7/
LOCATION:25m KW Schießstand
CATEGORIES:Training
END:VEVENT
BEGIN:VEVENT
DTSTART;TZID=Europe/Berlin:20230806T180000
DTEND;TZID=Europe/Berlin:20230806T210000
DTSTAMP:20260423T052938
CREATED:20230515T150958Z
LAST-MODIFIED:20230515T150958Z
UID:10000538-1691344800-1691355600@schuetzengesellschaft-nassenbeuren.de
SUMMARY:RAG GK/KK-KW KK-LW 25m
DESCRIPTION:RAG-Schießsport Allgäu Mindelheim\, externe Teilnehmer – geschlossene Veranstaltung\, Teilnahme am Schießbetrieb nur nach jährlicher Teilnahme an der Sicherheitsbelehrung\, Unregelmäßige Teilnehmer vorher beim Schießleiter W. Ertl anrufen!
URL:https://schuetzengesellschaft-nassenbeuren.de/termin/rag-gk-kk-kw-kk-lw-25m-6/
LOCATION:25m KW Schießstand
CATEGORIES:Training
END:VEVENT
BEGIN:VEVENT
DTSTART;TZID=Europe/Berlin:20230716T180000
DTEND;TZID=Europe/Berlin:20230716T210000
DTSTAMP:20260423T052938
CREATED:20230515T150956Z
LAST-MODIFIED:20230515T150956Z
UID:10000537-1689530400-1689541200@schuetzengesellschaft-nassenbeuren.de
SUMMARY:RAG GK/KK-KW KK-LW 25m
DESCRIPTION:RAG-Schießsport Allgäu Mindelheim\, externe Teilnehmer – geschlossene Veranstaltung\, Teilnahme am Schießbetrieb nur nach jährlicher Teilnahme an der Sicherheitsbelehrung\, Unregelmäßige Teilnehmer vorher beim Schießleiter W. Ertl anrufen!
URL:https://schuetzengesellschaft-nassenbeuren.de/termin/rag-gk-kk-kw-kk-lw-25m-5/
LOCATION:25m KW Schießstand
CATEGORIES:Training
END:VEVENT
BEGIN:VEVENT
DTSTART;TZID=Europe/Berlin:20230702T180000
DTEND;TZID=Europe/Berlin:20230702T210000
DTSTAMP:20260423T052938
CREATED:20230515T150956Z
LAST-MODIFIED:20230515T150956Z
UID:10000536-1688320800-1688331600@schuetzengesellschaft-nassenbeuren.de
SUMMARY:RAG GK/KK-KW KK-LW 25m
DESCRIPTION:RAG-Schießsport Allgäu Mindelheim\, externe Teilnehmer – geschlossene Veranstaltung\, Teilnahme am Schießbetrieb nur nach jährlicher Teilnahme an der Sicherheitsbelehrung\, Unregelmäßige Teilnehmer vorher beim Schießleiter W. Ertl anrufen!
URL:https://schuetzengesellschaft-nassenbeuren.de/termin/rag-gk-kk-kw-kk-lw-25m-4/
LOCATION:25m KW Schießstand
CATEGORIES:Training
END:VEVENT
BEGIN:VEVENT
DTSTART;TZID=Europe/Berlin:20230618T180000
DTEND;TZID=Europe/Berlin:20230618T210000
DTSTAMP:20260423T052938
CREATED:20230515T150956Z
LAST-MODIFIED:20230515T150956Z
UID:10000535-1687111200-1687122000@schuetzengesellschaft-nassenbeuren.de
SUMMARY:RAG GK/KK-KW KK-LW 25m
DESCRIPTION:RAG-Schießsport Allgäu Mindelheim\, externe Teilnehmer – geschlossene Veranstaltung\, Teilnahme am Schießbetrieb nur nach jährlicher Teilnahme an der Sicherheitsbelehrung\, Unregelmäßige Teilnehmer vorher beim Schießleiter W. Ertl anrufen!
URL:https://schuetzengesellschaft-nassenbeuren.de/termin/rag-gk-kk-kw-kk-lw-25m-3/
LOCATION:25m KW Schießstand
CATEGORIES:Training
END:VEVENT
BEGIN:VEVENT
DTSTART;TZID=Europe/Berlin:20230604T180000
DTEND;TZID=Europe/Berlin:20230604T210000
DTSTAMP:20260423T052938
CREATED:20230515T150956Z
LAST-MODIFIED:20230515T150956Z
UID:10000534-1685901600-1685912400@schuetzengesellschaft-nassenbeuren.de
SUMMARY:RAG GK/KK-KW KK-LW 25m
DESCRIPTION:RAG-Schießsport Allgäu Mindelheim\, externe Teilnehmer – geschlossene Veranstaltung\, Teilnahme am Schießbetrieb nur nach jährlicher Teilnahme an der Sicherheitsbelehrung\, Unregelmäßige Teilnehmer vorher beim Schießleiter W. Ertl anrufen!
URL:https://schuetzengesellschaft-nassenbeuren.de/termin/rag-gk-kk-kw-kk-lw-25m-2/
LOCATION:25m KW Schießstand
CATEGORIES:Training
END:VEVENT
BEGIN:VEVENT
DTSTART;TZID=Europe/Berlin:20230521T180000
DTEND;TZID=Europe/Berlin:20230521T210000
DTSTAMP:20260423T052938
CREATED:20230515T150956Z
LAST-MODIFIED:20230515T150956Z
UID:10000533-1684692000-1684702800@schuetzengesellschaft-nassenbeuren.de
SUMMARY:RAG GK/KK-KW KK-LW 25m
DESCRIPTION:RAG-Schießsport Allgäu Mindelheim\, externe Teilnehmer – geschlossene Veranstaltung\, Teilnahme am Schießbetrieb nur nach jährlicher Teilnahme an der Sicherheitsbelehrung\, Unregelmäßige Teilnehmer vorher beim Schießleiter W. Ertl anrufen!
URL:https://schuetzengesellschaft-nassenbeuren.de/termin/rag-gk-kk-kw-kk-lw-25m/
LOCATION:25m KW Schießstand
CATEGORIES:Training
END:VEVENT
END:VCALENDAR