BEGIN:VCALENDAR
VERSION:2.0
PRODID:-//Kgl. priv. Schützengesellschaft Nassenbeuren - ECPv6.15.18//NONSGML v1.0//EN
CALSCALE:GREGORIAN
METHOD:PUBLISH
X-WR-CALNAME:Kgl. priv. Schützengesellschaft Nassenbeuren
X-ORIGINAL-URL:https://schuetzengesellschaft-nassenbeuren.de
X-WR-CALDESC:Veranstaltungen für Kgl. priv. Schützengesellschaft Nassenbeuren
REFRESH-INTERVAL;VALUE=DURATION:PT1H
X-Robots-Tag:noindex
X-PUBLISHED-TTL:PT1H
BEGIN:VTIMEZONE
TZID:Europe/Berlin
BEGIN:DAYLIGHT
TZOFFSETFROM:+0100
TZOFFSETTO:+0200
TZNAME:CEST
DTSTART:20230326T010000
END:DAYLIGHT
BEGIN:STANDARD
TZOFFSETFROM:+0200
TZOFFSETTO:+0100
TZNAME:CET
DTSTART:20231029T010000
END:STANDARD
BEGIN:DAYLIGHT
TZOFFSETFROM:+0100
TZOFFSETTO:+0200
TZNAME:CEST
DTSTART:20240331T010000
END:DAYLIGHT
BEGIN:STANDARD
TZOFFSETFROM:+0200
TZOFFSETTO:+0100
TZNAME:CET
DTSTART:20241027T010000
END:STANDARD
BEGIN:DAYLIGHT
TZOFFSETFROM:+0100
TZOFFSETTO:+0200
TZNAME:CEST
DTSTART:20250330T010000
END:DAYLIGHT
BEGIN:STANDARD
TZOFFSETFROM:+0200
TZOFFSETTO:+0100
TZNAME:CET
DTSTART:20251026T010000
END:STANDARD
BEGIN:DAYLIGHT
TZOFFSETFROM:+0100
TZOFFSETTO:+0200
TZNAME:CEST
DTSTART:20260329T010000
END:DAYLIGHT
BEGIN:STANDARD
TZOFFSETFROM:+0200
TZOFFSETTO:+0100
TZNAME:CET
DTSTART:20261025T010000
END:STANDARD
BEGIN:DAYLIGHT
TZOFFSETFROM:+0100
TZOFFSETTO:+0200
TZNAME:CEST
DTSTART:20270328T010000
END:DAYLIGHT
BEGIN:STANDARD
TZOFFSETFROM:+0200
TZOFFSETTO:+0100
TZNAME:CET
DTSTART:20271031T010000
END:STANDARD
END:VTIMEZONE
BEGIN:VEVENT
DTSTART;TZID=Europe/Berlin:20260306T193000
DTEND;TZID=Europe/Berlin:20260306T220000
DTSTAMP:20260422T202523
CREATED:20260126T151009Z
LAST-MODIFIED:20260126T151009Z
UID:10002830-1772825400-1772834400@schuetzengesellschaft-nassenbeuren.de
SUMMARY:GK/KK KW 25m
DESCRIPTION:Offenes Training – Freitagsschützen
URL:https://schuetzengesellschaft-nassenbeuren.de/termin/gk-kk-kw-25m-319/
LOCATION:25m KW Schießstand
END:VEVENT
BEGIN:VEVENT
DTSTART;TZID=Europe/Berlin:20260301T090000
DTEND;TZID=Europe/Berlin:20260301T110000
DTSTAMP:20260422T202523
CREATED:20260105T150500Z
LAST-MODIFIED:20260105T150500Z
UID:10002652-1772355600-1772362800@schuetzengesellschaft-nassenbeuren.de
SUMMARY:GK/KK KW 25m
DESCRIPTION:Offenes Training für Mitglieder\, Präzision und Duell\, KK und GK
URL:https://schuetzengesellschaft-nassenbeuren.de/termin/gk-kk-kw-25m-296/
LOCATION:25m KW Schießstand
CATEGORIES:Training
END:VEVENT
BEGIN:VEVENT
DTSTART;TZID=Europe/Berlin:20260213T193000
DTEND;TZID=Europe/Berlin:20260213T220000
DTSTAMP:20260422T202523
CREATED:20260126T151008Z
LAST-MODIFIED:20260126T151008Z
UID:10002829-1771011000-1771020000@schuetzengesellschaft-nassenbeuren.de
SUMMARY:GK/KK KW 25m
DESCRIPTION:Offenes Training – Freitagsschützen
URL:https://schuetzengesellschaft-nassenbeuren.de/termin/gk-kk-kw-25m-227/
LOCATION:25m KW Schießstand
END:VEVENT
BEGIN:VEVENT
DTSTART;TZID=Europe/Berlin:20260109T193000
DTEND;TZID=Europe/Berlin:20260109T220000
DTSTAMP:20260422T202523
CREATED:20260109T165406Z
LAST-MODIFIED:20260126T150855Z
UID:10002782-1767987000-1767996000@schuetzengesellschaft-nassenbeuren.de
SUMMARY:GK/KK KW 25m - extra
DESCRIPTION:Offenes Training – Freitagsschützen
URL:https://schuetzengesellschaft-nassenbeuren.de/termin/gk-kk-kw-25m-318/
LOCATION:25m KW Schießstand
CATEGORIES:Training
END:VEVENT
BEGIN:VEVENT
DTSTART;TZID=Europe/Berlin:20250404T193000
DTEND;TZID=Europe/Berlin:20250404T213000
DTSTAMP:20260422T202523
CREATED:20250302T214531Z
LAST-MODIFIED:20250302T223052Z
UID:10001782-1743795000-1743802200@schuetzengesellschaft-nassenbeuren.de
SUMMARY:Osterhasenschießen KW
DESCRIPTION:Alle Kaliber: Einlage 9€ – Nachkauf 1€
URL:https://schuetzengesellschaft-nassenbeuren.de/termin/osterhasenschiessen-kw-4/
LOCATION:25m KW Schießstand
CATEGORIES:Wettkampf
END:VEVENT
BEGIN:VEVENT
DTSTART;TZID=Europe/Berlin:20240315T193000
DTEND;TZID=Europe/Berlin:20240315T213000
DTSTAMP:20260422T202523
CREATED:20240226T203943Z
LAST-MODIFIED:20240313T094821Z
UID:10000779-1710531000-1710538200@schuetzengesellschaft-nassenbeuren.de
SUMMARY:Osterhasenschießen KK
DESCRIPTION:Alle Kaliber: Einlage 9€\, Nachkauf 1€
URL:https://schuetzengesellschaft-nassenbeuren.de/termin/osterhasenschiessen-kk-10/
LOCATION:25m KW Schießstand
CATEGORIES:Wettkampf
END:VEVENT
END:VCALENDAR