BEGIN:VCALENDAR
VERSION:2.0
PRODID:-//Kgl. priv. Schützengesellschaft Nassenbeuren - ECPv6.15.18//NONSGML v1.0//EN
CALSCALE:GREGORIAN
METHOD:PUBLISH
X-ORIGINAL-URL:https://schuetzengesellschaft-nassenbeuren.de
X-WR-CALDESC:Veranstaltungen für Kgl. priv. Schützengesellschaft Nassenbeuren
REFRESH-INTERVAL;VALUE=DURATION:PT1H
X-Robots-Tag:noindex
X-PUBLISHED-TTL:PT1H
BEGIN:VTIMEZONE
TZID:Europe/Berlin
BEGIN:DAYLIGHT
TZOFFSETFROM:+0100
TZOFFSETTO:+0200
TZNAME:CEST
DTSTART:20250330T010000
END:DAYLIGHT
BEGIN:STANDARD
TZOFFSETFROM:+0200
TZOFFSETTO:+0100
TZNAME:CET
DTSTART:20251026T010000
END:STANDARD
BEGIN:DAYLIGHT
TZOFFSETFROM:+0100
TZOFFSETTO:+0200
TZNAME:CEST
DTSTART:20260329T010000
END:DAYLIGHT
BEGIN:STANDARD
TZOFFSETFROM:+0200
TZOFFSETTO:+0100
TZNAME:CET
DTSTART:20261025T010000
END:STANDARD
BEGIN:DAYLIGHT
TZOFFSETFROM:+0100
TZOFFSETTO:+0200
TZNAME:CEST
DTSTART:20270328T010000
END:DAYLIGHT
BEGIN:STANDARD
TZOFFSETFROM:+0200
TZOFFSETTO:+0100
TZNAME:CET
DTSTART:20271031T010000
END:STANDARD
END:VTIMEZONE
BEGIN:VEVENT
DTSTART;TZID=Europe/Berlin:20260505T183000
DTEND;TZID=Europe/Berlin:20260505T203000
DTSTAMP:20260422T172141
CREATED:20251227T143423Z
LAST-MODIFIED:20260105T135405Z
UID:10002566-1778005800-1778013000@schuetzengesellschaft-nassenbeuren.de
SUMMARY:LW 100m – Training
DESCRIPTION:
URL:https://schuetzengesellschaft-nassenbeuren.de/termin/lw-100m-training-16/
LOCATION:100m LW Schießstand
CATEGORIES:Training
END:VEVENT
BEGIN:VEVENT
DTSTART;TZID=Europe/Berlin:20260518T183000
DTEND;TZID=Europe/Berlin:20260518T203000
DTSTAMP:20260422T172141
CREATED:20251227T143424Z
LAST-MODIFIED:20260105T135600Z
UID:10002567-1779129000-1779136200@schuetzengesellschaft-nassenbeuren.de
SUMMARY:LW 100m – Training
DESCRIPTION:
URL:https://schuetzengesellschaft-nassenbeuren.de/termin/lw-100m-training-17/
LOCATION:100m LW Schießstand
CATEGORIES:Training
END:VEVENT
BEGIN:VEVENT
DTSTART;TZID=Europe/Berlin:20260602T183000
DTEND;TZID=Europe/Berlin:20260602T203000
DTSTAMP:20260422T172141
CREATED:20251227T143436Z
LAST-MODIFIED:20260105T135601Z
UID:10002568-1780425000-1780432200@schuetzengesellschaft-nassenbeuren.de
SUMMARY:LW 100m – Training
DESCRIPTION:
URL:https://schuetzengesellschaft-nassenbeuren.de/termin/lw-100m-training-18/
LOCATION:100m LW Schießstand
CATEGORIES:Training
END:VEVENT
BEGIN:VEVENT
DTSTART;TZID=Europe/Berlin:20260615T183000
DTEND;TZID=Europe/Berlin:20260615T203000
DTSTAMP:20260422T172141
CREATED:20251227T143437Z
LAST-MODIFIED:20260105T135603Z
UID:10002569-1781548200-1781555400@schuetzengesellschaft-nassenbeuren.de
SUMMARY:LW 100m – Training
DESCRIPTION:
URL:https://schuetzengesellschaft-nassenbeuren.de/termin/lw-100m-training-19/
LOCATION:100m LW Schießstand
CATEGORIES:Training
END:VEVENT
BEGIN:VEVENT
DTSTART;TZID=Europe/Berlin:20260630T183000
DTEND;TZID=Europe/Berlin:20260630T203000
DTSTAMP:20260422T172141
CREATED:20251227T143438Z
LAST-MODIFIED:20260105T135604Z
UID:10002570-1782844200-1782851400@schuetzengesellschaft-nassenbeuren.de
SUMMARY:LW 100m – Training
DESCRIPTION:
URL:https://schuetzengesellschaft-nassenbeuren.de/termin/lw-100m-training-20/
LOCATION:100m LW Schießstand
CATEGORIES:Training
END:VEVENT
BEGIN:VEVENT
DTSTART;TZID=Europe/Berlin:20260713T183000
DTEND;TZID=Europe/Berlin:20260713T203000
DTSTAMP:20260422T172141
CREATED:20251227T143438Z
LAST-MODIFIED:20260105T135605Z
UID:10002571-1783967400-1783974600@schuetzengesellschaft-nassenbeuren.de
SUMMARY:LW 100m – Training
DESCRIPTION:
URL:https://schuetzengesellschaft-nassenbeuren.de/termin/lw-100m-training-21/
LOCATION:100m LW Schießstand
CATEGORIES:Training
END:VEVENT
BEGIN:VEVENT
DTSTART;TZID=Europe/Berlin:20260728T183000
DTEND;TZID=Europe/Berlin:20260728T203000
DTSTAMP:20260422T172141
CREATED:20251227T143439Z
LAST-MODIFIED:20260105T135800Z
UID:10002572-1785263400-1785270600@schuetzengesellschaft-nassenbeuren.de
SUMMARY:LW 100m – Training
DESCRIPTION:
URL:https://schuetzengesellschaft-nassenbeuren.de/termin/lw-100m-training-22/
LOCATION:100m LW Schießstand
CATEGORIES:Training
END:VEVENT
BEGIN:VEVENT
DTSTART;TZID=Europe/Berlin:20260810T183000
DTEND;TZID=Europe/Berlin:20260810T203000
DTSTAMP:20260422T172141
CREATED:20251227T143451Z
LAST-MODIFIED:20260105T135802Z
UID:10002573-1786386600-1786393800@schuetzengesellschaft-nassenbeuren.de
SUMMARY:LW 100m – Training
DESCRIPTION:
URL:https://schuetzengesellschaft-nassenbeuren.de/termin/lw-100m-training-23/
LOCATION:100m LW Schießstand
CATEGORIES:Training
END:VEVENT
BEGIN:VEVENT
DTSTART;TZID=Europe/Berlin:20260825T183000
DTEND;TZID=Europe/Berlin:20260825T203000
DTSTAMP:20260422T172141
CREATED:20251227T143452Z
LAST-MODIFIED:20260105T135803Z
UID:10002574-1787682600-1787689800@schuetzengesellschaft-nassenbeuren.de
SUMMARY:LW 100m – Training
DESCRIPTION:
URL:https://schuetzengesellschaft-nassenbeuren.de/termin/lw-100m-training-24/
LOCATION:100m LW Schießstand
CATEGORIES:Training
END:VEVENT
BEGIN:VEVENT
DTSTART;TZID=Europe/Berlin:20260907T183000
DTEND;TZID=Europe/Berlin:20260907T203000
DTSTAMP:20260422T172141
CREATED:20251227T143453Z
LAST-MODIFIED:20260105T135804Z
UID:10002575-1788805800-1788813000@schuetzengesellschaft-nassenbeuren.de
SUMMARY:LW 100m – Training
DESCRIPTION:
URL:https://schuetzengesellschaft-nassenbeuren.de/termin/lw-100m-training-25/
LOCATION:100m LW Schießstand
CATEGORIES:Training
END:VEVENT
BEGIN:VEVENT
DTSTART;TZID=Europe/Berlin:20260922T183000
DTEND;TZID=Europe/Berlin:20260922T203000
DTSTAMP:20260422T172141
CREATED:20251227T143453Z
LAST-MODIFIED:20260105T135805Z
UID:10002576-1790101800-1790109000@schuetzengesellschaft-nassenbeuren.de
SUMMARY:LW 100m – Training
DESCRIPTION:
URL:https://schuetzengesellschaft-nassenbeuren.de/termin/lw-100m-training-26/
LOCATION:100m LW Schießstand
CATEGORIES:Training
END:VEVENT
BEGIN:VEVENT
DTSTART;TZID=Europe/Berlin:20261005T183000
DTEND;TZID=Europe/Berlin:20261005T203000
DTSTAMP:20260422T172141
CREATED:20251227T143454Z
LAST-MODIFIED:20260105T140000Z
UID:10002577-1791225000-1791232200@schuetzengesellschaft-nassenbeuren.de
SUMMARY:LW 100m – Training
DESCRIPTION:
URL:https://schuetzengesellschaft-nassenbeuren.de/termin/lw-100m-training-27/
LOCATION:100m LW Schießstand
CATEGORIES:Training
END:VEVENT
BEGIN:VEVENT
DTSTART;TZID=Europe/Berlin:20261011T090000
DTEND;TZID=Europe/Berlin:20261011T110000
DTSTAMP:20260422T172141
CREATED:20260105T150731Z
LAST-MODIFIED:20260105T150731Z
UID:10002668-1791709200-1791716400@schuetzengesellschaft-nassenbeuren.de
SUMMARY:GK/KK KW 25m
DESCRIPTION:Offenes Training für Mitglieder\, Präzision und Duell\, KK und GK
URL:https://schuetzengesellschaft-nassenbeuren.de/termin/gk-kk-kw-25m-312/
LOCATION:25m KW Schießstand
CATEGORIES:Training
END:VEVENT
BEGIN:VEVENT
DTSTART;TZID=Europe/Berlin:20261020T183000
DTEND;TZID=Europe/Berlin:20261020T203000
DTSTAMP:20260422T172141
CREATED:20251227T143507Z
LAST-MODIFIED:20260105T140002Z
UID:10002578-1792521000-1792528200@schuetzengesellschaft-nassenbeuren.de
SUMMARY:LW 100m – Training
DESCRIPTION:
URL:https://schuetzengesellschaft-nassenbeuren.de/termin/lw-100m-training-28/
LOCATION:100m LW Schießstand
CATEGORIES:Training
END:VEVENT
BEGIN:VEVENT
DTSTART;TZID=Europe/Berlin:20261102T183000
DTEND;TZID=Europe/Berlin:20261102T203000
DTSTAMP:20260422T172141
CREATED:20251227T143507Z
LAST-MODIFIED:20260105T140003Z
UID:10002579-1793644200-1793651400@schuetzengesellschaft-nassenbeuren.de
SUMMARY:LW 100m – Training
DESCRIPTION:
URL:https://schuetzengesellschaft-nassenbeuren.de/termin/lw-100m-training-29/
LOCATION:100m LW Schießstand
CATEGORIES:Training
END:VEVENT
BEGIN:VEVENT
DTSTART;TZID=Europe/Berlin:20261117T183000
DTEND;TZID=Europe/Berlin:20261117T203000
DTSTAMP:20260422T172141
CREATED:20251227T143508Z
LAST-MODIFIED:20260105T140004Z
UID:10002580-1794940200-1794947400@schuetzengesellschaft-nassenbeuren.de
SUMMARY:LW 100m – Training
DESCRIPTION:
URL:https://schuetzengesellschaft-nassenbeuren.de/termin/lw-100m-training-30/
LOCATION:100m LW Schießstand
CATEGORIES:Training
END:VEVENT
BEGIN:VEVENT
DTSTART;TZID=Europe/Berlin:20261130T183000
DTEND;TZID=Europe/Berlin:20261130T203000
DTSTAMP:20260422T172141
CREATED:20251227T143509Z
LAST-MODIFIED:20260105T140006Z
UID:10002581-1796063400-1796070600@schuetzengesellschaft-nassenbeuren.de
SUMMARY:LW 100m – Training
DESCRIPTION:
URL:https://schuetzengesellschaft-nassenbeuren.de/termin/lw-100m-training-31/
LOCATION:100m LW Schießstand
CATEGORIES:Training
END:VEVENT
BEGIN:VEVENT
DTSTART;TZID=Europe/Berlin:20261215T183000
DTEND;TZID=Europe/Berlin:20261215T203000
DTSTAMP:20260422T172141
CREATED:20251227T143510Z
LAST-MODIFIED:20260105T140200Z
UID:10002582-1797359400-1797366600@schuetzengesellschaft-nassenbeuren.de
SUMMARY:LW 100m – Training
DESCRIPTION:
URL:https://schuetzengesellschaft-nassenbeuren.de/termin/lw-100m-training-32/
LOCATION:100m LW Schießstand
CATEGORIES:Training
END:VEVENT
BEGIN:VEVENT
DTSTART;TZID=Europe/Berlin:20261228T183000
DTEND;TZID=Europe/Berlin:20261228T203000
DTSTAMP:20260422T172141
CREATED:20251227T143522Z
LAST-MODIFIED:20260105T140202Z
UID:10002583-1798482600-1798489800@schuetzengesellschaft-nassenbeuren.de
SUMMARY:LW 100m – Training
DESCRIPTION:
URL:https://schuetzengesellschaft-nassenbeuren.de/termin/lw-100m-training-33/
LOCATION:100m LW Schießstand
CATEGORIES:Training
END:VEVENT
END:VCALENDAR