BEGIN:VCALENDAR
VERSION:2.0
PRODID:-//Kgl. priv. Schützengesellschaft Nassenbeuren - ECPv6.15.18//NONSGML v1.0//EN
CALSCALE:GREGORIAN
METHOD:PUBLISH
X-WR-CALNAME:Kgl. priv. Schützengesellschaft Nassenbeuren
X-ORIGINAL-URL:https://schuetzengesellschaft-nassenbeuren.de
X-WR-CALDESC:Veranstaltungen für Kgl. priv. Schützengesellschaft Nassenbeuren
REFRESH-INTERVAL;VALUE=DURATION:PT1H
X-Robots-Tag:noindex
X-PUBLISHED-TTL:PT1H
BEGIN:VTIMEZONE
TZID:Europe/Berlin
BEGIN:DAYLIGHT
TZOFFSETFROM:+0100
TZOFFSETTO:+0200
TZNAME:CEST
DTSTART:20250330T010000
END:DAYLIGHT
BEGIN:STANDARD
TZOFFSETFROM:+0200
TZOFFSETTO:+0100
TZNAME:CET
DTSTART:20251026T010000
END:STANDARD
BEGIN:DAYLIGHT
TZOFFSETFROM:+0100
TZOFFSETTO:+0200
TZNAME:CEST
DTSTART:20260329T010000
END:DAYLIGHT
BEGIN:STANDARD
TZOFFSETFROM:+0200
TZOFFSETTO:+0100
TZNAME:CET
DTSTART:20261025T010000
END:STANDARD
BEGIN:DAYLIGHT
TZOFFSETFROM:+0100
TZOFFSETTO:+0200
TZNAME:CEST
DTSTART:20270328T010000
END:DAYLIGHT
BEGIN:STANDARD
TZOFFSETFROM:+0200
TZOFFSETTO:+0100
TZNAME:CET
DTSTART:20271031T010000
END:STANDARD
END:VTIMEZONE
BEGIN:VEVENT
DTSTART;TZID=Europe/Berlin:20260922T183000
DTEND;TZID=Europe/Berlin:20260922T203000
DTSTAMP:20260425T123251
CREATED:20251227T143453Z
LAST-MODIFIED:20260105T135805Z
UID:10002576-1790101800-1790109000@schuetzengesellschaft-nassenbeuren.de
SUMMARY:LW 100m – Training
DESCRIPTION:
URL:https://schuetzengesellschaft-nassenbeuren.de/termin/lw-100m-training-26/
LOCATION:100m LW Schießstand
CATEGORIES:Training
END:VEVENT
BEGIN:VEVENT
DTSTART;TZID=Europe/Berlin:20260926T140000
DTEND;TZID=Europe/Berlin:20260926T160000
DTSTAMP:20260425T123251
CREATED:20260125T215946Z
LAST-MODIFIED:20260125T215946Z
UID:10002821-1790431200-1790438400@schuetzengesellschaft-nassenbeuren.de
SUMMARY:GK / Ordonanz 100m Krieger und Soldatenkameradschaft Nassenbeuren
DESCRIPTION:Externe Teilnehmer – geschlossene Gesellschaft
URL:https://schuetzengesellschaft-nassenbeuren.de/termin/gk-ordonanz-100m-krieger-und-soldatenkameradschaft-nassenbeuren-4/
LOCATION:100m LW Schießstand
CATEGORIES:Training
END:VEVENT
BEGIN:VEVENT
DTSTART;TZID=Europe/Berlin:20260927T100000
DTEND;TZID=Europe/Berlin:20260927T130000
DTSTAMP:20260425T123251
CREATED:20251227T143622Z
LAST-MODIFIED:20260105T145817Z
UID:10002603-1790503200-1790514000@schuetzengesellschaft-nassenbeuren.de
SUMMARY:GK / Ordonanz 100m
DESCRIPTION:Offenes Training für Mitglieder
URL:https://schuetzengesellschaft-nassenbeuren.de/termin/gk-ordonanz-100m-132/
LOCATION:100m LW Schießstand
CATEGORIES:Training
END:VEVENT
END:VCALENDAR