BEGIN:VCALENDAR
VERSION:2.0
PRODID:-//Kgl. priv. Schützengesellschaft Nassenbeuren - ECPv6.15.18//NONSGML v1.0//EN
CALSCALE:GREGORIAN
METHOD:PUBLISH
X-WR-CALNAME:Kgl. priv. Schützengesellschaft Nassenbeuren
X-ORIGINAL-URL:https://schuetzengesellschaft-nassenbeuren.de
X-WR-CALDESC:Veranstaltungen für Kgl. priv. Schützengesellschaft Nassenbeuren
REFRESH-INTERVAL;VALUE=DURATION:PT1H
X-Robots-Tag:noindex
X-PUBLISHED-TTL:PT1H
BEGIN:VTIMEZONE
TZID:Europe/Berlin
BEGIN:DAYLIGHT
TZOFFSETFROM:+0100
TZOFFSETTO:+0200
TZNAME:CEST
DTSTART:20250330T010000
END:DAYLIGHT
BEGIN:STANDARD
TZOFFSETFROM:+0200
TZOFFSETTO:+0100
TZNAME:CET
DTSTART:20251026T010000
END:STANDARD
BEGIN:DAYLIGHT
TZOFFSETFROM:+0100
TZOFFSETTO:+0200
TZNAME:CEST
DTSTART:20260329T010000
END:DAYLIGHT
BEGIN:STANDARD
TZOFFSETFROM:+0200
TZOFFSETTO:+0100
TZNAME:CET
DTSTART:20261025T010000
END:STANDARD
BEGIN:DAYLIGHT
TZOFFSETFROM:+0100
TZOFFSETTO:+0200
TZNAME:CEST
DTSTART:20270328T010000
END:DAYLIGHT
BEGIN:STANDARD
TZOFFSETFROM:+0200
TZOFFSETTO:+0100
TZNAME:CET
DTSTART:20271031T010000
END:STANDARD
END:VTIMEZONE
BEGIN:VEVENT
DTSTART;TZID=Europe/Berlin:20260730T193000
DTEND;TZID=Europe/Berlin:20260730T220000
DTSTAMP:20260425T135109
CREATED:20251020T081733Z
LAST-MODIFIED:20251020T081733Z
UID:10002524-1785439800-1785448800@schuetzengesellschaft-nassenbeuren.de
SUMMARY:GK/KK KW 25m
DESCRIPTION:Offenes Training für Mitglieder
URL:https://schuetzengesellschaft-nassenbeuren.de/termin/gk-kk-kw-25m-271/
LOCATION:25m KW Schießstand
CATEGORIES:Training
ATTACH;FMTTYPE=image/jpeg:https://schuetzengesellschaft-nassenbeuren.de/wp-content/uploads/25m_1067.jpg
END:VEVENT
BEGIN:VEVENT
DTSTART;TZID=Europe/Berlin:20260731T193000
DTEND;TZID=Europe/Berlin:20260731T220000
DTSTAMP:20260425T135109
CREATED:20260126T151024Z
LAST-MODIFIED:20260126T151024Z
UID:10002837-1785526200-1785535200@schuetzengesellschaft-nassenbeuren.de
SUMMARY:GK/KK KW 25m
DESCRIPTION:Offenes Training – Freitagsschützen
URL:https://schuetzengesellschaft-nassenbeuren.de/termin/gk-kk-kw-25m-326/
LOCATION:25m KW Schießstand
END:VEVENT
BEGIN:VEVENT
DTSTART;TZID=Europe/Berlin:20260802T090000
DTEND;TZID=Europe/Berlin:20260802T110000
DTSTAMP:20260425T135109
CREATED:20260105T150716Z
LAST-MODIFIED:20260105T150716Z
UID:10002663-1785661200-1785668400@schuetzengesellschaft-nassenbeuren.de
SUMMARY:GK/KK KW 25m
DESCRIPTION:Offenes Training für Mitglieder\, Präzision und Duell\, KK und GK
URL:https://schuetzengesellschaft-nassenbeuren.de/termin/gk-kk-kw-25m-307/
LOCATION:25m KW Schießstand
CATEGORIES:Training
END:VEVENT
BEGIN:VEVENT
DTSTART;TZID=Europe/Berlin:20260802T100000
DTEND;TZID=Europe/Berlin:20260802T130000
DTSTAMP:20260425T135109
CREATED:20251227T143607Z
LAST-MODIFIED:20260105T145618Z
UID:10002599-1785664800-1785675600@schuetzengesellschaft-nassenbeuren.de
SUMMARY:GK / Ordonanz 100m
DESCRIPTION:Offenes Training für Mitglieder
URL:https://schuetzengesellschaft-nassenbeuren.de/termin/gk-ordonanz-100m-128/
LOCATION:100m LW Schießstand
CATEGORIES:Training
END:VEVENT
BEGIN:VEVENT
DTSTART;TZID=Europe/Berlin:20260802T180000
DTEND;TZID=Europe/Berlin:20260802T210000
DTSTAMP:20260425T135109
CREATED:20260115T222141Z
LAST-MODIFIED:20260115T222141Z
UID:10002799-1785693600-1785704400@schuetzengesellschaft-nassenbeuren.de
SUMMARY:RAG GK/KK-KW 25m
DESCRIPTION:RAG-Schießsport Allgäu Mindelheim\, externe Teilnehmer – geschlossene Veranstaltung\, Teilnahme am Schießbetrieb nur nach jährlicher Teilnahme an der Sicherheitsbelehrung\, unregelmäßige Teilnehmer vorher beim Schießleiter anrufen!
URL:https://schuetzengesellschaft-nassenbeuren.de/termin/rag-gk-kk-kw-25m-62/
LOCATION:25m KW Schießstand
CATEGORIES:Training
END:VEVENT
END:VCALENDAR