BEGIN:VCALENDAR
VERSION:2.0
PRODID:-//Kgl. priv. Schützengesellschaft Nassenbeuren - ECPv6.15.18//NONSGML v1.0//EN
CALSCALE:GREGORIAN
METHOD:PUBLISH
X-WR-CALNAME:Kgl. priv. Schützengesellschaft Nassenbeuren
X-ORIGINAL-URL:https://schuetzengesellschaft-nassenbeuren.de
X-WR-CALDESC:Veranstaltungen für Kgl. priv. Schützengesellschaft Nassenbeuren
REFRESH-INTERVAL;VALUE=DURATION:PT1H
X-Robots-Tag:noindex
X-PUBLISHED-TTL:PT1H
BEGIN:VTIMEZONE
TZID:Europe/Berlin
BEGIN:DAYLIGHT
TZOFFSETFROM:+0100
TZOFFSETTO:+0200
TZNAME:CEST
DTSTART:20250330T010000
END:DAYLIGHT
BEGIN:STANDARD
TZOFFSETFROM:+0200
TZOFFSETTO:+0100
TZNAME:CET
DTSTART:20251026T010000
END:STANDARD
BEGIN:DAYLIGHT
TZOFFSETFROM:+0100
TZOFFSETTO:+0200
TZNAME:CEST
DTSTART:20260329T010000
END:DAYLIGHT
BEGIN:STANDARD
TZOFFSETFROM:+0200
TZOFFSETTO:+0100
TZNAME:CET
DTSTART:20261025T010000
END:STANDARD
BEGIN:DAYLIGHT
TZOFFSETFROM:+0100
TZOFFSETTO:+0200
TZNAME:CEST
DTSTART:20270328T010000
END:DAYLIGHT
BEGIN:STANDARD
TZOFFSETFROM:+0200
TZOFFSETTO:+0100
TZNAME:CET
DTSTART:20271031T010000
END:STANDARD
END:VTIMEZONE
BEGIN:VEVENT
DTSTART;TZID=Europe/Berlin:20260114T193000
DTEND;TZID=Europe/Berlin:20260114T230000
DTSTAMP:20260425T135128
CREATED:20260110T141045Z
LAST-MODIFIED:20260110T141045Z
UID:10002785-1768419000-1768431600@schuetzengesellschaft-nassenbeuren.de
SUMMARY:KW 25m - BDS-Wettkampftraining
DESCRIPTION:Teilnehmer ausschließlich Starter bei der BDS BM in Langeringen
URL:https://schuetzengesellschaft-nassenbeuren.de/termin/kw-25m-bds-wettkampftraining-24/
LOCATION:25m KW Schießstand
CATEGORIES:Training
END:VEVENT
BEGIN:VEVENT
DTSTART;TZID=Europe/Berlin:20260115T193000
DTEND;TZID=Europe/Berlin:20260115T220000
DTSTAMP:20260425T135128
CREATED:20251020T075931Z
LAST-MODIFIED:20251020T081445Z
UID:10002500-1768505400-1768514400@schuetzengesellschaft-nassenbeuren.de
SUMMARY:GK/KK KW 25m
DESCRIPTION:Offenes Training für Mitglieder
URL:https://schuetzengesellschaft-nassenbeuren.de/termin/gk-kk-kw-25m-247/
LOCATION:25m KW Schießstand
CATEGORIES:Training
ATTACH;FMTTYPE=image/jpeg:https://schuetzengesellschaft-nassenbeuren.de/wp-content/uploads/25m_1067.jpg
END:VEVENT
BEGIN:VEVENT
DTSTART;TZID=Europe/Berlin:20260116T180000
DTEND;TZID=Europe/Berlin:20260116T200000
DTSTAMP:20260425T135128
CREATED:20260105T150217Z
LAST-MODIFIED:20260115T225626Z
UID:10002645-1768586400-1768593600@schuetzengesellschaft-nassenbeuren.de
SUMMARY:Waffen Putzen KW - Jungschützen
DESCRIPTION:Gemeinsames Putzen der Vereinswaffen durch die Jungschützen unter Anleitung
URL:https://schuetzengesellschaft-nassenbeuren.de/termin/waffen-putzen-kw/
LOCATION:25m KW Schießstand
CATEGORIES:Arbeit
END:VEVENT
BEGIN:VEVENT
DTSTART;TZID=Europe/Berlin:20260118T090000
DTEND;TZID=Europe/Berlin:20260118T110000
DTSTAMP:20260425T135128
CREATED:20260105T150458Z
LAST-MODIFIED:20260105T150458Z
UID:10002649-1768726800-1768734000@schuetzengesellschaft-nassenbeuren.de
SUMMARY:GK/KK KW 25m
DESCRIPTION:Offenes Training für Mitglieder\, Präzision und Duell\, KK und GK
URL:https://schuetzengesellschaft-nassenbeuren.de/termin/gk-kk-kw-25m-293/
LOCATION:25m KW Schießstand
CATEGORIES:Training
END:VEVENT
BEGIN:VEVENT
DTSTART;TZID=Europe/Berlin:20260118T180000
DTEND;TZID=Europe/Berlin:20260118T210000
DTSTAMP:20260425T135128
CREATED:20260115T222116Z
LAST-MODIFIED:20260115T222116Z
UID:10002786-1768759200-1768770000@schuetzengesellschaft-nassenbeuren.de
SUMMARY:RAG GK/KK-KW 25m
DESCRIPTION:RAG-Schießsport Allgäu Mindelheim\, externe Teilnehmer – geschlossene Veranstaltung\, Teilnahme am Schießbetrieb nur nach jährlicher Teilnahme an der Sicherheitsbelehrung\, unregelmäßige Teilnehmer vorher beim Schießleiter anrufen!
URL:https://schuetzengesellschaft-nassenbeuren.de/termin/rag-gk-kk-kw-25m-49/
LOCATION:25m KW Schießstand
CATEGORIES:Training
END:VEVENT
END:VCALENDAR