BEGIN:VCALENDAR
VERSION:2.0
PRODID:-//Kgl. priv. Schützengesellschaft Nassenbeuren - ECPv6.15.18//NONSGML v1.0//EN
CALSCALE:GREGORIAN
METHOD:PUBLISH
X-ORIGINAL-URL:https://schuetzengesellschaft-nassenbeuren.de
X-WR-CALDESC:Veranstaltungen für Kgl. priv. Schützengesellschaft Nassenbeuren
REFRESH-INTERVAL;VALUE=DURATION:PT1H
X-Robots-Tag:noindex
X-PUBLISHED-TTL:PT1H
BEGIN:VTIMEZONE
TZID:Europe/Berlin
BEGIN:DAYLIGHT
TZOFFSETFROM:+0100
TZOFFSETTO:+0200
TZNAME:CEST
DTSTART:20240331T010000
END:DAYLIGHT
BEGIN:STANDARD
TZOFFSETFROM:+0200
TZOFFSETTO:+0100
TZNAME:CET
DTSTART:20241027T010000
END:STANDARD
BEGIN:DAYLIGHT
TZOFFSETFROM:+0100
TZOFFSETTO:+0200
TZNAME:CEST
DTSTART:20250330T010000
END:DAYLIGHT
BEGIN:STANDARD
TZOFFSETFROM:+0200
TZOFFSETTO:+0100
TZNAME:CET
DTSTART:20251026T010000
END:STANDARD
BEGIN:DAYLIGHT
TZOFFSETFROM:+0100
TZOFFSETTO:+0200
TZNAME:CEST
DTSTART:20260329T010000
END:DAYLIGHT
BEGIN:STANDARD
TZOFFSETFROM:+0200
TZOFFSETTO:+0100
TZNAME:CET
DTSTART:20261025T010000
END:STANDARD
END:VTIMEZONE
BEGIN:VEVENT
DTSTART;TZID=Europe/Berlin:20250508T190000
DTEND;TZID=Europe/Berlin:20250508T230000
DTSTAMP:20260423T222443
CREATED:20250317T111932Z
LAST-MODIFIED:20250414T231558Z
UID:10001816-1746730800-1746745200@schuetzengesellschaft-nassenbeuren.de
SUMMARY:Generalversammlung 2025
DESCRIPTION:Hiermit erfolgt die Einladung zur ordentlichen Generalversammlung 2025 der Königlich privilegierten Schützengesellschaft Nassenbeuren am Donnerstag\, dem 08.05.2025\, um 19 Uhr im Schützenheim in Nassenbeuren. \nAn diesem Tag kein Schießbetrieb. \nTagesordnung: \n\nBegrüßung durch den 1. Schützenmeister\nBerichte des Schützenmeisteramtes und der Kassenprüfer\nEntlastung des Schützenmeisteramtes und des Gesellschaftsausschusses\nHaushaltsplan 2025 mit Genehmigung\nBeschluss: Mitgliedsbeiträge (BSSB+BDS)\nGrußworte\, Ehrungen\nBehandlung fristgerecht eingegangener Anträge\nNeuwahlen\nWünsche und Anträge\nSchlusswort des 1. Schützenmeisters\n\n  \nSchriftliche Anträge zur Generalversammlung müssen bis Donnerstag\, den 01.05.2025\, bei der Kgl. Priv. Schützengesellschaft Nassenbeuren\, z. Hd. 1. Schützenmeister Wolfgang Mahr\, Schützenstr. 27\, 87719 Nassenbeuren (Briefkasten) eingehen. \nWir freuen uns über rege Teilnahme! \nDas Schützenmeisteramt\nNassenbeuren\, 15.04.2025
URL:https://schuetzengesellschaft-nassenbeuren.de/termin/generalversammlung-2025/
LOCATION:Festsaal
CATEGORIES:Veranstaltung
END:VEVENT
END:VCALENDAR