BEGIN:VCALENDAR
VERSION:2.0
PRODID:-//Kgl. priv. Schützengesellschaft Nassenbeuren - ECPv6.15.18//NONSGML v1.0//EN
CALSCALE:GREGORIAN
METHOD:PUBLISH
X-WR-CALNAME:Kgl. priv. Schützengesellschaft Nassenbeuren
X-ORIGINAL-URL:https://schuetzengesellschaft-nassenbeuren.de
X-WR-CALDESC:Veranstaltungen für Kgl. priv. Schützengesellschaft Nassenbeuren
REFRESH-INTERVAL;VALUE=DURATION:PT1H
X-Robots-Tag:noindex
X-PUBLISHED-TTL:PT1H
BEGIN:VTIMEZONE
TZID:Europe/Berlin
BEGIN:DAYLIGHT
TZOFFSETFROM:+0100
TZOFFSETTO:+0200
TZNAME:CEST
DTSTART:20240331T010000
END:DAYLIGHT
BEGIN:STANDARD
TZOFFSETFROM:+0200
TZOFFSETTO:+0100
TZNAME:CET
DTSTART:20241027T010000
END:STANDARD
BEGIN:DAYLIGHT
TZOFFSETFROM:+0100
TZOFFSETTO:+0200
TZNAME:CEST
DTSTART:20250330T010000
END:DAYLIGHT
BEGIN:STANDARD
TZOFFSETFROM:+0200
TZOFFSETTO:+0100
TZNAME:CET
DTSTART:20251026T010000
END:STANDARD
BEGIN:DAYLIGHT
TZOFFSETFROM:+0100
TZOFFSETTO:+0200
TZNAME:CEST
DTSTART:20260329T010000
END:DAYLIGHT
BEGIN:STANDARD
TZOFFSETFROM:+0200
TZOFFSETTO:+0100
TZNAME:CET
DTSTART:20261025T010000
END:STANDARD
END:VTIMEZONE
BEGIN:VEVENT
DTSTART;TZID=Europe/Berlin:20250430T190000
DTEND;TZID=Europe/Berlin:20250430T220000
DTSTAMP:20260425T123047
CREATED:20250418T115704Z
LAST-MODIFIED:20250418T115704Z
UID:10002067-1746039600-1746050400@schuetzengesellschaft-nassenbeuren.de
SUMMARY:RWK 1. GK-Mannschaft
DESCRIPTION:Geschlossene Veranstaltung\nHeimwettkampf gegen Mindelheim
URL:https://schuetzengesellschaft-nassenbeuren.de/termin/rwk-1-gk-mannschaft-3/
LOCATION:25m KW Schießstand
CATEGORIES:Wettkampf
END:VEVENT
BEGIN:VEVENT
DTSTART;TZID=Europe/Berlin:20250501T193000
DTEND;TZID=Europe/Berlin:20250501T223000
DTSTAMP:20260425T123047
CREATED:20250429T205108Z
LAST-MODIFIED:20250429T205109Z
UID:10001419-1746127800-1746138600@schuetzengesellschaft-nassenbeuren.de
SUMMARY:GK/KK KW 25m
DESCRIPTION:Allgemeines Training
URL:https://schuetzengesellschaft-nassenbeuren.de/termin/gk-kk-kw-25m-229-2-3/
LOCATION:25m KW Schießstand
CATEGORIES:Training
END:VEVENT
BEGIN:VEVENT
DTSTART;TZID=Europe/Berlin:20250502T190000
DTEND;TZID=Europe/Berlin:20250502T220000
DTSTAMP:20260425T123047
CREATED:20250331T212608Z
LAST-MODIFIED:20250429T204850Z
UID:10001826-1746212400-1746223200@schuetzengesellschaft-nassenbeuren.de
SUMMARY:KW 25m - BSSB-Wettkampftraining
DESCRIPTION:Teilnehmerkreis: Ausschließlich Teilnehmer an kommender Bezirksmeisterschaft BSSB
URL:https://schuetzengesellschaft-nassenbeuren.de/termin/kw-25m-bssb-wettkampftraining-2/
LOCATION:25m KW Schießstand
CATEGORIES:Training
END:VEVENT
BEGIN:VEVENT
DTSTART;TZID=Europe/Berlin:20250504T100000
DTEND;TZID=Europe/Berlin:20250504T120000
DTSTAMP:20260425T123047
CREATED:20241226T224331Z
LAST-MODIFIED:20250429T204941Z
UID:10001362-1746352800-1746360000@schuetzengesellschaft-nassenbeuren.de
SUMMARY:Entfällt: GK/KK KW 25m - BSSB-Schießen
DESCRIPTION:Der Termin entfällt mangels Aufsicht
URL:https://schuetzengesellschaft-nassenbeuren.de/termin/gk-kk-kw-25m-bssb-schiessen-9/
LOCATION:25m KW Schießstand
CATEGORIES:Training
END:VEVENT
BEGIN:VEVENT
DTSTART;TZID=Europe/Berlin:20250504T180000
DTEND;TZID=Europe/Berlin:20250504T210000
DTSTAMP:20260425T123047
CREATED:20250102T205818Z
LAST-MODIFIED:20250102T205818Z
UID:10001675-1746381600-1746392400@schuetzengesellschaft-nassenbeuren.de
SUMMARY:RAG GK/KK-KW 25m
DESCRIPTION:RAG-Schießsport Allgäu Mindelheim\, externe Teilnehmer – geschlossene Veranstaltung\, Teilnahme am Schießbetrieb nur nach jährlicher Teilnahme an der Sicherheitsbelehrung\, Unregelmäßige Teilnehmer vorher beim Schießleiter W. Ertl anrufen!
URL:https://schuetzengesellschaft-nassenbeuren.de/termin/rag-gk-kk-kw-25m-33/
LOCATION:25m KW Schießstand
CATEGORIES:Training
END:VEVENT
END:VCALENDAR