BEGIN:VCALENDAR
VERSION:2.0
PRODID:-//Kgl. priv. Schützengesellschaft Nassenbeuren - ECPv6.15.18//NONSGML v1.0//EN
CALSCALE:GREGORIAN
METHOD:PUBLISH
X-ORIGINAL-URL:https://schuetzengesellschaft-nassenbeuren.de
X-WR-CALDESC:Veranstaltungen für Kgl. priv. Schützengesellschaft Nassenbeuren
REFRESH-INTERVAL;VALUE=DURATION:PT1H
X-Robots-Tag:noindex
X-PUBLISHED-TTL:PT1H
BEGIN:VTIMEZONE
TZID:Europe/Berlin
BEGIN:DAYLIGHT
TZOFFSETFROM:+0100
TZOFFSETTO:+0200
TZNAME:CEST
DTSTART:20240331T010000
END:DAYLIGHT
BEGIN:STANDARD
TZOFFSETFROM:+0200
TZOFFSETTO:+0100
TZNAME:CET
DTSTART:20241027T010000
END:STANDARD
BEGIN:DAYLIGHT
TZOFFSETFROM:+0100
TZOFFSETTO:+0200
TZNAME:CEST
DTSTART:20250330T010000
END:DAYLIGHT
BEGIN:STANDARD
TZOFFSETFROM:+0200
TZOFFSETTO:+0100
TZNAME:CET
DTSTART:20251026T010000
END:STANDARD
BEGIN:DAYLIGHT
TZOFFSETFROM:+0100
TZOFFSETTO:+0200
TZNAME:CEST
DTSTART:20260329T010000
END:DAYLIGHT
BEGIN:STANDARD
TZOFFSETFROM:+0200
TZOFFSETTO:+0100
TZNAME:CET
DTSTART:20261025T010000
END:STANDARD
END:VTIMEZONE
BEGIN:VEVENT
DTSTART;TZID=Europe/Berlin:20250428T183000
DTEND;TZID=Europe/Berlin:20250428T210000
DTSTAMP:20260426T020637
CREATED:20250415T131614Z
LAST-MODIFIED:20250428T095715Z
UID:10002066-1745865000-1745874000@schuetzengesellschaft-nassenbeuren.de
SUMMARY:GK LW Einschießen WBK Jäger 100m
DESCRIPTION:Langwaffen mit jagdlichen Kalibern auf dem 100m-Stand\nEinschießen\, Prüfen und Justieren von Vorsatzgeräten und Wärmebildkameras für Jäger und Wiederlader\nAchtung: Verwendung von Solid-Geschossen derzeit nicht möglich!\nExterne Teilnehmer – geschlossene Gesellschaft
URL:https://schuetzengesellschaft-nassenbeuren.de/termin/gk-lw-einschiessen-wbk-jaeger-100m/
LOCATION:100m LW Schießstand
CATEGORIES:Jagdlich
END:VEVENT
BEGIN:VEVENT
DTSTART;TZID=Europe/Berlin:20250503T140000
DTEND;TZID=Europe/Berlin:20250503T140000
DTSTAMP:20260426T020637
CREATED:20250415T112349Z
LAST-MODIFIED:20250415T112349Z
UID:10002058-1746280800-1746280800@schuetzengesellschaft-nassenbeuren.de
SUMMARY:Kgl. priv. SG Immenstadt 100m
DESCRIPTION:
URL:https://schuetzengesellschaft-nassenbeuren.de/termin/kgl-priv-sg-immenstadt-100m/
LOCATION:100m LW Schießstand
END:VEVENT
END:VCALENDAR