BEGIN:VCALENDAR
VERSION:2.0
PRODID:-//Kgl. priv. Schützengesellschaft Nassenbeuren - ECPv6.15.18//NONSGML v1.0//EN
CALSCALE:GREGORIAN
METHOD:PUBLISH
X-ORIGINAL-URL:https://schuetzengesellschaft-nassenbeuren.de
X-WR-CALDESC:Veranstaltungen für Kgl. priv. Schützengesellschaft Nassenbeuren
REFRESH-INTERVAL;VALUE=DURATION:PT1H
X-Robots-Tag:noindex
X-PUBLISHED-TTL:PT1H
BEGIN:VTIMEZONE
TZID:Europe/Berlin
BEGIN:DAYLIGHT
TZOFFSETFROM:+0100
TZOFFSETTO:+0200
TZNAME:CEST
DTSTART:20230326T010000
END:DAYLIGHT
BEGIN:STANDARD
TZOFFSETFROM:+0200
TZOFFSETTO:+0100
TZNAME:CET
DTSTART:20231029T010000
END:STANDARD
BEGIN:DAYLIGHT
TZOFFSETFROM:+0100
TZOFFSETTO:+0200
TZNAME:CEST
DTSTART:20240331T010000
END:DAYLIGHT
BEGIN:STANDARD
TZOFFSETFROM:+0200
TZOFFSETTO:+0100
TZNAME:CET
DTSTART:20241027T010000
END:STANDARD
BEGIN:DAYLIGHT
TZOFFSETFROM:+0100
TZOFFSETTO:+0200
TZNAME:CEST
DTSTART:20250330T010000
END:DAYLIGHT
BEGIN:STANDARD
TZOFFSETFROM:+0200
TZOFFSETTO:+0100
TZNAME:CET
DTSTART:20251026T010000
END:STANDARD
END:VTIMEZONE
BEGIN:VEVENT
DTSTART;TZID=Europe/Berlin:20241125T200000
DTEND;TZID=Europe/Berlin:20241125T230000
DTSTAMP:20260425T165435
CREATED:20241119T155108Z
LAST-MODIFIED:20241119T155108Z
UID:10001316-1732564800-1732575600@schuetzengesellschaft-nassenbeuren.de
SUMMARY:RWK KK KW 25m 2. KK-Mannschaft
DESCRIPTION:Geschlossene Veranstaltung
URL:https://schuetzengesellschaft-nassenbeuren.de/termin/rwk-kk-kw-25m-2-kk-mannschaft-2/
LOCATION:25m KW Schießstand
CATEGORIES:Wettkampf
END:VEVENT
BEGIN:VEVENT
DTSTART;TZID=Europe/Berlin:20241128T193000
DTEND;TZID=Europe/Berlin:20241128T220000
DTSTAMP:20260425T165435
CREATED:20240103T122247Z
LAST-MODIFIED:20241127T184521Z
UID:10000703-1732822200-1732831200@schuetzengesellschaft-nassenbeuren.de
SUMMARY:GK/KK KW 25m - entfällt!
DESCRIPTION:Sanierung der Bodenblende. Mithelfen erwünscht!
URL:https://schuetzengesellschaft-nassenbeuren.de/termin/gk-kk-kw-25m-217/
LOCATION:25m KW Schießstand
CATEGORIES:Arbeit,Training
END:VEVENT
BEGIN:VEVENT
DTSTART;TZID=Europe/Berlin:20241201T130000
DTEND;TZID=Europe/Berlin:20241201T150000
DTSTAMP:20260425T165435
CREATED:20240103T122016Z
LAST-MODIFIED:20240724T222146Z
UID:10000653-1733058000-1733065200@schuetzengesellschaft-nassenbeuren.de
SUMMARY:GK/KK KW 25m
DESCRIPTION:
URL:https://schuetzengesellschaft-nassenbeuren.de/termin/gk-kk-kw-25m-176/
LOCATION:25m KW Schießstand
CATEGORIES:Training
END:VEVENT
BEGIN:VEVENT
DTSTART;TZID=Europe/Berlin:20241201T180000
DTEND;TZID=Europe/Berlin:20241201T210000
DTSTAMP:20260425T165435
CREATED:20240110T183511Z
LAST-MODIFIED:20240110T183511Z
UID:10000767-1733076000-1733086800@schuetzengesellschaft-nassenbeuren.de
SUMMARY:RAG GK/KK-KW 25m
DESCRIPTION:RAG-Schießsport Allgäu Mindelheim; externe Teilnehmer – geschlossene Veranstaltung; Teilnahme am Schießbetrieb nur nach jährlicher Teilnahme an der Sicherheitsbelehrung; Unregelmäßige Teilnehmer vorher beim Schießleiter W. Ertl anrufen!
URL:https://schuetzengesellschaft-nassenbeuren.de/termin/rag-gk-kk-kw-25m-23/
LOCATION:25m KW Schießstand
CATEGORIES:Training
END:VEVENT
END:VCALENDAR