BEGIN:VCALENDAR
VERSION:2.0
PRODID:-//Kgl. priv. Schützengesellschaft Nassenbeuren - ECPv6.15.18//NONSGML v1.0//EN
CALSCALE:GREGORIAN
METHOD:PUBLISH
X-WR-CALNAME:Kgl. priv. Schützengesellschaft Nassenbeuren
X-ORIGINAL-URL:https://schuetzengesellschaft-nassenbeuren.de
X-WR-CALDESC:Veranstaltungen für Kgl. priv. Schützengesellschaft Nassenbeuren
REFRESH-INTERVAL;VALUE=DURATION:PT1H
X-Robots-Tag:noindex
X-PUBLISHED-TTL:PT1H
BEGIN:VTIMEZONE
TZID:Europe/Berlin
BEGIN:DAYLIGHT
TZOFFSETFROM:+0100
TZOFFSETTO:+0200
TZNAME:CEST
DTSTART:20230326T010000
END:DAYLIGHT
BEGIN:STANDARD
TZOFFSETFROM:+0200
TZOFFSETTO:+0100
TZNAME:CET
DTSTART:20231029T010000
END:STANDARD
BEGIN:DAYLIGHT
TZOFFSETFROM:+0100
TZOFFSETTO:+0200
TZNAME:CEST
DTSTART:20240331T010000
END:DAYLIGHT
BEGIN:STANDARD
TZOFFSETFROM:+0200
TZOFFSETTO:+0100
TZNAME:CET
DTSTART:20241027T010000
END:STANDARD
BEGIN:DAYLIGHT
TZOFFSETFROM:+0100
TZOFFSETTO:+0200
TZNAME:CEST
DTSTART:20250330T010000
END:DAYLIGHT
BEGIN:STANDARD
TZOFFSETFROM:+0200
TZOFFSETTO:+0100
TZNAME:CET
DTSTART:20251026T010000
END:STANDARD
END:VTIMEZONE
BEGIN:VEVENT
DTSTART;TZID=Europe/Berlin:20240801T193000
DTEND;TZID=Europe/Berlin:20240801T220000
DTSTAMP:20260426T053320
CREATED:20240728T214210Z
LAST-MODIFIED:20240728T214821Z
UID:10000911-1722540600-1722549600@schuetzengesellschaft-nassenbeuren.de
SUMMARY:GK/KK KW 25m
DESCRIPTION:Offenes Training
URL:https://schuetzengesellschaft-nassenbeuren.de/termin/gk-kk-kw-25m-221/
LOCATION:25m KW Schießstand
CATEGORIES:Training
END:VEVENT
BEGIN:VEVENT
DTSTART;TZID=Europe/Berlin:20240802T190000
DTEND;TZID=Europe/Berlin:20240802T220000
DTSTAMP:20260426T053320
CREATED:20240708T150324Z
LAST-MODIFIED:20240708T150324Z
UID:10000868-1722625200-1722636000@schuetzengesellschaft-nassenbeuren.de
SUMMARY:GK/KK KW 25m - BSSB-Training
DESCRIPTION:Präzision und Duell; KK und GK
URL:https://schuetzengesellschaft-nassenbeuren.de/termin/gk-kk-kw-25m-bssb-training-3/
LOCATION:25m KW Schießstand
CATEGORIES:Training
END:VEVENT
BEGIN:VEVENT
DTSTART;TZID=Europe/Berlin:20240804T100000
DTEND;TZID=Europe/Berlin:20240804T120000
DTSTAMP:20260426T053320
CREATED:20240722T104054Z
LAST-MODIFIED:20240722T104054Z
UID:10000892-1722765600-1722772800@schuetzengesellschaft-nassenbeuren.de
SUMMARY:GK/KK KW 25m - BDS-Wettkampftraining
DESCRIPTION:Präzision\, Intervall\, Zeitserie
URL:https://schuetzengesellschaft-nassenbeuren.de/termin/gk-kk-kw-25m-bds-wettkampftraining-3/
LOCATION:25m KW Schießstand
CATEGORIES:Training
END:VEVENT
BEGIN:VEVENT
DTSTART;TZID=Europe/Berlin:20240804T180000
DTEND;TZID=Europe/Berlin:20240804T210000
DTSTAMP:20260426T053320
CREATED:20240110T183350Z
LAST-MODIFIED:20240110T183350Z
UID:10000759-1722794400-1722805200@schuetzengesellschaft-nassenbeuren.de
SUMMARY:RAG GK/KK-KW 25m
DESCRIPTION:RAG-Schießsport Allgäu Mindelheim; externe Teilnehmer – geschlossene Veranstaltung; Teilnahme am Schießbetrieb nur nach jährlicher Teilnahme an der Sicherheitsbelehrung; Unregelmäßige Teilnehmer vorher beim Schießleiter W. Ertl anrufen!
URL:https://schuetzengesellschaft-nassenbeuren.de/termin/rag-gk-kk-kw-25m-15/
LOCATION:25m KW Schießstand
CATEGORIES:Training
END:VEVENT
END:VCALENDAR