BEGIN:VCALENDAR
VERSION:2.0
PRODID:-//Kgl. priv. Schützengesellschaft Nassenbeuren - ECPv6.15.18//NONSGML v1.0//EN
CALSCALE:GREGORIAN
METHOD:PUBLISH
X-ORIGINAL-URL:https://schuetzengesellschaft-nassenbeuren.de
X-WR-CALDESC:Veranstaltungen für Kgl. priv. Schützengesellschaft Nassenbeuren
REFRESH-INTERVAL;VALUE=DURATION:PT1H
X-Robots-Tag:noindex
X-PUBLISHED-TTL:PT1H
BEGIN:VTIMEZONE
TZID:Europe/Berlin
BEGIN:DAYLIGHT
TZOFFSETFROM:+0100
TZOFFSETTO:+0200
TZNAME:CEST
DTSTART:20250330T010000
END:DAYLIGHT
BEGIN:STANDARD
TZOFFSETFROM:+0200
TZOFFSETTO:+0100
TZNAME:CET
DTSTART:20251026T010000
END:STANDARD
BEGIN:DAYLIGHT
TZOFFSETFROM:+0100
TZOFFSETTO:+0200
TZNAME:CEST
DTSTART:20260329T010000
END:DAYLIGHT
BEGIN:STANDARD
TZOFFSETFROM:+0200
TZOFFSETTO:+0100
TZNAME:CET
DTSTART:20261025T010000
END:STANDARD
BEGIN:DAYLIGHT
TZOFFSETFROM:+0100
TZOFFSETTO:+0200
TZNAME:CEST
DTSTART:20270328T010000
END:DAYLIGHT
BEGIN:STANDARD
TZOFFSETFROM:+0200
TZOFFSETTO:+0100
TZNAME:CET
DTSTART:20271031T010000
END:STANDARD
END:VTIMEZONE
BEGIN:VEVENT
DTSTART;TZID=Europe/Berlin:20261003T130000
DTEND;TZID=Europe/Berlin:20261003T180000
DTSTAMP:20260425T144656
CREATED:20251003T155201Z
LAST-MODIFIED:20251003T155201Z
UID:10002449-1791032400-1791050400@schuetzengesellschaft-nassenbeuren.de
SUMMARY:Feldschützen Augsburg 100m
DESCRIPTION:Externe Teilnehmer
URL:https://schuetzengesellschaft-nassenbeuren.de/termin/feldschuetzen-augsburg-100m-46/
LOCATION:100m LW Schießstand
CATEGORIES:Training
END:VEVENT
BEGIN:VEVENT
DTSTART;TZID=Europe/Berlin:20261005T183000
DTEND;TZID=Europe/Berlin:20261005T203000
DTSTAMP:20260425T144656
CREATED:20251227T143454Z
LAST-MODIFIED:20260105T140000Z
UID:10002577-1791225000-1791232200@schuetzengesellschaft-nassenbeuren.de
SUMMARY:LW 100m – Training
DESCRIPTION:
URL:https://schuetzengesellschaft-nassenbeuren.de/termin/lw-100m-training-27/
LOCATION:100m LW Schießstand
CATEGORIES:Training
END:VEVENT
BEGIN:VEVENT
DTSTART;TZID=Europe/Berlin:20261010T140000
DTEND;TZID=Europe/Berlin:20261010T180000
DTSTAMP:20260425T144656
CREATED:20251003T155201Z
LAST-MODIFIED:20251003T155201Z
UID:10002450-1791640800-1791655200@schuetzengesellschaft-nassenbeuren.de
SUMMARY:Kgl. priv. SG Immenstadt 100m
DESCRIPTION:Externe Teilnehmer
URL:https://schuetzengesellschaft-nassenbeuren.de/termin/kgl-priv-sg-immenstadt-100m-14/
LOCATION:100m LW Schießstand
CATEGORIES:Training
END:VEVENT
BEGIN:VEVENT
DTSTART;TZID=Europe/Berlin:20261011T100000
DTEND;TZID=Europe/Berlin:20261011T130000
DTSTAMP:20260425T144656
CREATED:20251227T143622Z
LAST-MODIFIED:20260105T145818Z
UID:10002604-1791712800-1791723600@schuetzengesellschaft-nassenbeuren.de
SUMMARY:GK / Ordonanz 100m
DESCRIPTION:Offenes Training für Mitglieder
URL:https://schuetzengesellschaft-nassenbeuren.de/termin/gk-ordonanz-100m-133/
LOCATION:100m LW Schießstand
CATEGORIES:Training
END:VEVENT
BEGIN:VEVENT
DTSTART;TZID=Europe/Berlin:20261017T140000
DTEND;TZID=Europe/Berlin:20261017T180000
DTSTAMP:20260425T144656
CREATED:20251003T155202Z
LAST-MODIFIED:20251003T155202Z
UID:10002451-1792245600-1792260000@schuetzengesellschaft-nassenbeuren.de
SUMMARY:BJV Jagdliches Schießen 100m
DESCRIPTION:Externe Teilnehmer
URL:https://schuetzengesellschaft-nassenbeuren.de/termin/bjv-jagdliches-schiessen-100m-37/
LOCATION:100m LW Schießstand
CATEGORIES:Jagdlich
END:VEVENT
BEGIN:VEVENT
DTSTART;TZID=Europe/Berlin:20261020T183000
DTEND;TZID=Europe/Berlin:20261020T203000
DTSTAMP:20260425T144656
CREATED:20251227T143507Z
LAST-MODIFIED:20260105T140002Z
UID:10002578-1792521000-1792528200@schuetzengesellschaft-nassenbeuren.de
SUMMARY:LW 100m – Training
DESCRIPTION:
URL:https://schuetzengesellschaft-nassenbeuren.de/termin/lw-100m-training-28/
LOCATION:100m LW Schießstand
CATEGORIES:Training
END:VEVENT
BEGIN:VEVENT
DTSTART;TZID=Europe/Berlin:20261025T100000
DTEND;TZID=Europe/Berlin:20261025T130000
DTSTAMP:20260425T144656
CREATED:20251227T143623Z
LAST-MODIFIED:20260105T145819Z
UID:10002605-1792922400-1792933200@schuetzengesellschaft-nassenbeuren.de
SUMMARY:GK / Ordonanz 100m
DESCRIPTION:Offenes Training für Mitglieder
URL:https://schuetzengesellschaft-nassenbeuren.de/termin/gk-ordonanz-100m-134/
LOCATION:100m LW Schießstand
CATEGORIES:Training
END:VEVENT
END:VCALENDAR