BEGIN:VCALENDAR
VERSION:2.0
PRODID:-//Kgl. priv. Schützengesellschaft Nassenbeuren - ECPv6.15.18//NONSGML v1.0//EN
CALSCALE:GREGORIAN
METHOD:PUBLISH
X-WR-CALNAME:Kgl. priv. Schützengesellschaft Nassenbeuren
X-ORIGINAL-URL:https://schuetzengesellschaft-nassenbeuren.de
X-WR-CALDESC:Veranstaltungen für Kgl. priv. Schützengesellschaft Nassenbeuren
REFRESH-INTERVAL;VALUE=DURATION:PT1H
X-Robots-Tag:noindex
X-PUBLISHED-TTL:PT1H
BEGIN:VTIMEZONE
TZID:Europe/Berlin
BEGIN:DAYLIGHT
TZOFFSETFROM:+0100
TZOFFSETTO:+0200
TZNAME:CEST
DTSTART:20250330T010000
END:DAYLIGHT
BEGIN:STANDARD
TZOFFSETFROM:+0200
TZOFFSETTO:+0100
TZNAME:CET
DTSTART:20251026T010000
END:STANDARD
BEGIN:DAYLIGHT
TZOFFSETFROM:+0100
TZOFFSETTO:+0200
TZNAME:CEST
DTSTART:20260329T010000
END:DAYLIGHT
BEGIN:STANDARD
TZOFFSETFROM:+0200
TZOFFSETTO:+0100
TZNAME:CET
DTSTART:20261025T010000
END:STANDARD
BEGIN:DAYLIGHT
TZOFFSETFROM:+0100
TZOFFSETTO:+0200
TZNAME:CEST
DTSTART:20270328T010000
END:DAYLIGHT
BEGIN:STANDARD
TZOFFSETFROM:+0200
TZOFFSETTO:+0100
TZNAME:CET
DTSTART:20271031T010000
END:STANDARD
END:VTIMEZONE
BEGIN:VEVENT
DTSTART;TZID=Europe/Berlin:20260101T193000
DTEND;TZID=Europe/Berlin:20260101T220000
DTSTAMP:20260425T040914
CREATED:20251020T075918Z
LAST-MODIFIED:20251229T104223Z
UID:10002498-1767295800-1767304800@schuetzengesellschaft-nassenbeuren.de
SUMMARY:GK/KK KW 25m - Entfällt
DESCRIPTION:Offenes Training für Mitglieder
URL:https://schuetzengesellschaft-nassenbeuren.de/termin/gk-kk-kw-25m-245/
LOCATION:25m KW Schießstand
CATEGORIES:Training
ATTACH;FMTTYPE=image/jpeg:https://schuetzengesellschaft-nassenbeuren.de/wp-content/uploads/25m_1067.jpg
END:VEVENT
BEGIN:VEVENT
DTSTART;TZID=Europe/Berlin:20260102T140000
DTEND;TZID=Europe/Berlin:20260102T160000
DTSTAMP:20260425T040914
CREATED:20251230T134607Z
LAST-MODIFIED:20251230T134607Z
UID:10002610-1767362400-1767369600@schuetzengesellschaft-nassenbeuren.de
SUMMARY:GK LW Einschießen WBK Jäger/WL 100m
DESCRIPTION:Für angemeldete Schützen mit Langwaffen in jagdlichen Kalibern auf dem 100m-Stand\, mit oder ohne Schalldämpfer.\nEinschießen\, Prüfen und Justieren von Zielfernrohren\, Vorsatzgeräten und Wärmebildkameras für Jäger\, V0-Messung für Wiederlader.\nBei Interesse an der Teilname bitte Email senden an: 2sm@schuetzengesellschaft-nassenbeuren.de\nAchtung: Verwendung von Solid-Geschossen ist derzeit nicht erlaubt!
URL:https://schuetzengesellschaft-nassenbeuren.de/termin/gk-lw-einschiessen-wbk-jaeger-wl-100m-54/
LOCATION:100m LW Schießstand
CATEGORIES:Jagdlich
ATTACH;FMTTYPE=image/jpeg:https://schuetzengesellschaft-nassenbeuren.de/wp-content/uploads/100m_therm_1067.jpg
END:VEVENT
BEGIN:VEVENT
DTSTART;TZID=Europe/Berlin:20260104T090000
DTEND;TZID=Europe/Berlin:20260104T110000
DTSTAMP:20260425T040914
CREATED:20260105T150220Z
LAST-MODIFIED:20260105T150220Z
UID:10002648-1767517200-1767524400@schuetzengesellschaft-nassenbeuren.de
SUMMARY:GK/KK KW 25m
DESCRIPTION:Offenes Training für Mitglieder\, Präzision und Duell\, KK und GK
URL:https://schuetzengesellschaft-nassenbeuren.de/termin/gk-kk-kw-25m-292/
LOCATION:25m KW Schießstand
CATEGORIES:Training
END:VEVENT
BEGIN:VEVENT
DTSTART;TZID=Europe/Berlin:20260104T100000
DTEND;TZID=Europe/Berlin:20260104T130000
DTSTAMP:20260425T040914
CREATED:20251227T143522Z
LAST-MODIFIED:20260105T140401Z
UID:10002584-1767520800-1767531600@schuetzengesellschaft-nassenbeuren.de
SUMMARY:GK / Ordonanz 100m
DESCRIPTION:Offenes Training für Mitglieder
URL:https://schuetzengesellschaft-nassenbeuren.de/termin/gk-ordonanz-100m-113/
LOCATION:100m LW Schießstand
CATEGORIES:Training
END:VEVENT
BEGIN:VEVENT
DTSTART;TZID=Europe/Berlin:20260108T193000
DTEND;TZID=Europe/Berlin:20260108T220000
DTSTAMP:20260425T040914
CREATED:20251020T075930Z
LAST-MODIFIED:20251020T081444Z
UID:10002499-1767900600-1767909600@schuetzengesellschaft-nassenbeuren.de
SUMMARY:GK/KK KW 25m
DESCRIPTION:Offenes Training für Mitglieder
URL:https://schuetzengesellschaft-nassenbeuren.de/termin/gk-kk-kw-25m-246/
LOCATION:25m KW Schießstand
CATEGORIES:Training
ATTACH;FMTTYPE=image/jpeg:https://schuetzengesellschaft-nassenbeuren.de/wp-content/uploads/25m_1067.jpg
END:VEVENT
BEGIN:VEVENT
DTSTART;TZID=Europe/Berlin:20260109T193000
DTEND;TZID=Europe/Berlin:20260109T220000
DTSTAMP:20260425T040914
CREATED:20260109T165406Z
LAST-MODIFIED:20260126T150855Z
UID:10002782-1767987000-1767996000@schuetzengesellschaft-nassenbeuren.de
SUMMARY:GK/KK KW 25m - extra
DESCRIPTION:Offenes Training – Freitagsschützen
URL:https://schuetzengesellschaft-nassenbeuren.de/termin/gk-kk-kw-25m-318/
LOCATION:25m KW Schießstand
CATEGORIES:Training
END:VEVENT
BEGIN:VEVENT
DTSTART;TZID=Europe/Berlin:20260115T193000
DTEND;TZID=Europe/Berlin:20260115T220000
DTSTAMP:20260425T040914
CREATED:20251020T075931Z
LAST-MODIFIED:20251020T081445Z
UID:10002500-1768505400-1768514400@schuetzengesellschaft-nassenbeuren.de
SUMMARY:GK/KK KW 25m
DESCRIPTION:Offenes Training für Mitglieder
URL:https://schuetzengesellschaft-nassenbeuren.de/termin/gk-kk-kw-25m-247/
LOCATION:25m KW Schießstand
CATEGORIES:Training
ATTACH;FMTTYPE=image/jpeg:https://schuetzengesellschaft-nassenbeuren.de/wp-content/uploads/25m_1067.jpg
END:VEVENT
BEGIN:VEVENT
DTSTART;TZID=Europe/Berlin:20260118T090000
DTEND;TZID=Europe/Berlin:20260118T110000
DTSTAMP:20260425T040914
CREATED:20260105T150458Z
LAST-MODIFIED:20260105T150458Z
UID:10002649-1768726800-1768734000@schuetzengesellschaft-nassenbeuren.de
SUMMARY:GK/KK KW 25m
DESCRIPTION:Offenes Training für Mitglieder\, Präzision und Duell\, KK und GK
URL:https://schuetzengesellschaft-nassenbeuren.de/termin/gk-kk-kw-25m-293/
LOCATION:25m KW Schießstand
CATEGORIES:Training
END:VEVENT
BEGIN:VEVENT
DTSTART;TZID=Europe/Berlin:20260118T100000
DTEND;TZID=Europe/Berlin:20260118T130000
DTSTAMP:20260425T040914
CREATED:20251227T143523Z
LAST-MODIFIED:20260105T140402Z
UID:10002585-1768730400-1768741200@schuetzengesellschaft-nassenbeuren.de
SUMMARY:GK / Ordonanz 100m
DESCRIPTION:Offenes Training für Mitglieder
URL:https://schuetzengesellschaft-nassenbeuren.de/termin/gk-ordonanz-100m-114/
LOCATION:100m LW Schießstand
CATEGORIES:Training
END:VEVENT
BEGIN:VEVENT
DTSTART;TZID=Europe/Berlin:20260118T180000
DTEND;TZID=Europe/Berlin:20260118T210000
DTSTAMP:20260425T040914
CREATED:20260115T222116Z
LAST-MODIFIED:20260115T222116Z
UID:10002786-1768759200-1768770000@schuetzengesellschaft-nassenbeuren.de
SUMMARY:RAG GK/KK-KW 25m
DESCRIPTION:RAG-Schießsport Allgäu Mindelheim\, externe Teilnehmer – geschlossene Veranstaltung\, Teilnahme am Schießbetrieb nur nach jährlicher Teilnahme an der Sicherheitsbelehrung\, unregelmäßige Teilnehmer vorher beim Schießleiter anrufen!
URL:https://schuetzengesellschaft-nassenbeuren.de/termin/rag-gk-kk-kw-25m-49/
LOCATION:25m KW Schießstand
CATEGORIES:Training
END:VEVENT
BEGIN:VEVENT
DTSTART;TZID=Europe/Berlin:20260122T193000
DTEND;TZID=Europe/Berlin:20260122T220000
DTSTAMP:20260425T040914
CREATED:20251020T075932Z
LAST-MODIFIED:20251020T081457Z
UID:10002501-1769110200-1769119200@schuetzengesellschaft-nassenbeuren.de
SUMMARY:GK/KK KW 25m
DESCRIPTION:Offenes Training für Mitglieder
URL:https://schuetzengesellschaft-nassenbeuren.de/termin/gk-kk-kw-25m-248/
LOCATION:25m KW Schießstand
CATEGORIES:Training
ATTACH;FMTTYPE=image/jpeg:https://schuetzengesellschaft-nassenbeuren.de/wp-content/uploads/25m_1067.jpg
END:VEVENT
BEGIN:VEVENT
DTSTART;TZID=Europe/Berlin:20260123T140000
DTEND;TZID=Europe/Berlin:20260123T160000
DTSTAMP:20260425T040914
CREATED:20260122T104833Z
LAST-MODIFIED:20260122T104833Z
UID:10002820-1769176800-1769184000@schuetzengesellschaft-nassenbeuren.de
SUMMARY:GK LW Einschießen WBK Jäger/WL 100m
DESCRIPTION:Für angemeldete Schützen mit Langwaffen in jagdlichen Kalibern auf dem 100m-Stand\, mit oder ohne Schalldämpfer.\nEinschießen\, Prüfen und Justieren von Zielfernrohren\, Vorsatzgeräten und Wärmebildkameras für Jäger\, V0-Messung für Wiederlader.\nBei Interesse an der Teilname bitte Email senden an: 2sm@schuetzengesellschaft-nassenbeuren.de\nAchtung: Verwendung von Solid-Geschossen ist derzeit nicht erlaubt!
URL:https://schuetzengesellschaft-nassenbeuren.de/termin/gk-lw-einschiessen-wbk-jaeger-wl-100m-55/
LOCATION:100m LW Schießstand
CATEGORIES:Jagdlich
ATTACH;FMTTYPE=image/jpeg:https://schuetzengesellschaft-nassenbeuren.de/wp-content/uploads/100m_therm_1067.jpg
END:VEVENT
BEGIN:VEVENT
DTSTART;TZID=Europe/Berlin:20260129T190000
DTEND;TZID=Europe/Berlin:20260129T223000
DTSTAMP:20260425T040914
CREATED:20260116T194539Z
LAST-MODIFIED:20260125T220034Z
UID:10002811-1769713200-1769725800@schuetzengesellschaft-nassenbeuren.de
SUMMARY:Gaumeisterschaft GK KW 25m
DESCRIPTION:2.53 GK-Pistole 9mm Luger2.55 GK-Revolver .357mag2.56 GK-Pistole 10mm2.58 GK-Revolver .44mag2.59 GK-Pistole .45ACP \nGeschossen wird nach der DSB-Sportordnung. Teilnameberechtigt sind alle Schützen\, die im Gau Mindelheim gemeldet sind. Um Wartezeiten zu minimieren bitten wir um rechtzeitige Anmeldung unter Angabe der gewünschten Disziplinen per E-Mail an: sportleiter@schuetzengesellschaft-nassenbeuren.de
URL:https://schuetzengesellschaft-nassenbeuren.de/termin/gaumeisterschaft-gk-kw-25m/
LOCATION:25m KW Schießstand
CATEGORIES:Wettkampf
END:VEVENT
END:VCALENDAR