BEGIN:VCALENDAR
VERSION:2.0
PRODID:-//Kgl. priv. Schützengesellschaft Nassenbeuren - ECPv6.15.18//NONSGML v1.0//EN
CALSCALE:GREGORIAN
METHOD:PUBLISH
X-WR-CALNAME:Kgl. priv. Schützengesellschaft Nassenbeuren
X-ORIGINAL-URL:https://schuetzengesellschaft-nassenbeuren.de
X-WR-CALDESC:Veranstaltungen für Kgl. priv. Schützengesellschaft Nassenbeuren
REFRESH-INTERVAL;VALUE=DURATION:PT1H
X-Robots-Tag:noindex
X-PUBLISHED-TTL:PT1H
BEGIN:VTIMEZONE
TZID:Europe/Berlin
BEGIN:DAYLIGHT
TZOFFSETFROM:+0100
TZOFFSETTO:+0200
TZNAME:CEST
DTSTART:20240331T010000
END:DAYLIGHT
BEGIN:STANDARD
TZOFFSETFROM:+0200
TZOFFSETTO:+0100
TZNAME:CET
DTSTART:20241027T010000
END:STANDARD
BEGIN:DAYLIGHT
TZOFFSETFROM:+0100
TZOFFSETTO:+0200
TZNAME:CEST
DTSTART:20250330T010000
END:DAYLIGHT
BEGIN:STANDARD
TZOFFSETFROM:+0200
TZOFFSETTO:+0100
TZNAME:CET
DTSTART:20251026T010000
END:STANDARD
BEGIN:DAYLIGHT
TZOFFSETFROM:+0100
TZOFFSETTO:+0200
TZNAME:CEST
DTSTART:20260329T010000
END:DAYLIGHT
BEGIN:STANDARD
TZOFFSETFROM:+0200
TZOFFSETTO:+0100
TZNAME:CET
DTSTART:20261025T010000
END:STANDARD
END:VTIMEZONE
BEGIN:VEVENT
DTSTART;TZID=Europe/Berlin:20251201T183000
DTEND;TZID=Europe/Berlin:20251201T203000
DTSTAMP:20260425T022527
CREATED:20251003T161136Z
LAST-MODIFIED:20251004T120248Z
UID:10002471-1764613800-1764621000@schuetzengesellschaft-nassenbeuren.de
SUMMARY:LW 100m Training
DESCRIPTION:
URL:https://schuetzengesellschaft-nassenbeuren.de/termin/lw-100m-training-5/
LOCATION:100m LW Schießstand
CATEGORIES:Training
END:VEVENT
BEGIN:VEVENT
DTSTART;TZID=Europe/Berlin:20251204T180000
DTEND;TZID=Europe/Berlin:20251204T230000
DTSTAMP:20260425T022527
CREATED:20251017T072857Z
LAST-MODIFIED:20251203T130613Z
UID:10002484-1764871200-1764889200@schuetzengesellschaft-nassenbeuren.de
SUMMARY:Klausenschießen Jugend LG
DESCRIPTION:
URL:https://schuetzengesellschaft-nassenbeuren.de/termin/klausenschiessen-jugend-lg/
LOCATION:10m LP Schießstand
CATEGORIES:Jugend,Wettkampf
END:VEVENT
BEGIN:VEVENT
DTSTART;TZID=Europe/Berlin:20251204T193000
DTEND;TZID=Europe/Berlin:20251204T220000
DTSTAMP:20260425T022527
CREATED:20251017T072859Z
LAST-MODIFIED:20251017T092818Z
UID:10002487-1764876600-1764885600@schuetzengesellschaft-nassenbeuren.de
SUMMARY:Klausenschießen KK SP
DESCRIPTION:
URL:https://schuetzengesellschaft-nassenbeuren.de/termin/klausenschiessen-kk-sp-4/
LOCATION:25m KW Schießstand
CATEGORIES:Wettkampf
END:VEVENT
BEGIN:VEVENT
DTSTART;TZID=Europe/Berlin:20251205T193000
DTEND;TZID=Europe/Berlin:20251205T220000
DTSTAMP:20260425T022527
CREATED:20251003T155059Z
LAST-MODIFIED:20251003T155059Z
UID:10002426-1764963000-1764972000@schuetzengesellschaft-nassenbeuren.de
SUMMARY:Edelweiß Preisverteilung Klausen und Versteigerung
DESCRIPTION:Externe Teilnehmer
URL:https://schuetzengesellschaft-nassenbeuren.de/termin/edelweiss-preisverteilung-klausen-und-versteigerung/
LOCATION:König-Ludwig-Stube
CATEGORIES:Training
END:VEVENT
BEGIN:VEVENT
DTSTART;TZID=Europe/Berlin:20251205T200000
DTEND;TZID=Europe/Berlin:20251205T230000
DTSTAMP:20260425T022527
CREATED:20251017T072859Z
LAST-MODIFIED:20251027T175852Z
UID:10002489-1764964800-1764975600@schuetzengesellschaft-nassenbeuren.de
SUMMARY:Klausenschießen Preisverleihung Klausenversteigerung
DESCRIPTION:
URL:https://schuetzengesellschaft-nassenbeuren.de/termin/klausenschiessen-preisverleihung-klausenversteigerung-2/
LOCATION:Schützenheim
CATEGORIES:Veranstaltung
END:VEVENT
BEGIN:VEVENT
DTSTART;TZID=Europe/Berlin:20251206T090000
DTEND;TZID=Europe/Berlin:20251206T120000
DTSTAMP:20260425T022527
CREATED:20250309T210452Z
LAST-MODIFIED:20250309T210452Z
UID:10001815-1765011600-1765022400@schuetzengesellschaft-nassenbeuren.de
SUMMARY:Arbeitssitzung SMAGA
DESCRIPTION:Arbeitssitzung Gesellschaftsausschuss und Schützenmeisteramt
URL:https://schuetzengesellschaft-nassenbeuren.de/termin/arbeitssitzung-smaga-7/
LOCATION:Schützenheim
CATEGORIES:Arbeit
END:VEVENT
BEGIN:VEVENT
DTSTART;TZID=Europe/Berlin:20251206T130000
DTEND;TZID=Europe/Berlin:20251206T190000
DTSTAMP:20260425T022527
CREATED:20251116T191405Z
LAST-MODIFIED:20251116T191405Z
UID:10002553-1765026000-1765047600@schuetzengesellschaft-nassenbeuren.de
SUMMARY:Helfer gesucht für den Nikolauseinzug
DESCRIPTION:Es werden noch Helfer gesucht für den Würstchenverkauf beim Nikolauseinzug in Nassenbeuern.\nWer kommen kann zur Planung bitte eMail an 1sm@schuetzengesellschaft-nassenbeuren.de schicken!\nWir bauen die Tische auf\, machen die Würtchen warm und verkaufen sie.\nOrt: Nassenbeuren Feuerwehr
URL:https://schuetzengesellschaft-nassenbeuren.de/termin/helfer-gesucht-fuer-den-nikolauseinzug/
LOCATION:Nassenbeuren
CATEGORIES:Veranstaltung
END:VEVENT
BEGIN:VEVENT
DTSTART;TZID=Europe/Berlin:20251206T190000
DTEND;TZID=Europe/Berlin:20251206T220000
DTSTAMP:20260425T022527
CREATED:20251116T191119Z
LAST-MODIFIED:20251116T191119Z
UID:10002552-1765047600-1765058400@schuetzengesellschaft-nassenbeuren.de
SUMMARY:Nikolauseinzug
DESCRIPTION:Nikolauseinzug der Nassenbeurer Dorfgemeinschaft GbR
URL:https://schuetzengesellschaft-nassenbeuren.de/termin/nikolauseinzug-2/
LOCATION:Nassenbeuren
CATEGORIES:Veranstaltung
END:VEVENT
BEGIN:VEVENT
DTSTART;TZID=Europe/Berlin:20251207T090000
DTEND;TZID=Europe/Berlin:20251207T110000
DTSTAMP:20260425T022527
CREATED:20250102T210754Z
LAST-MODIFIED:20251007T200500Z
UID:10001715-1765098000-1765105200@schuetzengesellschaft-nassenbeuren.de
SUMMARY:KW 25m Training
DESCRIPTION:
URL:https://schuetzengesellschaft-nassenbeuren.de/termin/kw-25m-training-4/
LOCATION:25m KW Schießstand
CATEGORIES:Training
END:VEVENT
BEGIN:VEVENT
DTSTART;TZID=Europe/Berlin:20251207T100000
DTEND;TZID=Europe/Berlin:20251207T130000
DTSTAMP:20260425T022527
CREATED:20251003T161604Z
LAST-MODIFIED:20251003T161604Z
UID:10002474-1765101600-1765112400@schuetzengesellschaft-nassenbeuren.de
SUMMARY:GK / Ordonanz 100m
DESCRIPTION:
URL:https://schuetzengesellschaft-nassenbeuren.de/termin/gk-ordonanz-100m-111/
LOCATION:100m LW Schießstand
CATEGORIES:Training
END:VEVENT
BEGIN:VEVENT
DTSTART;TZID=Europe/Berlin:20251207T133000
DTEND;TZID=Europe/Berlin:20251207T153000
DTSTAMP:20260425T022527
CREATED:20250302T212522Z
LAST-MODIFIED:20250302T212522Z
UID:10001776-1765114200-1765121400@schuetzengesellschaft-nassenbeuren.de
SUMMARY:Böllergruppe: Barbara-Schießen
DESCRIPTION:Lauchdorf
URL:https://schuetzengesellschaft-nassenbeuren.de/termin/boellergruppe-barbara-schiessen/
CATEGORIES:Böllergruppe
END:VEVENT
BEGIN:VEVENT
DTSTART;TZID=Europe/Berlin:20251207T180000
DTEND;TZID=Europe/Berlin:20251207T210000
DTSTAMP:20260425T022527
CREATED:20250102T205903Z
LAST-MODIFIED:20251203T150928Z
UID:10001689-1765130400-1765141200@schuetzengesellschaft-nassenbeuren.de
SUMMARY:RAG GK/KK-KW 25m
DESCRIPTION:RAG-Schießsport Allgäu Mindelheim\, externe Teilnehmer – geschlossene Veranstaltung\, Teilnahme am Schießbetrieb nur nach jährlicher Teilnahme an der Sicherheitsbelehrung\, Unregelmäßige Teilnehmer vorher beim Schießleiter anrufen!
URL:https://schuetzengesellschaft-nassenbeuren.de/termin/rag-gk-kk-kw-25m-47/
LOCATION:25m KW Schießstand
CATEGORIES:Training
END:VEVENT
BEGIN:VEVENT
DTSTART;TZID=Europe/Berlin:20251211T180000
DTEND;TZID=Europe/Berlin:20251211T200000
DTSTAMP:20260425T022527
CREATED:20251003T155840Z
LAST-MODIFIED:20251216T103048Z
UID:10002459-1765476000-1765483200@schuetzengesellschaft-nassenbeuren.de
SUMMARY:LG 10m Jugendtraining
DESCRIPTION:
URL:https://schuetzengesellschaft-nassenbeuren.de/termin/lg-10m-jugendtraining-25/
LOCATION:10m LP Schießstand
CATEGORIES:Jugend,Training
END:VEVENT
BEGIN:VEVENT
DTSTART;TZID=Europe/Berlin:20251211T193000
DTEND;TZID=Europe/Berlin:20251211T220000
DTSTAMP:20260425T022527
CREATED:20251020T075916Z
LAST-MODIFIED:20251020T081442Z
UID:10002496-1765481400-1765490400@schuetzengesellschaft-nassenbeuren.de
SUMMARY:GK/KK KW 25m
DESCRIPTION:Offenes Training für Mitglieder
URL:https://schuetzengesellschaft-nassenbeuren.de/termin/gk-kk-kw-25m-243/
LOCATION:25m KW Schießstand
CATEGORIES:Training
ATTACH;FMTTYPE=image/jpeg:https://schuetzengesellschaft-nassenbeuren.de/wp-content/uploads/25m_1067.jpg
END:VEVENT
BEGIN:VEVENT
DTSTART;TZID=Europe/Berlin:20251213T130000
DTEND;TZID=Europe/Berlin:20251213T180000
DTSTAMP:20260425T022527
CREATED:20241029T094301Z
LAST-MODIFIED:20241029T094301Z
UID:10001299-1765630800-1765648800@schuetzengesellschaft-nassenbeuren.de
SUMMARY:Feldschützen Augsburg 100m
DESCRIPTION:Externe Teilnehmer
URL:https://schuetzengesellschaft-nassenbeuren.de/termin/feldschuetzen-augsburg-100m-36/
LOCATION:100m LW Schießstand
CATEGORIES:Training
END:VEVENT
BEGIN:VEVENT
DTSTART;TZID=Europe/Berlin:20251216T183000
DTEND;TZID=Europe/Berlin:20251216T203000
DTSTAMP:20260425T022527
CREATED:20251003T161136Z
LAST-MODIFIED:20251004T120254Z
UID:10002472-1765909800-1765917000@schuetzengesellschaft-nassenbeuren.de
SUMMARY:LW 100m Training
DESCRIPTION:
URL:https://schuetzengesellschaft-nassenbeuren.de/termin/lw-100m-training-6/
LOCATION:100m LW Schießstand
CATEGORIES:Training
END:VEVENT
BEGIN:VEVENT
DTSTART;TZID=Europe/Berlin:20251216T190000
DTEND;TZID=Europe/Berlin:20251216T210000
DTSTAMP:20260425T022527
CREATED:20251215T112515Z
LAST-MODIFIED:20251215T112515Z
UID:10002555-1765911600-1765918800@schuetzengesellschaft-nassenbeuren.de
SUMMARY:KW 25m - Gastschießen
DESCRIPTION:Teilnehmer: angemeldete Gastschützen\, Neuschützen\, Jungschützen\, Anfänger.\nBei Interesse an der Teilnahme bitte dieses Formular ausfüllen und Termin vereinbaren.
URL:https://schuetzengesellschaft-nassenbeuren.de/termin/kw-25m-gastschiessen-13/
LOCATION:25m KW Schießstand
CATEGORIES:Training
END:VEVENT
BEGIN:VEVENT
DTSTART;TZID=Europe/Berlin:20251218T193000
DTEND;TZID=Europe/Berlin:20251218T220000
DTSTAMP:20260425T022527
CREATED:20251020T075917Z
LAST-MODIFIED:20251020T081443Z
UID:10002497-1766086200-1766095200@schuetzengesellschaft-nassenbeuren.de
SUMMARY:GK/KK KW 25m
DESCRIPTION:Offenes Training für Mitglieder
URL:https://schuetzengesellschaft-nassenbeuren.de/termin/gk-kk-kw-25m-244/
LOCATION:25m KW Schießstand
CATEGORIES:Training
ATTACH;FMTTYPE=image/jpeg:https://schuetzengesellschaft-nassenbeuren.de/wp-content/uploads/25m_1067.jpg
END:VEVENT
BEGIN:VEVENT
DTSTART;TZID=Europe/Berlin:20251219T193000
DTEND;TZID=Europe/Berlin:20251219T213000
DTSTAMP:20260425T022527
CREATED:20251017T072856Z
LAST-MODIFIED:20251019T144655Z
UID:10002483-1766172600-1766179800@schuetzengesellschaft-nassenbeuren.de
SUMMARY:LP/LG Schießabend
DESCRIPTION:
URL:https://schuetzengesellschaft-nassenbeuren.de/termin/lp-lg-schiessabend-2/
LOCATION:10m LP Schießstand
CATEGORIES:Training
END:VEVENT
BEGIN:VEVENT
DTSTART;TZID=Europe/Berlin:20251221T090000
DTEND;TZID=Europe/Berlin:20251221T110000
DTSTAMP:20260425T022527
CREATED:20250102T210808Z
LAST-MODIFIED:20251007T200508Z
UID:10001716-1766307600-1766314800@schuetzengesellschaft-nassenbeuren.de
SUMMARY:KW 25m Training
DESCRIPTION:
URL:https://schuetzengesellschaft-nassenbeuren.de/termin/kw-25m-training-5/
LOCATION:25m KW Schießstand
CATEGORIES:Training
END:VEVENT
BEGIN:VEVENT
DTSTART;TZID=Europe/Berlin:20251221T100000
DTEND;TZID=Europe/Berlin:20251221T130000
DTSTAMP:20260425T022527
CREATED:20251003T161604Z
LAST-MODIFIED:20251003T161604Z
UID:10002475-1766311200-1766322000@schuetzengesellschaft-nassenbeuren.de
SUMMARY:GK / Ordonanz 100m
DESCRIPTION:
URL:https://schuetzengesellschaft-nassenbeuren.de/termin/gk-ordonanz-100m-112/
LOCATION:100m LW Schießstand
CATEGORIES:Training
END:VEVENT
BEGIN:VEVENT
DTSTART;TZID=Europe/Berlin:20251221T180000
DTEND;TZID=Europe/Berlin:20251221T210000
DTSTAMP:20260425T022527
CREATED:20250102T205904Z
LAST-MODIFIED:20251203T150923Z
UID:10001690-1766340000-1766350800@schuetzengesellschaft-nassenbeuren.de
SUMMARY:RAG GK/KK-KW 25m
DESCRIPTION:RAG-Schießsport Allgäu Mindelheim\, externe Teilnehmer – geschlossene Veranstaltung\, Teilnahme am Schießbetrieb nur nach jährlicher Teilnahme an der Sicherheitsbelehrung\, Unregelmäßige Teilnehmer vorher beim Schießleiter anrufen!
URL:https://schuetzengesellschaft-nassenbeuren.de/termin/rag-gk-kk-kw-25m-48/
LOCATION:25m KW Schießstand
CATEGORIES:Training
END:VEVENT
BEGIN:VEVENT
DTSTART;TZID=Europe/Berlin:20251223T140000
DTEND;TZID=Europe/Berlin:20251223T160000
DTSTAMP:20260425T022527
CREATED:20251222T110002Z
LAST-MODIFIED:20251222T110002Z
UID:10002556-1766498400-1766505600@schuetzengesellschaft-nassenbeuren.de
SUMMARY:GK LW Testschießen 100m
DESCRIPTION:Für angemeldete Schützen mit Langwaffen auf dem 100m-Stand.\nEinschießen\, Prüfen und Justieren von Zielfernrohren\, Vorsatzgeräten und Wärmebildkameras für Jäger\, V0-Messung für Wiederlader.\nBei Interesse an der Teilname bitte Email senden an: 2sm@schuetzengesellschaft-nassenbeuren.de\nAchtung: Verwendung von Solid-Geschossen ist derzeit nicht erlaubt!
URL:https://schuetzengesellschaft-nassenbeuren.de/termin/gk-lw-testschiessen-100m/
LOCATION:100m LW Schießstand
CATEGORIES:Jagdlich
ATTACH;FMTTYPE=image/jpeg:https://schuetzengesellschaft-nassenbeuren.de/wp-content/uploads/100m_therm_1067.jpg
END:VEVENT
BEGIN:VEVENT
DTSTART;TZID=Europe/Berlin:20251227T190000
DTEND;TZID=Europe/Berlin:20251227T210000
DTSTAMP:20260425T022527
CREATED:20250302T212536Z
LAST-MODIFIED:20250302T213022Z
UID:10001777-1766862000-1766869200@schuetzengesellschaft-nassenbeuren.de
SUMMARY:Böllergruppe: Jahresabschluss-Schießen
DESCRIPTION:Maria Schnee Kapelle
URL:https://schuetzengesellschaft-nassenbeuren.de/termin/boellergruppe-jahresabschluss-schiessen/
LOCATION:Maria Schnee
CATEGORIES:Böllergruppe
END:VEVENT
BEGIN:VEVENT
DTSTART;TZID=Europe/Berlin:20251227T200000
DTEND;TZID=Europe/Berlin:20251227T220000
DTSTAMP:20260425T022528
CREATED:20251226T115503Z
LAST-MODIFIED:20251226T115503Z
UID:10002557-1766865600-1766872800@schuetzengesellschaft-nassenbeuren.de
SUMMARY:Jahresabschluss-Essen
DESCRIPTION:Eingeladen sind das Schützenmeisteramt\, Referenten\, Ausschussmitglieder\, Schießstandaufsichten sowie Mitarbeiter am und um’s Schützenheim mit Partner.
URL:https://schuetzengesellschaft-nassenbeuren.de/termin/jahresabschluss-essen-5/
LOCATION:Schützenheim
CATEGORIES:Veranstaltung
END:VEVENT
BEGIN:VEVENT
DTSTART;TZID=Europe/Berlin:20251229T183000
DTEND;TZID=Europe/Berlin:20251229T203000
DTSTAMP:20260425T022528
CREATED:20251003T161136Z
LAST-MODIFIED:20251004T120259Z
UID:10002473-1767033000-1767040200@schuetzengesellschaft-nassenbeuren.de
SUMMARY:LW 100m Training
DESCRIPTION:
URL:https://schuetzengesellschaft-nassenbeuren.de/termin/lw-100m-training-7/
LOCATION:100m LW Schießstand
CATEGORIES:Training
END:VEVENT
END:VCALENDAR