BEGIN:VCALENDAR
VERSION:2.0
PRODID:-//Kgl. priv. Schützengesellschaft Nassenbeuren - ECPv6.15.18//NONSGML v1.0//EN
CALSCALE:GREGORIAN
METHOD:PUBLISH
X-WR-CALNAME:Kgl. priv. Schützengesellschaft Nassenbeuren
X-ORIGINAL-URL:https://schuetzengesellschaft-nassenbeuren.de
X-WR-CALDESC:Veranstaltungen für Kgl. priv. Schützengesellschaft Nassenbeuren
REFRESH-INTERVAL;VALUE=DURATION:PT1H
X-Robots-Tag:noindex
X-PUBLISHED-TTL:PT1H
BEGIN:VTIMEZONE
TZID:Europe/Berlin
BEGIN:DAYLIGHT
TZOFFSETFROM:+0100
TZOFFSETTO:+0200
TZNAME:CEST
DTSTART:20240331T010000
END:DAYLIGHT
BEGIN:STANDARD
TZOFFSETFROM:+0200
TZOFFSETTO:+0100
TZNAME:CET
DTSTART:20241027T010000
END:STANDARD
BEGIN:DAYLIGHT
TZOFFSETFROM:+0100
TZOFFSETTO:+0200
TZNAME:CEST
DTSTART:20250330T010000
END:DAYLIGHT
BEGIN:STANDARD
TZOFFSETFROM:+0200
TZOFFSETTO:+0100
TZNAME:CET
DTSTART:20251026T010000
END:STANDARD
BEGIN:DAYLIGHT
TZOFFSETFROM:+0100
TZOFFSETTO:+0200
TZNAME:CEST
DTSTART:20260329T010000
END:DAYLIGHT
BEGIN:STANDARD
TZOFFSETFROM:+0200
TZOFFSETTO:+0100
TZNAME:CET
DTSTART:20261025T010000
END:STANDARD
END:VTIMEZONE
BEGIN:VEVENT
DTSTART;TZID=Europe/Berlin:20251004T090000
DTEND;TZID=Europe/Berlin:20251004T120000
DTSTAMP:20260425T052756
CREATED:20250309T210438Z
LAST-MODIFIED:20250309T210438Z
UID:10001814-1759568400-1759579200@schuetzengesellschaft-nassenbeuren.de
SUMMARY:Arbeitssitzung SMAGA
DESCRIPTION:Arbeitssitzung Gesellschaftsausschuss und Schützenmeisteramt
URL:https://schuetzengesellschaft-nassenbeuren.de/termin/arbeitssitzung-smaga-6/
LOCATION:Schützenheim
CATEGORIES:Arbeit
END:VEVENT
BEGIN:VEVENT
DTSTART;TZID=Europe/Berlin:20251004T130000
DTEND;TZID=Europe/Berlin:20251004T180000
DTSTAMP:20260425T052756
CREATED:20241010T170415Z
LAST-MODIFIED:20241010T170415Z
UID:10001277-1759582800-1759600800@schuetzengesellschaft-nassenbeuren.de
SUMMARY:Feldschützen Augsburg 100m
DESCRIPTION:Externe Teilnehmer
URL:https://schuetzengesellschaft-nassenbeuren.de/termin/feldschuetzen-augsburg-100m-34/
LOCATION:100m LW Schießstand
CATEGORIES:Training
END:VEVENT
BEGIN:VEVENT
DTSTART;TZID=Europe/Berlin:20251004T180000
DTEND;TZID=Europe/Berlin:20251004T200000
DTSTAMP:20260425T052756
CREATED:20250302T212522Z
LAST-MODIFIED:20250302T212522Z
UID:10001775-1759600800-1759608000@schuetzengesellschaft-nassenbeuren.de
SUMMARY:Böllergruppe: Oktoberfest
DESCRIPTION:Finningen
URL:https://schuetzengesellschaft-nassenbeuren.de/termin/boellergruppe-oktoberfest/
CATEGORIES:Böllergruppe
END:VEVENT
BEGIN:VEVENT
DTSTART;TZID=Europe/Berlin:20251006T183000
DTEND;TZID=Europe/Berlin:20251006T203000
DTSTAMP:20260425T052756
CREATED:20250811T154115Z
LAST-MODIFIED:20251004T120225Z
UID:10002409-1759775400-1759782600@schuetzengesellschaft-nassenbeuren.de
SUMMARY:LW 100m Training
DESCRIPTION:
URL:https://schuetzengesellschaft-nassenbeuren.de/termin/lw-100m-training/
LOCATION:100m LW Schießstand
CATEGORIES:Training
END:VEVENT
BEGIN:VEVENT
DTSTART;TZID=Europe/Berlin:20251006T190000
DTEND;TZID=Europe/Berlin:20251006T210000
DTSTAMP:20260425T052756
CREATED:20251006T120554Z
LAST-MODIFIED:20251006T120554Z
UID:10002477-1759777200-1759784400@schuetzengesellschaft-nassenbeuren.de
SUMMARY:KW 25m - Gastschießen
DESCRIPTION:Teilnehmer: angemeldete Gastschützen\, Neuschützen\, Jungschützen\, Anfänger.\nBei Interesse an der Teilnahme bitte dieses Formular ausfüllen und Termin vereinbaren.
URL:https://schuetzengesellschaft-nassenbeuren.de/termin/kw-25m-gastschiessen-11/
LOCATION:25m KW Schießstand
CATEGORIES:Training
END:VEVENT
BEGIN:VEVENT
DTSTART;TZID=Europe/Berlin:20251009T180000
DTEND;TZID=Europe/Berlin:20251009T200000
DTSTAMP:20260425T052756
CREATED:20251003T155840Z
LAST-MODIFIED:20251019T094609Z
UID:10002455-1760032800-1760040000@schuetzengesellschaft-nassenbeuren.de
SUMMARY:LG 10m Jugendtraining
DESCRIPTION:
URL:https://schuetzengesellschaft-nassenbeuren.de/termin/lg-10m-jugendtraining-21/
LOCATION:10m LP Schießstand
CATEGORIES:Jugend,Training
END:VEVENT
BEGIN:VEVENT
DTSTART;TZID=Europe/Berlin:20251009T193000
DTEND;TZID=Europe/Berlin:20251009T220000
DTSTAMP:20260425T052756
CREATED:20251003T160034Z
LAST-MODIFIED:20251003T160228Z
UID:10002460-1760038200-1760047200@schuetzengesellschaft-nassenbeuren.de
SUMMARY:GK/KK KW 25m
DESCRIPTION:Offenes Training
URL:https://schuetzengesellschaft-nassenbeuren.de/termin/gk-kk-kw-25m-228/
LOCATION:25m KW Schießstand
CATEGORIES:Training
END:VEVENT
BEGIN:VEVENT
DTSTART;TZID=Europe/Berlin:20251012T090000
DTEND;TZID=Europe/Berlin:20251012T110000
DTSTAMP:20260425T052756
CREATED:20250102T210753Z
LAST-MODIFIED:20251007T200425Z
UID:10001711-1760259600-1760266800@schuetzengesellschaft-nassenbeuren.de
SUMMARY:KW 25m Training
DESCRIPTION:
URL:https://schuetzengesellschaft-nassenbeuren.de/termin/kw-25m-training-6/
LOCATION:25m KW Schießstand
CATEGORIES:Training
END:VEVENT
BEGIN:VEVENT
DTSTART;TZID=Europe/Berlin:20251012T100000
DTEND;TZID=Europe/Berlin:20251012T130000
DTSTAMP:20260425T052756
CREATED:20241226T225250Z
LAST-MODIFIED:20241226T225250Z
UID:10001398-1760263200-1760274000@schuetzengesellschaft-nassenbeuren.de
SUMMARY:GK / Ordonanz 100m
DESCRIPTION:
URL:https://schuetzengesellschaft-nassenbeuren.de/termin/gk-ordonanz-100m-107/
LOCATION:100m LW Schießstand
CATEGORIES:Training
END:VEVENT
BEGIN:VEVENT
DTSTART;TZID=Europe/Berlin:20251016T193000
DTEND;TZID=Europe/Berlin:20251016T220000
DTSTAMP:20260425T052756
CREATED:20251003T160034Z
LAST-MODIFIED:20251020T065047Z
UID:10002461-1760643000-1760652000@schuetzengesellschaft-nassenbeuren.de
SUMMARY:GK/KK KW 25m
DESCRIPTION:Offenes Training
URL:https://schuetzengesellschaft-nassenbeuren.de/termin/gk-kk-kw-25m-230/
LOCATION:25m KW Schießstand
CATEGORIES:Training
END:VEVENT
BEGIN:VEVENT
DTSTART;TZID=Europe/Berlin:20251017T150000
DTEND;TZID=Europe/Berlin:20251017T170000
DTSTAMP:20260425T052756
CREATED:20251017T063126Z
LAST-MODIFIED:20251017T063126Z
UID:10002480-1760713200-1760720400@schuetzengesellschaft-nassenbeuren.de
SUMMARY:GK LW Einschießen WBK Jäger/WL 100m
DESCRIPTION:Für angemeldete Schützen mit Langwaffen in jagdlichen Kalibern auf dem 100m-Stand\, mit oder ohne Schalldämpfer.\nEinschießen\, Prüfen und Justieren von Zielfernrohren\, Vorsatzgeräten und Wärmebildkameras für Jäger\, V0-Messung für Wiederlader.\nBei Interesse an der Teilname bitte Email senden an: 2sm@schuetzengesellschaft-nassenbeuren.de\nAchtung: Verwendung von Solid-Geschossen ist derzeit nicht erlaubt!
URL:https://schuetzengesellschaft-nassenbeuren.de/termin/gk-lw-einschiessen-wbk-jaeger-wl-100m-50/
LOCATION:100m LW Schießstand
CATEGORIES:Jagdlich
ATTACH;FMTTYPE=image/jpeg:https://schuetzengesellschaft-nassenbeuren.de/wp-content/uploads/100m_therm_1067.jpg
END:VEVENT
BEGIN:VEVENT
DTSTART;TZID=Europe/Berlin:20251017T190000
DTEND;TZID=Europe/Berlin:20251017T210000
DTSTAMP:20260425T052756
CREATED:20251003T155058Z
LAST-MODIFIED:20251003T155058Z
UID:10002422-1760727600-1760734800@schuetzengesellschaft-nassenbeuren.de
SUMMARY:Edelweiß Eröffnungsschießen
DESCRIPTION:Externe Teilnehmer
URL:https://schuetzengesellschaft-nassenbeuren.de/termin/edelweiss-eroeffnungsschiessen/
LOCATION:König-Ludwig-Stube
CATEGORIES:Training
END:VEVENT
BEGIN:VEVENT
DTSTART;TZID=Europe/Berlin:20251018T140000
DTEND;TZID=Europe/Berlin:20251018T180000
DTSTAMP:20260425T052756
CREATED:20241029T094306Z
LAST-MODIFIED:20241029T094306Z
UID:10001307-1760796000-1760810400@schuetzengesellschaft-nassenbeuren.de
SUMMARY:BJV Jagdliches Schießen 100m
DESCRIPTION:Externe Teilnehmer
URL:https://schuetzengesellschaft-nassenbeuren.de/termin/bjv-jagdliches-schiessen-100m-27/
LOCATION:100m LW Schießstand
CATEGORIES:Jagdlich
END:VEVENT
BEGIN:VEVENT
DTSTART;TZID=Europe/Berlin:20251021T183000
DTEND;TZID=Europe/Berlin:20251021T203000
DTSTAMP:20260425T052756
CREATED:20250811T154124Z
LAST-MODIFIED:20251004T120230Z
UID:10002408-1761071400-1761078600@schuetzengesellschaft-nassenbeuren.de
SUMMARY:LW 100m Training
DESCRIPTION:
URL:https://schuetzengesellschaft-nassenbeuren.de/termin/lw-100m-training-2/
LOCATION:100m LW Schießstand
CATEGORIES:Training
END:VEVENT
BEGIN:VEVENT
DTSTART;TZID=Europe/Berlin:20251021T190000
DTEND;TZID=Europe/Berlin:20251021T210000
DTSTAMP:20260425T052756
CREATED:20251020T094307Z
LAST-MODIFIED:20251020T094307Z
UID:10002545-1761073200-1761080400@schuetzengesellschaft-nassenbeuren.de
SUMMARY:KW 25m - Gastschießen
DESCRIPTION:Teilnehmer: angemeldete Gastschützen\, Neuschützen\, Jungschützen\, Anfänger.\nBei Interesse an der Teilnahme bitte dieses Formular ausfüllen und Termin vereinbaren.
URL:https://schuetzengesellschaft-nassenbeuren.de/termin/kw-25m-gastschiessen-12/
LOCATION:25m KW Schießstand
CATEGORIES:Training
END:VEVENT
BEGIN:VEVENT
DTSTART;TZID=Europe/Berlin:20251023T180000
DTEND;TZID=Europe/Berlin:20251023T200000
DTSTAMP:20260425T052756
CREATED:20251003T155840Z
LAST-MODIFIED:20251019T094604Z
UID:10002456-1761242400-1761249600@schuetzengesellschaft-nassenbeuren.de
SUMMARY:LG 10m Jugendtraining
DESCRIPTION:
URL:https://schuetzengesellschaft-nassenbeuren.de/termin/lg-10m-jugendtraining-22/
LOCATION:10m LP Schießstand
CATEGORIES:Jugend,Training
END:VEVENT
BEGIN:VEVENT
DTSTART;TZID=Europe/Berlin:20251023T193000
DTEND;TZID=Europe/Berlin:20251023T220000
DTSTAMP:20260425T052756
CREATED:20251003T160034Z
LAST-MODIFIED:20251020T081436Z
UID:10002462-1761247800-1761256800@schuetzengesellschaft-nassenbeuren.de
SUMMARY:GK/KK KW 25m
DESCRIPTION:Offenes Training für Mitglieder
URL:https://schuetzengesellschaft-nassenbeuren.de/termin/gk-kk-kw-25m-231/
LOCATION:25m KW Schießstand
CATEGORIES:Training
ATTACH;FMTTYPE=image/jpeg:https://schuetzengesellschaft-nassenbeuren.de/wp-content/uploads/25m_1067.jpg
END:VEVENT
BEGIN:VEVENT
DTSTART;TZID=Europe/Berlin:20251024T193000
DTEND;TZID=Europe/Berlin:20251024T213000
DTSTAMP:20260425T052756
CREATED:20251017T072856Z
LAST-MODIFIED:20251017T072856Z
UID:10002481-1761334200-1761341400@schuetzengesellschaft-nassenbeuren.de
SUMMARY:LP/LG Herbstliches Eröffnungsschießen
DESCRIPTION:
URL:https://schuetzengesellschaft-nassenbeuren.de/termin/lp-lg-herbstliches-eroeffnungsschiessen/
LOCATION:10m LP Schießstand
CATEGORIES:Training
END:VEVENT
BEGIN:VEVENT
DTSTART;TZID=Europe/Berlin:20251025T140000
DTEND;TZID=Europe/Berlin:20251025T140000
DTSTAMP:20260425T052756
CREATED:20250415T112353Z
LAST-MODIFIED:20250415T112353Z
UID:10002064-1761400800-1761400800@schuetzengesellschaft-nassenbeuren.de
SUMMARY:Kgl. priv. SG Immenstadt 100m
DESCRIPTION:
URL:https://schuetzengesellschaft-nassenbeuren.de/termin/kgl-priv-sg-immenstadt-100m-7/
LOCATION:100m LW Schießstand
END:VEVENT
BEGIN:VEVENT
DTSTART;TZID=Europe/Berlin:20251025T190000
DTEND;TZID=Europe/Berlin:20251025T210000
DTSTAMP:20260425T052756
CREATED:20251003T155058Z
LAST-MODIFIED:20251003T155058Z
UID:10002423-1761418800-1761426000@schuetzengesellschaft-nassenbeuren.de
SUMMARY:Edelweiß 1. Klausenschießen
DESCRIPTION:Externe Teilnehmer
URL:https://schuetzengesellschaft-nassenbeuren.de/termin/edelweiss-1-klausenschiessen/
LOCATION:König-Ludwig-Stube
CATEGORIES:Training
END:VEVENT
BEGIN:VEVENT
DTSTART;TZID=Europe/Berlin:20251026T090000
DTEND;TZID=Europe/Berlin:20251026T110000
DTSTAMP:20260425T052756
CREATED:20250102T210753Z
LAST-MODIFIED:20251007T200434Z
UID:10001712-1761469200-1761476400@schuetzengesellschaft-nassenbeuren.de
SUMMARY:KW 25m Training
DESCRIPTION:
URL:https://schuetzengesellschaft-nassenbeuren.de/termin/kw-25m-training/
LOCATION:25m KW Schießstand
CATEGORIES:Training
END:VEVENT
BEGIN:VEVENT
DTSTART;TZID=Europe/Berlin:20251026T100000
DTEND;TZID=Europe/Berlin:20251026T130000
DTSTAMP:20260425T052756
CREATED:20241226T225250Z
LAST-MODIFIED:20251003T161604Z
UID:10001399-1761472800-1761483600@schuetzengesellschaft-nassenbeuren.de
SUMMARY:GK / Ordonanz 100m
DESCRIPTION:
URL:https://schuetzengesellschaft-nassenbeuren.de/termin/gk-ordonanz-100m-108/
LOCATION:100m LW Schießstand
CATEGORIES:Training
END:VEVENT
BEGIN:VEVENT
DTSTART;TZID=Europe/Berlin:20251030T193000
DTEND;TZID=Europe/Berlin:20251030T220000
DTSTAMP:20260425T052756
CREATED:20251003T160034Z
LAST-MODIFIED:20251020T081437Z
UID:10002463-1761852600-1761861600@schuetzengesellschaft-nassenbeuren.de
SUMMARY:GK/KK KW 25m
DESCRIPTION:Offenes Training für Mitglieder
URL:https://schuetzengesellschaft-nassenbeuren.de/termin/gk-kk-kw-25m-232/
LOCATION:25m KW Schießstand
CATEGORIES:Training
ATTACH;FMTTYPE=image/jpeg:https://schuetzengesellschaft-nassenbeuren.de/wp-content/uploads/25m_1067.jpg
END:VEVENT
END:VCALENDAR