BEGIN:VCALENDAR
VERSION:2.0
PRODID:-//Kgl. priv. Schützengesellschaft Nassenbeuren - ECPv6.15.18//NONSGML v1.0//EN
CALSCALE:GREGORIAN
METHOD:PUBLISH
X-WR-CALNAME:Kgl. priv. Schützengesellschaft Nassenbeuren
X-ORIGINAL-URL:https://schuetzengesellschaft-nassenbeuren.de
X-WR-CALDESC:Veranstaltungen für Kgl. priv. Schützengesellschaft Nassenbeuren
REFRESH-INTERVAL;VALUE=DURATION:PT1H
X-Robots-Tag:noindex
X-PUBLISHED-TTL:PT1H
BEGIN:VTIMEZONE
TZID:Europe/Berlin
BEGIN:DAYLIGHT
TZOFFSETFROM:+0100
TZOFFSETTO:+0200
TZNAME:CEST
DTSTART:20240331T010000
END:DAYLIGHT
BEGIN:STANDARD
TZOFFSETFROM:+0200
TZOFFSETTO:+0100
TZNAME:CET
DTSTART:20241027T010000
END:STANDARD
BEGIN:DAYLIGHT
TZOFFSETFROM:+0100
TZOFFSETTO:+0200
TZNAME:CEST
DTSTART:20250330T010000
END:DAYLIGHT
BEGIN:STANDARD
TZOFFSETFROM:+0200
TZOFFSETTO:+0100
TZNAME:CET
DTSTART:20251026T010000
END:STANDARD
BEGIN:DAYLIGHT
TZOFFSETFROM:+0100
TZOFFSETTO:+0200
TZNAME:CEST
DTSTART:20260329T010000
END:DAYLIGHT
BEGIN:STANDARD
TZOFFSETFROM:+0200
TZOFFSETTO:+0100
TZNAME:CET
DTSTART:20261025T010000
END:STANDARD
END:VTIMEZONE
BEGIN:VEVENT
DTSTART;TZID=Europe/Berlin:20250801T190000
DTEND;TZID=Europe/Berlin:20250801T210000
DTSTAMP:20260425T052756
CREATED:20250606T145041Z
LAST-MODIFIED:20250606T150341Z
UID:10002381-1754074800-1754082000@schuetzengesellschaft-nassenbeuren.de
SUMMARY:Sommerfestschießen KK und Königsschießen
DESCRIPTION:Gesellschaftsschießen KK LW: Einlage 10€ Nachkauf 2€
URL:https://schuetzengesellschaft-nassenbeuren.de/termin/sommerfestschiessen-kk-und-koenigsschiessen-14/
LOCATION:50m LW Schießstand
CATEGORIES:Wettkampf
END:VEVENT
BEGIN:VEVENT
DTSTART;TZID=Europe/Berlin:20250802T090000
DTEND;TZID=Europe/Berlin:20250802T120000
DTSTAMP:20260425T052756
CREATED:20250309T210429Z
LAST-MODIFIED:20250801T110200Z
UID:10001813-1754125200-1754136000@schuetzengesellschaft-nassenbeuren.de
SUMMARY:Entfällt: Arbeitssitzung SMAGA
DESCRIPTION:Arbeitssitzung Gesellschaftsausschuss und Schützenmeisteramt – ist verschoben
URL:https://schuetzengesellschaft-nassenbeuren.de/termin/arbeitssitzung-smaga-5/
LOCATION:Schützenheim
CATEGORIES:Arbeit
END:VEVENT
BEGIN:VEVENT
DTSTART;TZID=Europe/Berlin:20250803T100000
DTEND;TZID=Europe/Berlin:20250803T130000
DTSTAMP:20260425T052756
CREATED:20241226T225050Z
LAST-MODIFIED:20241226T225050Z
UID:10001393-1754215200-1754226000@schuetzengesellschaft-nassenbeuren.de
SUMMARY:GK / Ordonanz 100m
DESCRIPTION:
URL:https://schuetzengesellschaft-nassenbeuren.de/termin/gk-ordonanz-100m-102/
LOCATION:100m LW Schießstand
CATEGORIES:Training
END:VEVENT
BEGIN:VEVENT
DTSTART;TZID=Europe/Berlin:20250803T130000
DTEND;TZID=Europe/Berlin:20250803T150000
DTSTAMP:20260425T052756
CREATED:20250102T210738Z
LAST-MODIFIED:20250102T210738Z
UID:10001706-1754226000-1754233200@schuetzengesellschaft-nassenbeuren.de
SUMMARY:KW 25m - BDS Wettkampftraining
DESCRIPTION:Teilnehmerkreis: Ausschließlich BDS-Mitglieder – Ablauf gem. BDS-Sporthandbuch
URL:https://schuetzengesellschaft-nassenbeuren.de/termin/kw-25m-bds-wettkampftraining-18/
LOCATION:25m KW Schießstand
CATEGORIES:Training
END:VEVENT
BEGIN:VEVENT
DTSTART;TZID=Europe/Berlin:20250803T180000
DTEND;TZID=Europe/Berlin:20250803T200000
DTSTAMP:20260425T052756
CREATED:20250606T145044Z
LAST-MODIFIED:20250606T150344Z
UID:10002382-1754244000-1754251200@schuetzengesellschaft-nassenbeuren.de
SUMMARY:Sommerfestschießen KK und Königsschießen
DESCRIPTION:Gesellschaftsschießen KK LW: Einlage 10€ Nachkauf 2€
URL:https://schuetzengesellschaft-nassenbeuren.de/termin/sommerfestschiessen-kk-und-koenigsschiessen-15/
LOCATION:50m LW Schießstand
CATEGORIES:Wettkampf
END:VEVENT
BEGIN:VEVENT
DTSTART;TZID=Europe/Berlin:20250808T140000
DTEND;TZID=Europe/Berlin:20250808T190000
DTSTAMP:20260425T052756
CREATED:20250606T145044Z
LAST-MODIFIED:20250805T151202Z
UID:10002383-1754661600-1754679600@schuetzengesellschaft-nassenbeuren.de
SUMMARY:Sommerfest Aufbau Zelt
DESCRIPTION:
URL:https://schuetzengesellschaft-nassenbeuren.de/termin/sommerfest-aufbau-zelt-4/
LOCATION:Schützenheim
CATEGORIES:Arbeit
END:VEVENT
BEGIN:VEVENT
DTSTART;TZID=Europe/Berlin:20250809T150000
DTEND;TZID=Europe/Berlin:20250809T220000
DTSTAMP:20260425T052756
CREATED:20250606T145044Z
LAST-MODIFIED:20250606T150345Z
UID:10002385-1754751600-1754776800@schuetzengesellschaft-nassenbeuren.de
SUMMARY:Sommerfest 2025 mit Proklamation des Schützenkönigs und Preisverteilung
DESCRIPTION:
URL:https://schuetzengesellschaft-nassenbeuren.de/termin/sommerfest-2025-mit-proklamation-des-schuetzenkoenigs-und-preisverteilung/
LOCATION:Schützenheim
CATEGORIES:Veranstaltung
END:VEVENT
BEGIN:VEVENT
DTSTART;TZID=Europe/Berlin:20250810T100000
DTEND;TZID=Europe/Berlin:20250810T120000
DTSTAMP:20260425T052756
CREATED:20241226T224420Z
LAST-MODIFIED:20241226T224420Z
UID:10001369-1754820000-1754827200@schuetzengesellschaft-nassenbeuren.de
SUMMARY:GK/KK KW 25m - BSSB-Schießen
DESCRIPTION:Präzision und Duell\, KK und GK
URL:https://schuetzengesellschaft-nassenbeuren.de/termin/gk-kk-kw-25m-bssb-schiessen-16/
LOCATION:25m KW Schießstand
CATEGORIES:Training
END:VEVENT
BEGIN:VEVENT
DTSTART;TZID=Europe/Berlin:20250810T100000
DTEND;TZID=Europe/Berlin:20250810T120000
DTSTAMP:20260425T052756
CREATED:20250606T145044Z
LAST-MODIFIED:20250606T150345Z
UID:10002386-1754820000-1754827200@schuetzengesellschaft-nassenbeuren.de
SUMMARY:Sommerfest Abbau
DESCRIPTION:
URL:https://schuetzengesellschaft-nassenbeuren.de/termin/sommerfest-abbau-5/
LOCATION:Schützenheim
CATEGORIES:Arbeit
END:VEVENT
BEGIN:VEVENT
DTSTART;TZID=Europe/Berlin:20250810T123000
DTEND;TZID=Europe/Berlin:20250810T143000
DTSTAMP:20260425T052756
CREATED:20250302T212522Z
LAST-MODIFIED:20250302T212522Z
UID:10001773-1754829000-1754836200@schuetzengesellschaft-nassenbeuren.de
SUMMARY:32. Bay. Böllertreffen
DESCRIPTION:Eslarn /Bay. Wald
URL:https://schuetzengesellschaft-nassenbeuren.de/termin/32-bay-boellertreffen/
CATEGORIES:Böllergruppe
END:VEVENT
BEGIN:VEVENT
DTSTART;TZID=Europe/Berlin:20250811T183000
DTEND;TZID=Europe/Berlin:20250811T203000
DTSTAMP:20260425T052756
CREATED:20250811T153903Z
LAST-MODIFIED:20250811T153903Z
UID:10002404-1754937000-1754944200@schuetzengesellschaft-nassenbeuren.de
SUMMARY:LW 100m – BDS Training
DESCRIPTION:Ablauf gem. BDS-Sporthandbuch
URL:https://schuetzengesellschaft-nassenbeuren.de/termin/lw-100m-bds-training-11/
LOCATION:100m LW Schießstand
CATEGORIES:Training
END:VEVENT
BEGIN:VEVENT
DTSTART;TZID=Europe/Berlin:20250816T130000
DTEND;TZID=Europe/Berlin:20250816T180000
DTSTAMP:20260425T052756
CREATED:20241010T170414Z
LAST-MODIFIED:20241010T170414Z
UID:10001275-1755349200-1755367200@schuetzengesellschaft-nassenbeuren.de
SUMMARY:Feldschützen Augsburg 100m
DESCRIPTION:Externe Teilnehmer
URL:https://schuetzengesellschaft-nassenbeuren.de/termin/feldschuetzen-augsburg-100m-32/
LOCATION:100m LW Schießstand
CATEGORIES:Training
END:VEVENT
BEGIN:VEVENT
DTSTART;TZID=Europe/Berlin:20250817T100000
DTEND;TZID=Europe/Berlin:20250817T130000
DTSTAMP:20260425T052756
CREATED:20241226T225050Z
LAST-MODIFIED:20241226T225050Z
UID:10001394-1755424800-1755435600@schuetzengesellschaft-nassenbeuren.de
SUMMARY:GK / Ordonanz 100m
DESCRIPTION:
URL:https://schuetzengesellschaft-nassenbeuren.de/termin/gk-ordonanz-100m-103/
LOCATION:100m LW Schießstand
CATEGORIES:Training
END:VEVENT
BEGIN:VEVENT
DTSTART;TZID=Europe/Berlin:20250817T130000
DTEND;TZID=Europe/Berlin:20250817T150000
DTSTAMP:20260425T052756
CREATED:20250102T210738Z
LAST-MODIFIED:20250102T210738Z
UID:10001707-1755435600-1755442800@schuetzengesellschaft-nassenbeuren.de
SUMMARY:KW 25m - BDS Wettkampftraining
DESCRIPTION:Teilnehmerkreis: Ausschließlich BDS-Mitglieder – Ablauf gem. BDS-Sporthandbuch
URL:https://schuetzengesellschaft-nassenbeuren.de/termin/kw-25m-bds-wettkampftraining-19/
LOCATION:25m KW Schießstand
CATEGORIES:Training
END:VEVENT
BEGIN:VEVENT
DTSTART;TZID=Europe/Berlin:20250822T190000
DTEND;TZID=Europe/Berlin:20250822T210000
DTSTAMP:20260425T052756
CREATED:20250820T114020Z
LAST-MODIFIED:20250820T114020Z
UID:10002410-1755889200-1755896400@schuetzengesellschaft-nassenbeuren.de
SUMMARY:KW 25m - Gastschießen
DESCRIPTION:Teilnehmer: angemeldete Gastschützen\, Neuschützen\, Jungschützen\, Anfänger.\nBei Interesse an der Teilnahme bitte dieses Formular ausfüllen und Termin vereinbaren.
URL:https://schuetzengesellschaft-nassenbeuren.de/termin/kw-25m-gastschiessen-8/
LOCATION:25m KW Schießstand
CATEGORIES:Training
END:VEVENT
BEGIN:VEVENT
DTSTART;TZID=Europe/Berlin:20250823T140000
DTEND;TZID=Europe/Berlin:20250823T140000
DTSTAMP:20260425T052756
CREATED:20250415T112350Z
LAST-MODIFIED:20250415T112350Z
UID:10002062-1755957600-1755957600@schuetzengesellschaft-nassenbeuren.de
SUMMARY:Kgl. priv. SG Immenstadt 100m
DESCRIPTION:
URL:https://schuetzengesellschaft-nassenbeuren.de/termin/kgl-priv-sg-immenstadt-100m-5/
LOCATION:100m LW Schießstand
END:VEVENT
BEGIN:VEVENT
DTSTART;TZID=Europe/Berlin:20250824T100000
DTEND;TZID=Europe/Berlin:20250824T120000
DTSTAMP:20260425T052756
CREATED:20241226T224420Z
LAST-MODIFIED:20241226T224420Z
UID:10001370-1756029600-1756036800@schuetzengesellschaft-nassenbeuren.de
SUMMARY:GK/KK KW 25m - BSSB-Schießen
DESCRIPTION:Präzision und Duell\, KK und GK
URL:https://schuetzengesellschaft-nassenbeuren.de/termin/gk-kk-kw-25m-bssb-schiessen-17/
LOCATION:25m KW Schießstand
CATEGORIES:Training
END:VEVENT
BEGIN:VEVENT
DTSTART;TZID=Europe/Berlin:20250825T180000
DTEND;TZID=Europe/Berlin:20250825T220000
DTSTAMP:20260425T052756
CREATED:20250820T135350Z
LAST-MODIFIED:20250825T132744Z
UID:10002411-1756144800-1756159200@schuetzengesellschaft-nassenbeuren.de
SUMMARY:KW 25m - BSSB-Wettkampftraining
DESCRIPTION:Teilnehmer ausschließlich Starter bei der Deutschen Meisterschaft DSB/ BSSB in München
URL:https://schuetzengesellschaft-nassenbeuren.de/termin/kw-25m-bssb-wettkampftraining-5/
LOCATION:25m KW Schießstand
CATEGORIES:Training
END:VEVENT
BEGIN:VEVENT
DTSTART;TZID=Europe/Berlin:20250826T183000
DTEND;TZID=Europe/Berlin:20250826T203000
DTSTAMP:20260425T052756
CREATED:20250811T153913Z
LAST-MODIFIED:20250811T153913Z
UID:10002405-1756233000-1756240200@schuetzengesellschaft-nassenbeuren.de
SUMMARY:LW 100m – BDS Training
DESCRIPTION:Ablauf gem. BDS-Sporthandbuch
URL:https://schuetzengesellschaft-nassenbeuren.de/termin/lw-100m-bds-training-12/
LOCATION:100m LW Schießstand
CATEGORIES:Training
END:VEVENT
BEGIN:VEVENT
DTSTART;TZID=Europe/Berlin:20250829T140000
DTEND;TZID=Europe/Berlin:20250829T160000
DTSTAMP:20260425T052756
CREATED:20250829T082602Z
LAST-MODIFIED:20250829T082602Z
UID:10002414-1756476000-1756483200@schuetzengesellschaft-nassenbeuren.de
SUMMARY:GK LW Einschießen WBK Jäger/WL 100m
DESCRIPTION:Für angemeldete Schützen mit Langwaffen in jagdlichen Kalibern auf dem 100m-Stand\, mit oder ohne Schalldämpfer.\nEinschießen\, Prüfen und Justieren von Zielfernrohren\, Vorsatzgeräten und Wärmebildkameras für Jäger\, V0-Messung für Wiederlader.\nBei Interesse an der Teilname bitte Email senden an: 2sm@schuetzengesellschaft-nassenbeuren.de\nAchtung: Verwendung von Solid-Geschossen ist derzeit nicht erlaubt!
URL:https://schuetzengesellschaft-nassenbeuren.de/termin/gk-lw-einschiessen-wbk-jaeger-wl-100m-47/
LOCATION:100m LW Schießstand
CATEGORIES:Jagdlich
ATTACH;FMTTYPE=image/jpeg:https://schuetzengesellschaft-nassenbeuren.de/wp-content/uploads/100m_therm_1067.jpg
END:VEVENT
BEGIN:VEVENT
DTSTART;TZID=Europe/Berlin:20250830T140000
DTEND;TZID=Europe/Berlin:20250830T160000
DTSTAMP:20260425T052756
CREATED:20250811T092445Z
LAST-MODIFIED:20250811T092445Z
UID:10002402-1756562400-1756569600@schuetzengesellschaft-nassenbeuren.de
SUMMARY:Soldaten- und Reservisten­kameradschaft Erkheim GK-LW 100m
DESCRIPTION:Soldaten- und Reservistenkameradschaft Erkheim; externe Teilnehmer – geschlossene Veranstaltung;
URL:https://schuetzengesellschaft-nassenbeuren.de/termin/soldaten-und-reservistenkameradschaft-erkheim-gk-lw-100m-2/
LOCATION:100m LW Schießstand
CATEGORIES:Training
END:VEVENT
BEGIN:VEVENT
DTSTART;TZID=Europe/Berlin:20250830T140000
DTEND;TZID=Europe/Berlin:20250830T160000
DTSTAMP:20260425T052756
CREATED:20250811T092456Z
LAST-MODIFIED:20250811T092456Z
UID:10002403-1756562400-1756569600@schuetzengesellschaft-nassenbeuren.de
SUMMARY:Soldaten- und Reservisten­kameradschaft Erkheim GK-KW 25m
DESCRIPTION:Soldaten- und Reservistenkameradschaft Erkheim; externe Teilnehmer – geschlossene Veranstaltung;
URL:https://schuetzengesellschaft-nassenbeuren.de/termin/soldaten-und-reservistenkameradschaft-erkheim-gk-kw-25m-2/
LOCATION:25m KW Schießstand
CATEGORIES:Training
END:VEVENT
BEGIN:VEVENT
DTSTART;TZID=Europe/Berlin:20250831T100000
DTEND;TZID=Europe/Berlin:20250831T130000
DTSTAMP:20260425T052756
CREATED:20241226T225050Z
LAST-MODIFIED:20241226T225050Z
UID:10001395-1756634400-1756645200@schuetzengesellschaft-nassenbeuren.de
SUMMARY:GK / Ordonanz 100m
DESCRIPTION:
URL:https://schuetzengesellschaft-nassenbeuren.de/termin/gk-ordonanz-100m-104/
LOCATION:100m LW Schießstand
CATEGORIES:Training
END:VEVENT
BEGIN:VEVENT
DTSTART;TZID=Europe/Berlin:20250831T130000
DTEND;TZID=Europe/Berlin:20250831T150000
DTSTAMP:20260425T052756
CREATED:20250102T210738Z
LAST-MODIFIED:20250102T210738Z
UID:10001708-1756645200-1756652400@schuetzengesellschaft-nassenbeuren.de
SUMMARY:KW 25m - BDS Wettkampftraining
DESCRIPTION:Teilnehmerkreis: Ausschließlich BDS-Mitglieder – Ablauf gem. BDS-Sporthandbuch
URL:https://schuetzengesellschaft-nassenbeuren.de/termin/kw-25m-bds-wettkampftraining-20/
LOCATION:25m KW Schießstand
CATEGORIES:Training
END:VEVENT
END:VCALENDAR