BEGIN:VCALENDAR
VERSION:2.0
PRODID:-//Kgl. priv. Schützengesellschaft Nassenbeuren - ECPv6.15.18//NONSGML v1.0//EN
CALSCALE:GREGORIAN
METHOD:PUBLISH
X-ORIGINAL-URL:https://schuetzengesellschaft-nassenbeuren.de
X-WR-CALDESC:Veranstaltungen für Kgl. priv. Schützengesellschaft Nassenbeuren
REFRESH-INTERVAL;VALUE=DURATION:PT1H
X-Robots-Tag:noindex
X-PUBLISHED-TTL:PT1H
BEGIN:VTIMEZONE
TZID:Europe/Berlin
BEGIN:DAYLIGHT
TZOFFSETFROM:+0100
TZOFFSETTO:+0200
TZNAME:CEST
DTSTART:20240331T010000
END:DAYLIGHT
BEGIN:STANDARD
TZOFFSETFROM:+0200
TZOFFSETTO:+0100
TZNAME:CET
DTSTART:20241027T010000
END:STANDARD
BEGIN:DAYLIGHT
TZOFFSETFROM:+0100
TZOFFSETTO:+0200
TZNAME:CEST
DTSTART:20250330T010000
END:DAYLIGHT
BEGIN:STANDARD
TZOFFSETFROM:+0200
TZOFFSETTO:+0100
TZNAME:CET
DTSTART:20251026T010000
END:STANDARD
BEGIN:DAYLIGHT
TZOFFSETFROM:+0100
TZOFFSETTO:+0200
TZNAME:CEST
DTSTART:20260329T010000
END:DAYLIGHT
BEGIN:STANDARD
TZOFFSETFROM:+0200
TZOFFSETTO:+0100
TZNAME:CET
DTSTART:20261025T010000
END:STANDARD
END:VTIMEZONE
BEGIN:VEVENT
DTSTART;TZID=Europe/Berlin:20250601T100000
DTEND;TZID=Europe/Berlin:20250601T120000
DTSTAMP:20260425T152309
CREATED:20241226T224346Z
LAST-MODIFIED:20241226T224346Z
UID:10001364-1748772000-1748779200@schuetzengesellschaft-nassenbeuren.de
SUMMARY:GK/KK KW 25m - BSSB-Schießen
DESCRIPTION:Präzision und Duell\, KK und GK
URL:https://schuetzengesellschaft-nassenbeuren.de/termin/gk-kk-kw-25m-bssb-schiessen-11/
LOCATION:25m KW Schießstand
CATEGORIES:Training
END:VEVENT
BEGIN:VEVENT
DTSTART;TZID=Europe/Berlin:20250603T190000
DTEND;TZID=Europe/Berlin:20250603T220000
DTSTAMP:20260425T152309
CREATED:20250526T135517Z
LAST-MODIFIED:20250526T135517Z
UID:10002339-1748977200-1748988000@schuetzengesellschaft-nassenbeuren.de
SUMMARY:KW 25m - Gastschießen
DESCRIPTION:Teilnehmer: angemeldete Gastschützen\, Neuschützen\, Jungschützen.\nBei Interesse an der Teilnahme bitte dieses Formular ausfüllen und Termin vereinbaren.
URL:https://schuetzengesellschaft-nassenbeuren.de/termin/kw-25m-gastschiessen-3/
LOCATION:25m KW Schießstand
CATEGORIES:Training
END:VEVENT
BEGIN:VEVENT
DTSTART;TZID=Europe/Berlin:20250605T193000
DTEND;TZID=Europe/Berlin:20250605T223000
DTSTAMP:20260425T152309
CREATED:20250603T155044Z
LAST-MODIFIED:20250603T155726Z
UID:10002345-1749151800-1749162600@schuetzengesellschaft-nassenbeuren.de
SUMMARY:GK/KK KW 25m n
DESCRIPTION:Allgemeines Training
URL:https://schuetzengesellschaft-nassenbeuren.de/termin/gk-kk-kw-25m-n/
LOCATION:25m KW Schießstand
CATEGORIES:Training
END:VEVENT
BEGIN:VEVENT
DTSTART;TZID=Europe/Berlin:20250608T130000
DTEND;TZID=Europe/Berlin:20250608T150000
DTSTAMP:20260425T152309
CREATED:20250102T210723Z
LAST-MODIFIED:20250102T210723Z
UID:10001702-1749387600-1749394800@schuetzengesellschaft-nassenbeuren.de
SUMMARY:KW 25m - BDS Wettkampftraining
DESCRIPTION:Teilnehmerkreis: Ausschließlich BDS-Mitglieder – Ablauf gem. BDS-Sporthandbuch
URL:https://schuetzengesellschaft-nassenbeuren.de/termin/kw-25m-bds-wettkampftraining-14/
LOCATION:25m KW Schießstand
CATEGORIES:Training
END:VEVENT
BEGIN:VEVENT
DTSTART;TZID=Europe/Berlin:20250611T180000
DTEND;TZID=Europe/Berlin:20250611T210000
DTSTAMP:20260425T152309
CREATED:20250522T123128Z
LAST-MODIFIED:20250522T123128Z
UID:10002088-1749664800-1749675600@schuetzengesellschaft-nassenbeuren.de
SUMMARY:KW 25m - BDS-Wettkampftraining
DESCRIPTION:Teilnehmerkreis: Ausschließlich für Teilnehmer Bayerische Meisterschaft BDS in Bamberg
URL:https://schuetzengesellschaft-nassenbeuren.de/termin/kw-25m-bds-wettkampftraining-29/
LOCATION:25m KW Schießstand
CATEGORIES:Training
END:VEVENT
BEGIN:VEVENT
DTSTART;TZID=Europe/Berlin:20250615T100000
DTEND;TZID=Europe/Berlin:20250615T120000
DTSTAMP:20260425T152309
CREATED:20241226T224346Z
LAST-MODIFIED:20241226T224346Z
UID:10001365-1749981600-1749988800@schuetzengesellschaft-nassenbeuren.de
SUMMARY:GK/KK KW 25m - BSSB-Schießen
DESCRIPTION:Präzision und Duell\, KK und GK
URL:https://schuetzengesellschaft-nassenbeuren.de/termin/gk-kk-kw-25m-bssb-schiessen-12/
LOCATION:25m KW Schießstand
CATEGORIES:Training
END:VEVENT
BEGIN:VEVENT
DTSTART;TZID=Europe/Berlin:20250616T190000
DTEND;TZID=Europe/Berlin:20250616T210000
DTSTAMP:20260425T152309
CREATED:20250615T204444Z
LAST-MODIFIED:20250615T204444Z
UID:10002387-1750100400-1750107600@schuetzengesellschaft-nassenbeuren.de
SUMMARY:KW 25m - Gastschießen
DESCRIPTION:Teilnehmer: angemeldete Gastschützen\, Neuschützen\, Jungschützen.\nBei Interesse an der Teilnahme bitte dieses Formular ausfüllen und Termin vereinbaren.
URL:https://schuetzengesellschaft-nassenbeuren.de/termin/kw-25m-gastschiessen-4/
LOCATION:25m KW Schießstand
CATEGORIES:Training
END:VEVENT
BEGIN:VEVENT
DTSTART;TZID=Europe/Berlin:20250622T130000
DTEND;TZID=Europe/Berlin:20250622T150000
DTSTAMP:20260425T152309
CREATED:20250102T210723Z
LAST-MODIFIED:20250102T210723Z
UID:10001703-1750597200-1750604400@schuetzengesellschaft-nassenbeuren.de
SUMMARY:KW 25m - BDS Wettkampftraining
DESCRIPTION:Teilnehmerkreis: Ausschließlich BDS-Mitglieder – Ablauf gem. BDS-Sporthandbuch
URL:https://schuetzengesellschaft-nassenbeuren.de/termin/kw-25m-bds-wettkampftraining-15/
LOCATION:25m KW Schießstand
CATEGORIES:Training
END:VEVENT
BEGIN:VEVENT
DTSTART;TZID=Europe/Berlin:20250623T190000
DTEND;TZID=Europe/Berlin:20250623T220000
DTSTAMP:20260425T152309
CREATED:20250623T123959Z
LAST-MODIFIED:20250623T123959Z
UID:10002394-1750705200-1750716000@schuetzengesellschaft-nassenbeuren.de
SUMMARY:Training RWK 1. GK-Mannschaft
DESCRIPTION:Geschlossene Veranstaltung\nTraining 1. GK-Mannschaft
URL:https://schuetzengesellschaft-nassenbeuren.de/termin/training-rwk-1-gk-mannschaft-2/
LOCATION:25m KW Schießstand
CATEGORIES:Training
END:VEVENT
BEGIN:VEVENT
DTSTART;TZID=Europe/Berlin:20250629T100000
DTEND;TZID=Europe/Berlin:20250629T120000
DTSTAMP:20260425T152309
CREATED:20241226T224346Z
LAST-MODIFIED:20241226T224346Z
UID:10001366-1751191200-1751198400@schuetzengesellschaft-nassenbeuren.de
SUMMARY:GK/KK KW 25m - BSSB-Schießen
DESCRIPTION:Präzision und Duell\, KK und GK
URL:https://schuetzengesellschaft-nassenbeuren.de/termin/gk-kk-kw-25m-bssb-schiessen-13/
LOCATION:25m KW Schießstand
CATEGORIES:Training
END:VEVENT
BEGIN:VEVENT
DTSTART;TZID=Europe/Berlin:20250629T190000
DTEND;TZID=Europe/Berlin:20250629T230000
DTSTAMP:20260425T152309
CREATED:20250522T123325Z
LAST-MODIFIED:20250627T121658Z
UID:10002089-1751223600-1751238000@schuetzengesellschaft-nassenbeuren.de
SUMMARY:KW 25m - BDS-Wettkampftraining
DESCRIPTION:Teilnehmerkreis: Ausschließlich für Teilnehmer Bayerische Meisterschaft BDS am kommenden Wochenende in Bamberg
URL:https://schuetzengesellschaft-nassenbeuren.de/termin/kw-25m-bds-wettkampftraining-30/
LOCATION:25m KW Schießstand
CATEGORIES:Training
END:VEVENT
END:VCALENDAR