BEGIN:VCALENDAR
VERSION:2.0
PRODID:-//Kgl. priv. Schützengesellschaft Nassenbeuren - ECPv6.15.18//NONSGML v1.0//EN
CALSCALE:GREGORIAN
METHOD:PUBLISH
X-ORIGINAL-URL:https://schuetzengesellschaft-nassenbeuren.de
X-WR-CALDESC:Veranstaltungen für Kgl. priv. Schützengesellschaft Nassenbeuren
REFRESH-INTERVAL;VALUE=DURATION:PT1H
X-Robots-Tag:noindex
X-PUBLISHED-TTL:PT1H
BEGIN:VTIMEZONE
TZID:Europe/Berlin
BEGIN:DAYLIGHT
TZOFFSETFROM:+0100
TZOFFSETTO:+0200
TZNAME:CEST
DTSTART:20240331T010000
END:DAYLIGHT
BEGIN:STANDARD
TZOFFSETFROM:+0200
TZOFFSETTO:+0100
TZNAME:CET
DTSTART:20241027T010000
END:STANDARD
BEGIN:DAYLIGHT
TZOFFSETFROM:+0100
TZOFFSETTO:+0200
TZNAME:CEST
DTSTART:20250330T010000
END:DAYLIGHT
BEGIN:STANDARD
TZOFFSETFROM:+0200
TZOFFSETTO:+0100
TZNAME:CET
DTSTART:20251026T010000
END:STANDARD
BEGIN:DAYLIGHT
TZOFFSETFROM:+0100
TZOFFSETTO:+0200
TZNAME:CEST
DTSTART:20260329T010000
END:DAYLIGHT
BEGIN:STANDARD
TZOFFSETFROM:+0200
TZOFFSETTO:+0100
TZNAME:CET
DTSTART:20261025T010000
END:STANDARD
END:VTIMEZONE
BEGIN:VEVENT
DTSTART;TZID=Europe/Berlin:20250601T100000
DTEND;TZID=Europe/Berlin:20250601T120000
DTSTAMP:20260425T152040
CREATED:20241226T224346Z
LAST-MODIFIED:20241226T224346Z
UID:10001364-1748772000-1748779200@schuetzengesellschaft-nassenbeuren.de
SUMMARY:GK/KK KW 25m - BSSB-Schießen
DESCRIPTION:Präzision und Duell\, KK und GK
URL:https://schuetzengesellschaft-nassenbeuren.de/termin/gk-kk-kw-25m-bssb-schiessen-11/
LOCATION:25m KW Schießstand
CATEGORIES:Training
END:VEVENT
BEGIN:VEVENT
DTSTART;TZID=Europe/Berlin:20250605T193000
DTEND;TZID=Europe/Berlin:20250605T223000
DTSTAMP:20260425T152040
CREATED:20250603T155044Z
LAST-MODIFIED:20250603T155726Z
UID:10002345-1749151800-1749162600@schuetzengesellschaft-nassenbeuren.de
SUMMARY:GK/KK KW 25m n
DESCRIPTION:Allgemeines Training
URL:https://schuetzengesellschaft-nassenbeuren.de/termin/gk-kk-kw-25m-n/
LOCATION:25m KW Schießstand
CATEGORIES:Training
END:VEVENT
BEGIN:VEVENT
DTSTART;TZID=Europe/Berlin:20250606T150000
DTEND;TZID=Europe/Berlin:20250606T170000
DTSTAMP:20260425T152040
CREATED:20250429T085119Z
LAST-MODIFIED:20250603T215145Z
UID:10002081-1749222000-1749229200@schuetzengesellschaft-nassenbeuren.de
SUMMARY:GK LW Einschießen WBK Jäger/WL 100m
DESCRIPTION:Für angemeldete Schützen mit Langwaffen in jagdlichen Kalibern auf dem 100m-Stand\, mit oder ohne Schalldämpfer.\nEinschießen\, Prüfen und Justieren von Zielfernrohren\, Vorsatzgeräten und Wärmebildkameras für Jäger\, V0-Messung für Wiederlader.\nBei Interesse an der Teilname bitte Email senden an: 2sm@schuetzengesellschaft-nassenbeuren.de\nAchtung: Verwendung von Solid-Geschossen ist derzeit nicht erlaubt!
URL:https://schuetzengesellschaft-nassenbeuren.de/termin/gk-lw-einschiessen-wbk-jaeger-wl-100m-43/
LOCATION:100m LW Schießstand
CATEGORIES:Jagdlich
ATTACH;FMTTYPE=image/jpeg:https://schuetzengesellschaft-nassenbeuren.de/wp-content/uploads/100m_therm_1067.jpg
END:VEVENT
BEGIN:VEVENT
DTSTART;TZID=Europe/Berlin:20250609T100000
DTEND;TZID=Europe/Berlin:20250609T130000
DTSTAMP:20260425T152040
CREATED:20241226T224850Z
LAST-MODIFIED:20241226T224850Z
UID:10001389-1749463200-1749474000@schuetzengesellschaft-nassenbeuren.de
SUMMARY:GK / Ordonanz 100m
DESCRIPTION:
URL:https://schuetzengesellschaft-nassenbeuren.de/termin/gk-ordonanz-100m-98/
LOCATION:100m LW Schießstand
CATEGORIES:Training
END:VEVENT
BEGIN:VEVENT
DTSTART;TZID=Europe/Berlin:20250615T100000
DTEND;TZID=Europe/Berlin:20250615T120000
DTSTAMP:20260425T152040
CREATED:20241226T224346Z
LAST-MODIFIED:20241226T224346Z
UID:10001365-1749981600-1749988800@schuetzengesellschaft-nassenbeuren.de
SUMMARY:GK/KK KW 25m - BSSB-Schießen
DESCRIPTION:Präzision und Duell\, KK und GK
URL:https://schuetzengesellschaft-nassenbeuren.de/termin/gk-kk-kw-25m-bssb-schiessen-12/
LOCATION:25m KW Schießstand
CATEGORIES:Training
END:VEVENT
BEGIN:VEVENT
DTSTART;TZID=Europe/Berlin:20250620T150000
DTEND;TZID=Europe/Berlin:20250620T170000
DTSTAMP:20260425T152040
CREATED:20250620T061025Z
LAST-MODIFIED:20250620T061025Z
UID:10002393-1750431600-1750438800@schuetzengesellschaft-nassenbeuren.de
SUMMARY:GK LW Einschießen WBK Jäger/WL 100m
DESCRIPTION:Für angemeldete Schützen mit Langwaffen in jagdlichen Kalibern auf dem 100m-Stand\, mit oder ohne Schalldämpfer.\nEinschießen\, Prüfen und Justieren von Zielfernrohren\, Vorsatzgeräten und Wärmebildkameras für Jäger\, V0-Messung für Wiederlader.\nBei Interesse an der Teilname bitte Email senden an: 2sm@schuetzengesellschaft-nassenbeuren.de\nAchtung: Verwendung von Solid-Geschossen ist derzeit nicht erlaubt!
URL:https://schuetzengesellschaft-nassenbeuren.de/termin/gk-lw-einschiessen-wbk-jaeger-wl-100m-44/
LOCATION:100m LW Schießstand
CATEGORIES:Jagdlich
ATTACH;FMTTYPE=image/jpeg:https://schuetzengesellschaft-nassenbeuren.de/wp-content/uploads/100m_therm_1067.jpg
END:VEVENT
BEGIN:VEVENT
DTSTART;TZID=Europe/Berlin:20250622T100000
DTEND;TZID=Europe/Berlin:20250622T130000
DTSTAMP:20260425T152040
CREATED:20241226T224850Z
LAST-MODIFIED:20241226T224850Z
UID:10001390-1750586400-1750597200@schuetzengesellschaft-nassenbeuren.de
SUMMARY:GK / Ordonanz 100m
DESCRIPTION:
URL:https://schuetzengesellschaft-nassenbeuren.de/termin/gk-ordonanz-100m-99/
LOCATION:100m LW Schießstand
CATEGORIES:Training
END:VEVENT
BEGIN:VEVENT
DTSTART;TZID=Europe/Berlin:20250623T190000
DTEND;TZID=Europe/Berlin:20250623T220000
DTSTAMP:20260425T152040
CREATED:20250623T123959Z
LAST-MODIFIED:20250623T123959Z
UID:10002394-1750705200-1750716000@schuetzengesellschaft-nassenbeuren.de
SUMMARY:Training RWK 1. GK-Mannschaft
DESCRIPTION:Geschlossene Veranstaltung\nTraining 1. GK-Mannschaft
URL:https://schuetzengesellschaft-nassenbeuren.de/termin/training-rwk-1-gk-mannschaft-2/
LOCATION:25m KW Schießstand
CATEGORIES:Training
END:VEVENT
BEGIN:VEVENT
DTSTART;TZID=Europe/Berlin:20250627T150000
DTEND;TZID=Europe/Berlin:20250627T170000
DTSTAMP:20260425T152040
CREATED:20250626T115552Z
LAST-MODIFIED:20250626T115552Z
UID:10002398-1751036400-1751043600@schuetzengesellschaft-nassenbeuren.de
SUMMARY:GK LW Einschießen WBK Jäger/WL 100m
DESCRIPTION:Für angemeldete Schützen mit Langwaffen in jagdlichen Kalibern auf dem 100m-Stand\, mit oder ohne Schalldämpfer.\nEinschießen\, Prüfen und Justieren von Zielfernrohren\, Vorsatzgeräten und Wärmebildkameras für Jäger\, V0-Messung für Wiederlader.\nBei Interesse an der Teilname bitte Email senden an: 2sm@schuetzengesellschaft-nassenbeuren.de\nAchtung: Verwendung von Solid-Geschossen ist derzeit nicht erlaubt!
URL:https://schuetzengesellschaft-nassenbeuren.de/termin/gk-lw-einschiessen-wbk-jaeger-wl-100m-45/
LOCATION:100m LW Schießstand
CATEGORIES:Jagdlich
ATTACH;FMTTYPE=image/jpeg:https://schuetzengesellschaft-nassenbeuren.de/wp-content/uploads/100m_therm_1067.jpg
END:VEVENT
BEGIN:VEVENT
DTSTART;TZID=Europe/Berlin:20250629T100000
DTEND;TZID=Europe/Berlin:20250629T120000
DTSTAMP:20260425T152040
CREATED:20241226T224346Z
LAST-MODIFIED:20241226T224346Z
UID:10001366-1751191200-1751198400@schuetzengesellschaft-nassenbeuren.de
SUMMARY:GK/KK KW 25m - BSSB-Schießen
DESCRIPTION:Präzision und Duell\, KK und GK
URL:https://schuetzengesellschaft-nassenbeuren.de/termin/gk-kk-kw-25m-bssb-schiessen-13/
LOCATION:25m KW Schießstand
CATEGORIES:Training
END:VEVENT
END:VCALENDAR