BEGIN:VCALENDAR
VERSION:2.0
PRODID:-//Kgl. priv. Schützengesellschaft Nassenbeuren - ECPv6.15.18//NONSGML v1.0//EN
CALSCALE:GREGORIAN
METHOD:PUBLISH
X-ORIGINAL-URL:https://schuetzengesellschaft-nassenbeuren.de
X-WR-CALDESC:Veranstaltungen für Kgl. priv. Schützengesellschaft Nassenbeuren
REFRESH-INTERVAL;VALUE=DURATION:PT1H
X-Robots-Tag:noindex
X-PUBLISHED-TTL:PT1H
BEGIN:VTIMEZONE
TZID:Europe/Berlin
BEGIN:DAYLIGHT
TZOFFSETFROM:+0100
TZOFFSETTO:+0200
TZNAME:CEST
DTSTART:20240331T010000
END:DAYLIGHT
BEGIN:STANDARD
TZOFFSETFROM:+0200
TZOFFSETTO:+0100
TZNAME:CET
DTSTART:20241027T010000
END:STANDARD
BEGIN:DAYLIGHT
TZOFFSETFROM:+0100
TZOFFSETTO:+0200
TZNAME:CEST
DTSTART:20250330T010000
END:DAYLIGHT
BEGIN:STANDARD
TZOFFSETFROM:+0200
TZOFFSETTO:+0100
TZNAME:CET
DTSTART:20251026T010000
END:STANDARD
BEGIN:DAYLIGHT
TZOFFSETFROM:+0100
TZOFFSETTO:+0200
TZNAME:CEST
DTSTART:20260329T010000
END:DAYLIGHT
BEGIN:STANDARD
TZOFFSETFROM:+0200
TZOFFSETTO:+0100
TZNAME:CET
DTSTART:20261025T010000
END:STANDARD
END:VTIMEZONE
BEGIN:VEVENT
DTSTART;TZID=Europe/Berlin:20250501T193000
DTEND;TZID=Europe/Berlin:20250501T223000
DTSTAMP:20260425T053338
CREATED:20250429T205108Z
LAST-MODIFIED:20250429T205109Z
UID:10001419-1746127800-1746138600@schuetzengesellschaft-nassenbeuren.de
SUMMARY:GK/KK KW 25m
DESCRIPTION:Allgemeines Training
URL:https://schuetzengesellschaft-nassenbeuren.de/termin/gk-kk-kw-25m-229-2-3/
LOCATION:25m KW Schießstand
CATEGORIES:Training
END:VEVENT
BEGIN:VEVENT
DTSTART;TZID=Europe/Berlin:20250502T190000
DTEND;TZID=Europe/Berlin:20250502T220000
DTSTAMP:20260425T053338
CREATED:20250331T212608Z
LAST-MODIFIED:20250429T204850Z
UID:10001826-1746212400-1746223200@schuetzengesellschaft-nassenbeuren.de
SUMMARY:KW 25m - BSSB-Wettkampftraining
DESCRIPTION:Teilnehmerkreis: Ausschließlich Teilnehmer an kommender Bezirksmeisterschaft BSSB
URL:https://schuetzengesellschaft-nassenbeuren.de/termin/kw-25m-bssb-wettkampftraining-2/
LOCATION:25m KW Schießstand
CATEGORIES:Training
END:VEVENT
BEGIN:VEVENT
DTSTART;TZID=Europe/Berlin:20250504T100000
DTEND;TZID=Europe/Berlin:20250504T120000
DTSTAMP:20260425T053338
CREATED:20241226T224331Z
LAST-MODIFIED:20250429T204941Z
UID:10001362-1746352800-1746360000@schuetzengesellschaft-nassenbeuren.de
SUMMARY:Entfällt: GK/KK KW 25m - BSSB-Schießen
DESCRIPTION:Der Termin entfällt mangels Aufsicht
URL:https://schuetzengesellschaft-nassenbeuren.de/termin/gk-kk-kw-25m-bssb-schiessen-9/
LOCATION:25m KW Schießstand
CATEGORIES:Training
END:VEVENT
BEGIN:VEVENT
DTSTART;TZID=Europe/Berlin:20250504T180000
DTEND;TZID=Europe/Berlin:20250504T210000
DTSTAMP:20260425T053338
CREATED:20250102T205818Z
LAST-MODIFIED:20250102T205818Z
UID:10001675-1746381600-1746392400@schuetzengesellschaft-nassenbeuren.de
SUMMARY:RAG GK/KK-KW 25m
DESCRIPTION:RAG-Schießsport Allgäu Mindelheim\, externe Teilnehmer – geschlossene Veranstaltung\, Teilnahme am Schießbetrieb nur nach jährlicher Teilnahme an der Sicherheitsbelehrung\, Unregelmäßige Teilnehmer vorher beim Schießleiter W. Ertl anrufen!
URL:https://schuetzengesellschaft-nassenbeuren.de/termin/rag-gk-kk-kw-25m-33/
LOCATION:25m KW Schießstand
CATEGORIES:Training
END:VEVENT
BEGIN:VEVENT
DTSTART;TZID=Europe/Berlin:20250511T130000
DTEND;TZID=Europe/Berlin:20250511T150000
DTSTAMP:20260425T053338
CREATED:20250102T210708Z
LAST-MODIFIED:20250102T210708Z
UID:10001700-1746968400-1746975600@schuetzengesellschaft-nassenbeuren.de
SUMMARY:KW 25m - BDS Wettkampftraining
DESCRIPTION:Teilnehmerkreis: Ausschließlich BDS-Mitglieder – Ablauf gem. BDS-Sporthandbuch
URL:https://schuetzengesellschaft-nassenbeuren.de/termin/kw-25m-bds-wettkampftraining-12/
LOCATION:25m KW Schießstand
CATEGORIES:Training
END:VEVENT
BEGIN:VEVENT
DTSTART;TZID=Europe/Berlin:20250515T193000
DTEND;TZID=Europe/Berlin:20250515T223000
DTSTAMP:20260425T053338
CREATED:20250423T205409Z
LAST-MODIFIED:20250423T205410Z
UID:10001421-1747337400-1747348200@schuetzengesellschaft-nassenbeuren.de
SUMMARY:GK/KK KW 25m
DESCRIPTION:Allgemeines Training
URL:https://schuetzengesellschaft-nassenbeuren.de/termin/gk-kk-kw-25m-229-2-2/
LOCATION:25m KW Schießstand
CATEGORIES:Training
END:VEVENT
BEGIN:VEVENT
DTSTART;TZID=Europe/Berlin:20250518T100000
DTEND;TZID=Europe/Berlin:20250518T120000
DTSTAMP:20260425T053338
CREATED:20241226T224346Z
LAST-MODIFIED:20241226T224346Z
UID:10001363-1747562400-1747569600@schuetzengesellschaft-nassenbeuren.de
SUMMARY:GK/KK KW 25m - BSSB-Schießen
DESCRIPTION:Präzision und Duell\, KK und GK
URL:https://schuetzengesellschaft-nassenbeuren.de/termin/gk-kk-kw-25m-bssb-schiessen-10/
LOCATION:25m KW Schießstand
CATEGORIES:Training
END:VEVENT
BEGIN:VEVENT
DTSTART;TZID=Europe/Berlin:20250521T190000
DTEND;TZID=Europe/Berlin:20250521T220000
DTSTAMP:20260425T053338
CREATED:20250510T061907Z
LAST-MODIFIED:20250515T141738Z
UID:10002084-1747854000-1747864800@schuetzengesellschaft-nassenbeuren.de
SUMMARY:KW 25m - Gastschießen
DESCRIPTION:Teilnehmer: angemeldete Gastschützen\, Neuschützen.\nBei Interesse an der Teilnahme bitte dieses Formular ausfüllen und Termin vereinbaren.
URL:https://schuetzengesellschaft-nassenbeuren.de/termin/kw-25m-gastschiessen-2/
LOCATION:25m KW Schießstand
CATEGORIES:Training
END:VEVENT
BEGIN:VEVENT
DTSTART;TZID=Europe/Berlin:20250525T130000
DTEND;TZID=Europe/Berlin:20250525T150000
DTSTAMP:20260425T053338
CREATED:20250102T210723Z
LAST-MODIFIED:20250102T210723Z
UID:10001701-1748178000-1748185200@schuetzengesellschaft-nassenbeuren.de
SUMMARY:KW 25m - BDS Wettkampftraining
DESCRIPTION:Teilnehmerkreis: Ausschließlich BDS-Mitglieder – Ablauf gem. BDS-Sporthandbuch
URL:https://schuetzengesellschaft-nassenbeuren.de/termin/kw-25m-bds-wettkampftraining-13/
LOCATION:25m KW Schießstand
CATEGORIES:Training
END:VEVENT
BEGIN:VEVENT
DTSTART;TZID=Europe/Berlin:20250529T193000
DTEND;TZID=Europe/Berlin:20250529T223000
DTSTAMP:20260425T053338
CREATED:20250529T111627Z
LAST-MODIFIED:20250529T111627Z
UID:10001423-1748547000-1748557800@schuetzengesellschaft-nassenbeuren.de
SUMMARY:Entfällt - GK/KK KW 25m
DESCRIPTION:Allgemeines Training entfällt wegen zahreicher alternativer Vatertagsbeschäftigungen
URL:https://schuetzengesellschaft-nassenbeuren.de/termin/gk-kk-kw-25m-229-2-3-2-2/
LOCATION:25m KW Schießstand
CATEGORIES:Training
END:VEVENT
BEGIN:VEVENT
DTSTART;TZID=Europe/Berlin:20250530T180000
DTEND;TZID=Europe/Berlin:20250530T220000
DTSTAMP:20260425T053338
CREATED:20250522T123617Z
LAST-MODIFIED:20250522T123617Z
UID:10002090-1748628000-1748642400@schuetzengesellschaft-nassenbeuren.de
SUMMARY:RWK 1. GK-Mannschaft
DESCRIPTION:Geschlossene Veranstaltung\nHeimwettkampf gegen Neu-Ulm
URL:https://schuetzengesellschaft-nassenbeuren.de/termin/rwk-1-gk-mannschaft-4/
LOCATION:25m KW Schießstand
CATEGORIES:Wettkampf
END:VEVENT
END:VCALENDAR