BEGIN:VCALENDAR
VERSION:2.0
PRODID:-//Kgl. priv. Schützengesellschaft Nassenbeuren - ECPv6.15.18//NONSGML v1.0//EN
CALSCALE:GREGORIAN
METHOD:PUBLISH
X-WR-CALNAME:Kgl. priv. Schützengesellschaft Nassenbeuren
X-ORIGINAL-URL:https://schuetzengesellschaft-nassenbeuren.de
X-WR-CALDESC:Veranstaltungen für Kgl. priv. Schützengesellschaft Nassenbeuren
REFRESH-INTERVAL;VALUE=DURATION:PT1H
X-Robots-Tag:noindex
X-PUBLISHED-TTL:PT1H
BEGIN:VTIMEZONE
TZID:Europe/Berlin
BEGIN:DAYLIGHT
TZOFFSETFROM:+0100
TZOFFSETTO:+0200
TZNAME:CEST
DTSTART:20240331T010000
END:DAYLIGHT
BEGIN:STANDARD
TZOFFSETFROM:+0200
TZOFFSETTO:+0100
TZNAME:CET
DTSTART:20241027T010000
END:STANDARD
BEGIN:DAYLIGHT
TZOFFSETFROM:+0100
TZOFFSETTO:+0200
TZNAME:CEST
DTSTART:20250330T010000
END:DAYLIGHT
BEGIN:STANDARD
TZOFFSETFROM:+0200
TZOFFSETTO:+0100
TZNAME:CET
DTSTART:20251026T010000
END:STANDARD
BEGIN:DAYLIGHT
TZOFFSETFROM:+0100
TZOFFSETTO:+0200
TZNAME:CEST
DTSTART:20260329T010000
END:DAYLIGHT
BEGIN:STANDARD
TZOFFSETFROM:+0200
TZOFFSETTO:+0100
TZNAME:CET
DTSTART:20261025T010000
END:STANDARD
END:VTIMEZONE
BEGIN:VEVENT
DTSTART;TZID=Europe/Berlin:20250302T100000
DTEND;TZID=Europe/Berlin:20250302T130000
DTSTAMP:20260425T235012
CREATED:20241226T224650Z
LAST-MODIFIED:20241226T224650Z
UID:10001382-1740909600-1740920400@schuetzengesellschaft-nassenbeuren.de
SUMMARY:GK / Ordonanz 100m
DESCRIPTION:
URL:https://schuetzengesellschaft-nassenbeuren.de/termin/gk-ordonanz-100m-91/
LOCATION:100m LW Schießstand
CATEGORIES:Training
END:VEVENT
BEGIN:VEVENT
DTSTART;TZID=Europe/Berlin:20250302T180000
DTEND;TZID=Europe/Berlin:20250302T210000
DTSTAMP:20260425T235012
CREATED:20250102T205813Z
LAST-MODIFIED:20250102T205813Z
UID:10001671-1740938400-1740949200@schuetzengesellschaft-nassenbeuren.de
SUMMARY:RAG GK/KK-KW 25m
DESCRIPTION:RAG-Schießsport Allgäu Mindelheim\, externe Teilnehmer – geschlossene Veranstaltung\, Teilnahme am Schießbetrieb nur nach jährlicher Teilnahme an der Sicherheitsbelehrung\, Unregelmäßige Teilnehmer vorher beim Schießleiter W. Ertl anrufen!
URL:https://schuetzengesellschaft-nassenbeuren.de/termin/rag-gk-kk-kw-25m-29/
LOCATION:25m KW Schießstand
CATEGORIES:Training
END:VEVENT
BEGIN:VEVENT
DTSTART;TZID=Europe/Berlin:20250304T180000
DTEND;TZID=Europe/Berlin:20250304T210000
DTSTAMP:20260425T235012
CREATED:20250204T181531Z
LAST-MODIFIED:20250204T192441Z
UID:10001726-1741111200-1741122000@schuetzengesellschaft-nassenbeuren.de
SUMMARY:RWK 1. GK-Mannschaft
DESCRIPTION:Geschlossene Veranstaltung\nRWK in Nassenbeuren gegen Krumbach
URL:https://schuetzengesellschaft-nassenbeuren.de/termin/rwk-1-gk-mannschaft/
LOCATION:25m KW Schießstand
CATEGORIES:Wettkampf
END:VEVENT
BEGIN:VEVENT
DTSTART;TZID=Europe/Berlin:20250309T100000
DTEND;TZID=Europe/Berlin:20250309T120000
DTSTAMP:20260425T235012
CREATED:20241226T224331Z
LAST-MODIFIED:20241226T224331Z
UID:10001358-1741514400-1741521600@schuetzengesellschaft-nassenbeuren.de
SUMMARY:GK/KK KW 25m - BSSB-Schießen
DESCRIPTION:Präzision und Duell\, KK und GK
URL:https://schuetzengesellschaft-nassenbeuren.de/termin/gk-kk-kw-25m-bssb-schiessen-5/
LOCATION:25m KW Schießstand
CATEGORIES:Training
END:VEVENT
BEGIN:VEVENT
DTSTART;TZID=Europe/Berlin:20250314T140000
DTEND;TZID=Europe/Berlin:20250314T160000
DTSTAMP:20260425T235012
CREATED:20250307T100932Z
LAST-MODIFIED:20250307T100932Z
UID:10001809-1741960800-1741968000@schuetzengesellschaft-nassenbeuren.de
SUMMARY:GK LW Einschießen WBK Jäger/WL 100m
DESCRIPTION:Langwaffen mit jagdlichen Kalibern auf dem 100m-Stand\nEinschießen\, Prüfen und Justieren von Vorsatzgeräten und Wärmebildkameras für Jäger und Wiederlader\nBei Interesse an der Teilname bitte Email senden an: 2.schuetzenmeister@schuetzengesellschaft-nassenbeuren.de\nAchtung: Verwendung von Solid-Geschossen derzeit nicht möglich!
URL:https://schuetzengesellschaft-nassenbeuren.de/termin/gk-lw-einschiessen-wbk-jaeger-wl-100m-39/
LOCATION:100m LW Schießstand
CATEGORIES:Jagdlich
END:VEVENT
BEGIN:VEVENT
DTSTART;TZID=Europe/Berlin:20250316T100000
DTEND;TZID=Europe/Berlin:20250316T130000
DTSTAMP:20260425T235012
CREATED:20241226T224650Z
LAST-MODIFIED:20241226T224650Z
UID:10001383-1742119200-1742130000@schuetzengesellschaft-nassenbeuren.de
SUMMARY:GK / Ordonanz 100m
DESCRIPTION:
URL:https://schuetzengesellschaft-nassenbeuren.de/termin/gk-ordonanz-100m-92/
LOCATION:100m LW Schießstand
CATEGORIES:Training
END:VEVENT
BEGIN:VEVENT
DTSTART;TZID=Europe/Berlin:20250316T180000
DTEND;TZID=Europe/Berlin:20250316T210000
DTSTAMP:20260425T235012
CREATED:20250102T205816Z
LAST-MODIFIED:20250102T205816Z
UID:10001672-1742148000-1742158800@schuetzengesellschaft-nassenbeuren.de
SUMMARY:RAG GK/KK-KW 25m
DESCRIPTION:RAG-Schießsport Allgäu Mindelheim\, externe Teilnehmer – geschlossene Veranstaltung\, Teilnahme am Schießbetrieb nur nach jährlicher Teilnahme an der Sicherheitsbelehrung\, Unregelmäßige Teilnehmer vorher beim Schießleiter W. Ertl anrufen!
URL:https://schuetzengesellschaft-nassenbeuren.de/termin/rag-gk-kk-kw-25m-30/
LOCATION:25m KW Schießstand
CATEGORIES:Training
END:VEVENT
BEGIN:VEVENT
DTSTART;TZID=Europe/Berlin:20250321T140000
DTEND;TZID=Europe/Berlin:20250321T160000
DTSTAMP:20260425T235012
CREATED:20250319T090852Z
LAST-MODIFIED:20250319T090852Z
UID:10001819-1742565600-1742572800@schuetzengesellschaft-nassenbeuren.de
SUMMARY:GK LW Einschießen WBK Jäger/WL 100m
DESCRIPTION:Langwaffen mit jagdlichen Kalibern auf dem 100m-Stand\nEinschießen\, Prüfen und Justieren von Vorsatzgeräten und Wärmebildkameras für Jäger und Wiederlader\nBei Interesse an der Teilname bitte Email senden an: 2.schuetzenmeister@schuetzengesellschaft-nassenbeuren.de\nAchtung: Verwendung von Solid-Geschossen derzeit nicht möglich!
URL:https://schuetzengesellschaft-nassenbeuren.de/termin/gk-lw-einschiessen-wbk-jaeger-wl-100m-40/
LOCATION:100m LW Schießstand
CATEGORIES:Jagdlich
END:VEVENT
BEGIN:VEVENT
DTSTART;TZID=Europe/Berlin:20250323T100000
DTEND;TZID=Europe/Berlin:20250323T120000
DTSTAMP:20260425T235012
CREATED:20241226T224331Z
LAST-MODIFIED:20241226T224331Z
UID:10001359-1742724000-1742731200@schuetzengesellschaft-nassenbeuren.de
SUMMARY:GK/KK KW 25m - BSSB-Schießen
DESCRIPTION:Präzision und Duell\, KK und GK
URL:https://schuetzengesellschaft-nassenbeuren.de/termin/gk-kk-kw-25m-bssb-schiessen-6/
LOCATION:25m KW Schießstand
CATEGORIES:Training
END:VEVENT
BEGIN:VEVENT
DTSTART;TZID=Europe/Berlin:20250330T100000
DTEND;TZID=Europe/Berlin:20250330T130000
DTSTAMP:20260425T235012
CREATED:20241226T224650Z
LAST-MODIFIED:20241226T224650Z
UID:10001384-1743328800-1743339600@schuetzengesellschaft-nassenbeuren.de
SUMMARY:GK / Ordonanz 100m
DESCRIPTION:
URL:https://schuetzengesellschaft-nassenbeuren.de/termin/gk-ordonanz-100m-93/
LOCATION:100m LW Schießstand
CATEGORIES:Training
END:VEVENT
END:VCALENDAR