BEGIN:VCALENDAR
VERSION:2.0
PRODID:-//Kgl. priv. Schützengesellschaft Nassenbeuren - ECPv6.15.18//NONSGML v1.0//EN
CALSCALE:GREGORIAN
METHOD:PUBLISH
X-WR-CALNAME:Kgl. priv. Schützengesellschaft Nassenbeuren
X-ORIGINAL-URL:https://schuetzengesellschaft-nassenbeuren.de
X-WR-CALDESC:Veranstaltungen für Kgl. priv. Schützengesellschaft Nassenbeuren
REFRESH-INTERVAL;VALUE=DURATION:PT1H
X-Robots-Tag:noindex
X-PUBLISHED-TTL:PT1H
BEGIN:VTIMEZONE
TZID:Europe/Berlin
BEGIN:DAYLIGHT
TZOFFSETFROM:+0100
TZOFFSETTO:+0200
TZNAME:CEST
DTSTART:20240331T010000
END:DAYLIGHT
BEGIN:STANDARD
TZOFFSETFROM:+0200
TZOFFSETTO:+0100
TZNAME:CET
DTSTART:20241027T010000
END:STANDARD
BEGIN:DAYLIGHT
TZOFFSETFROM:+0100
TZOFFSETTO:+0200
TZNAME:CEST
DTSTART:20250330T010000
END:DAYLIGHT
BEGIN:STANDARD
TZOFFSETFROM:+0200
TZOFFSETTO:+0100
TZNAME:CET
DTSTART:20251026T010000
END:STANDARD
BEGIN:DAYLIGHT
TZOFFSETFROM:+0100
TZOFFSETTO:+0200
TZNAME:CEST
DTSTART:20260329T010000
END:DAYLIGHT
BEGIN:STANDARD
TZOFFSETFROM:+0200
TZOFFSETTO:+0100
TZNAME:CET
DTSTART:20261025T010000
END:STANDARD
END:VTIMEZONE
BEGIN:VEVENT
DTSTART;TZID=Europe/Berlin:20250202T130000
DTEND;TZID=Europe/Berlin:20250202T150000
DTSTAMP:20260425T122929
CREATED:20250102T210705Z
LAST-MODIFIED:20250102T210705Z
UID:10001693-1738501200-1738508400@schuetzengesellschaft-nassenbeuren.de
SUMMARY:KW 25m - BDS Wettkampftraining
DESCRIPTION:Teilnehmerkreis: Ausschließlich BDS-Mitglieder – Ablauf gem. BDS-Sporthandbuch
URL:https://schuetzengesellschaft-nassenbeuren.de/termin/kw-25m-bds-wettkampftraining-5/
LOCATION:25m KW Schießstand
CATEGORIES:Training
END:VEVENT
BEGIN:VEVENT
DTSTART;TZID=Europe/Berlin:20250202T180000
DTEND;TZID=Europe/Berlin:20250202T210000
DTSTAMP:20260425T122929
CREATED:20250102T205811Z
LAST-MODIFIED:20250102T205811Z
UID:10001669-1738519200-1738530000@schuetzengesellschaft-nassenbeuren.de
SUMMARY:RAG GK/KK-KW 25m
DESCRIPTION:RAG-Schießsport Allgäu Mindelheim\, externe Teilnehmer – geschlossene Veranstaltung\, Teilnahme am Schießbetrieb nur nach jährlicher Teilnahme an der Sicherheitsbelehrung\, Unregelmäßige Teilnehmer vorher beim Schießleiter W. Ertl anrufen!
URL:https://schuetzengesellschaft-nassenbeuren.de/termin/rag-gk-kk-kw-25m-27/
LOCATION:25m KW Schießstand
CATEGORIES:Training
END:VEVENT
BEGIN:VEVENT
DTSTART;TZID=Europe/Berlin:20250206T190000
DTEND;TZID=Europe/Berlin:20250206T220000
DTSTAMP:20260425T122929
CREATED:20241217T000548Z
LAST-MODIFIED:20250113T212718Z
UID:10001324-1738868400-1738879200@schuetzengesellschaft-nassenbeuren.de
SUMMARY:Gaumeisterschaft 2025 - GK
DESCRIPTION:
URL:https://schuetzengesellschaft-nassenbeuren.de/termin/gaumeisterschaft-2025-gk-2/
LOCATION:25m KW Schießstand
CATEGORIES:Wettkampf
END:VEVENT
BEGIN:VEVENT
DTSTART;TZID=Europe/Berlin:20250207T190000
DTEND;TZID=Europe/Berlin:20250207T220000
DTSTAMP:20260425T122929
CREATED:20241217T000537Z
LAST-MODIFIED:20250113T212711Z
UID:10001323-1738954800-1738965600@schuetzengesellschaft-nassenbeuren.de
SUMMARY:Gaumeisterschaft 2025 - KK
DESCRIPTION:
URL:https://schuetzengesellschaft-nassenbeuren.de/termin/gaumeisterschaft-2025-kk-2/
LOCATION:25m KW Schießstand
CATEGORIES:Wettkampf
END:VEVENT
BEGIN:VEVENT
DTSTART;TZID=Europe/Berlin:20250209T100000
DTEND;TZID=Europe/Berlin:20250209T120000
DTSTAMP:20260425T122929
CREATED:20241217T000610Z
LAST-MODIFIED:20250113T212748Z
UID:10001325-1739095200-1739102400@schuetzengesellschaft-nassenbeuren.de
SUMMARY:Gaumeisterschaft 2025 - Olymp. SF\, ZFP\, SP
DESCRIPTION:
URL:https://schuetzengesellschaft-nassenbeuren.de/termin/gaumeisterschaft-2025-olymp-sf-zfp-sp/
LOCATION:25m KW Schießstand
CATEGORIES:Wettkampf
END:VEVENT
BEGIN:VEVENT
DTSTART;TZID=Europe/Berlin:20250216T130000
DTEND;TZID=Europe/Berlin:20250216T150000
DTSTAMP:20260425T122929
CREATED:20250102T210705Z
LAST-MODIFIED:20250102T210705Z
UID:10001694-1739710800-1739718000@schuetzengesellschaft-nassenbeuren.de
SUMMARY:KW 25m - BDS Wettkampftraining
DESCRIPTION:Teilnehmerkreis: Ausschließlich BDS-Mitglieder – Ablauf gem. BDS-Sporthandbuch
URL:https://schuetzengesellschaft-nassenbeuren.de/termin/kw-25m-bds-wettkampftraining-6/
LOCATION:25m KW Schießstand
CATEGORIES:Training
END:VEVENT
BEGIN:VEVENT
DTSTART;TZID=Europe/Berlin:20250216T180000
DTEND;TZID=Europe/Berlin:20250216T210000
DTSTAMP:20260425T122929
CREATED:20250102T205812Z
LAST-MODIFIED:20250102T205812Z
UID:10001670-1739728800-1739739600@schuetzengesellschaft-nassenbeuren.de
SUMMARY:RAG GK/KK-KW 25m
DESCRIPTION:RAG-Schießsport Allgäu Mindelheim\, externe Teilnehmer – geschlossene Veranstaltung\, Teilnahme am Schießbetrieb nur nach jährlicher Teilnahme an der Sicherheitsbelehrung\, Unregelmäßige Teilnehmer vorher beim Schießleiter W. Ertl anrufen!
URL:https://schuetzengesellschaft-nassenbeuren.de/termin/rag-gk-kk-kw-25m-28/
LOCATION:25m KW Schießstand
CATEGORIES:Training
END:VEVENT
BEGIN:VEVENT
DTSTART;TZID=Europe/Berlin:20250217T190000
DTEND;TZID=Europe/Berlin:20250217T220000
DTSTAMP:20260425T122929
CREATED:20250204T192932Z
LAST-MODIFIED:20250204T192932Z
UID:10001727-1739818800-1739829600@schuetzengesellschaft-nassenbeuren.de
SUMMARY:RWK 1. KK-Mannschaft
DESCRIPTION:Geschlossene Veranstaltung\nRWK in Nassenbeuren gegen Fischach
URL:https://schuetzengesellschaft-nassenbeuren.de/termin/rwk-1-kk-mannschaft/
LOCATION:25m KW Schießstand
CATEGORIES:Wettkampf
END:VEVENT
BEGIN:VEVENT
DTSTART;TZID=Europe/Berlin:20250218T193000
DTEND;TZID=Europe/Berlin:20250218T223000
DTSTAMP:20260425T122929
CREATED:20250210T185636Z
LAST-MODIFIED:20250210T185636Z
UID:10001729-1739907000-1739917800@schuetzengesellschaft-nassenbeuren.de
SUMMARY:RWK 2. KK-Mannschaft
DESCRIPTION:Geschlossene Veranstaltung
URL:https://schuetzengesellschaft-nassenbeuren.de/termin/rwk-2-kk-mannschaft/
LOCATION:25m KW Schießstand
CATEGORIES:Wettkampf
END:VEVENT
BEGIN:VEVENT
DTSTART;TZID=Europe/Berlin:20250223T100000
DTEND;TZID=Europe/Berlin:20250223T120000
DTSTAMP:20260425T122929
CREATED:20241226T224314Z
LAST-MODIFIED:20241226T224314Z
UID:10001357-1740304800-1740312000@schuetzengesellschaft-nassenbeuren.de
SUMMARY:GK/KK KW 25m - BSSB-Schießen
DESCRIPTION:Präzision und Duell\, KK und GK
URL:https://schuetzengesellschaft-nassenbeuren.de/termin/gk-kk-kw-25m-bssb-schiessen-4/
LOCATION:25m KW Schießstand
CATEGORIES:Training
END:VEVENT
BEGIN:VEVENT
DTSTART;TZID=Europe/Berlin:20250224T190000
DTEND;TZID=Europe/Berlin:20250224T220000
DTSTAMP:20260425T122929
CREATED:20250219T134803Z
LAST-MODIFIED:20250219T134803Z
UID:10001760-1740423600-1740434400@schuetzengesellschaft-nassenbeuren.de
SUMMARY:Training RWK 1. KK-Mannschaft
DESCRIPTION:Geschlossene Veranstaltung\nTraining RWK 1. KK-Mannschaft
URL:https://schuetzengesellschaft-nassenbeuren.de/termin/training-rwk-1-kk-mannschaft/
LOCATION:25m KW Schießstand
CATEGORIES:Training
END:VEVENT
BEGIN:VEVENT
DTSTART;TZID=Europe/Berlin:20250225T190000
DTEND;TZID=Europe/Berlin:20250225T220000
DTSTAMP:20260425T122929
CREATED:20241213T120028Z
LAST-MODIFIED:20250204T192549Z
UID:10001319-1740510000-1740520800@schuetzengesellschaft-nassenbeuren.de
SUMMARY:RWK 1. KK-Mannschaft
DESCRIPTION:Geschlossene Veranstaltung\nRWK in Nassenbeuren gegen Fischach
URL:https://schuetzengesellschaft-nassenbeuren.de/termin/rwk-1-kk-mannschaft-2/
LOCATION:25m KW Schießstand
CATEGORIES:Wettkampf
END:VEVENT
BEGIN:VEVENT
DTSTART;TZID=Europe/Berlin:20250226T190000
DTEND;TZID=Europe/Berlin:20250226T220000
DTSTAMP:20260425T122929
CREATED:20250219T134731Z
LAST-MODIFIED:20250219T134731Z
UID:10001759-1740596400-1740607200@schuetzengesellschaft-nassenbeuren.de
SUMMARY:Training RWK 1. GK-Mannschaft
DESCRIPTION:Geschlossene Veranstaltung\nTraining 1. GK-Mannschaft
URL:https://schuetzengesellschaft-nassenbeuren.de/termin/training-rwk-1-gk-mannschaft/
LOCATION:25m KW Schießstand
CATEGORIES:Training
END:VEVENT
END:VCALENDAR