BEGIN:VCALENDAR
VERSION:2.0
PRODID:-//Kgl. priv. Schützengesellschaft Nassenbeuren - ECPv6.15.18//NONSGML v1.0//EN
CALSCALE:GREGORIAN
METHOD:PUBLISH
X-WR-CALNAME:Kgl. priv. Schützengesellschaft Nassenbeuren
X-ORIGINAL-URL:https://schuetzengesellschaft-nassenbeuren.de
X-WR-CALDESC:Veranstaltungen für Kgl. priv. Schützengesellschaft Nassenbeuren
REFRESH-INTERVAL;VALUE=DURATION:PT1H
X-Robots-Tag:noindex
X-PUBLISHED-TTL:PT1H
BEGIN:VTIMEZONE
TZID:Europe/Berlin
BEGIN:DAYLIGHT
TZOFFSETFROM:+0100
TZOFFSETTO:+0200
TZNAME:CEST
DTSTART:20220327T010000
END:DAYLIGHT
BEGIN:STANDARD
TZOFFSETFROM:+0200
TZOFFSETTO:+0100
TZNAME:CET
DTSTART:20221030T010000
END:STANDARD
BEGIN:DAYLIGHT
TZOFFSETFROM:+0100
TZOFFSETTO:+0200
TZNAME:CEST
DTSTART:20230326T010000
END:DAYLIGHT
BEGIN:STANDARD
TZOFFSETFROM:+0200
TZOFFSETTO:+0100
TZNAME:CET
DTSTART:20231029T010000
END:STANDARD
BEGIN:DAYLIGHT
TZOFFSETFROM:+0100
TZOFFSETTO:+0200
TZNAME:CEST
DTSTART:20240331T010000
END:DAYLIGHT
BEGIN:STANDARD
TZOFFSETFROM:+0200
TZOFFSETTO:+0100
TZNAME:CET
DTSTART:20241027T010000
END:STANDARD
BEGIN:DAYLIGHT
TZOFFSETFROM:+0100
TZOFFSETTO:+0200
TZNAME:CEST
DTSTART:20250330T010000
END:DAYLIGHT
BEGIN:STANDARD
TZOFFSETFROM:+0200
TZOFFSETTO:+0100
TZNAME:CET
DTSTART:20251026T010000
END:STANDARD
END:VTIMEZONE
BEGIN:VEVENT
DTSTART;TZID=Europe/Berlin:20240411T090000
DTEND;TZID=Europe/Berlin:20240411T120000
DTSTAMP:20260426T022505
CREATED:20240409T085500Z
LAST-MODIFIED:20240409T085500Z
UID:10000794-1712826000-1712836800@schuetzengesellschaft-nassenbeuren.de
SUMMARY:Helfer gesucht: Holz verarbeiten
DESCRIPTION:Es werden noch Helfer gesucht\, bitte eMail an 100m-stand@kpsgnb.de schicken!\nEinfache Arbeiten\, keine hohe körperliche Belastung.\nGgfs. Arbeitshandschuhe mitbringen und feste Schuhe.
URL:https://schuetzengesellschaft-nassenbeuren.de/termin/helfer-gesucht-holz-verarbeiten/
LOCATION:100m LW Schießstand
CATEGORIES:Arbeit
END:VEVENT
BEGIN:VEVENT
DTSTART;TZID=Europe/Berlin:20240410T100000
DTEND;TZID=Europe/Berlin:20240410T120000
DTSTAMP:20260426T022505
CREATED:20240409T085146Z
LAST-MODIFIED:20240409T210014Z
UID:10000792-1712743200-1712750400@schuetzengesellschaft-nassenbeuren.de
SUMMARY:Helfer gesucht: Holz abstecken
DESCRIPTION:Es werden noch Helfer gesucht\, bitte eMail an 100m-stand@kpsgnb.de schicken!\nEinfache Arbeiten\, keine hohe körperliche Belastung.\nGgfs. Arbeitshandschuhe mitbringen und feste Schuhe.
URL:https://schuetzengesellschaft-nassenbeuren.de/termin/helfer-gesucht-holz-abstecken/
LOCATION:100m LW Schießstand
CATEGORIES:Arbeit
END:VEVENT
BEGIN:VEVENT
DTSTART;VALUE=DATE:20240329
DTEND;VALUE=DATE:20240722
DTSTAMP:20260426T022505
CREATED:20240309T213104Z
LAST-MODIFIED:20240708T072808Z
UID:10000789-1711670400-1721606399@schuetzengesellschaft-nassenbeuren.de
SUMMARY:Renovierung 100m-Stand
DESCRIPTION:Es werden Helfer benötigt!\nWer grundsätzlich mithelfen kann/will meldet sich bitte per eMail an 100m-stand@kpsgnb.de\, damit wir die Arbeiten koordinieren können.\nDanke!
URL:https://schuetzengesellschaft-nassenbeuren.de/termin/renovierung-100m-stand/
LOCATION:100m LW Schießstand
CATEGORIES:Arbeit
END:VEVENT
BEGIN:VEVENT
DTSTART;TZID=Europe/Berlin:20231228T140000
DTEND;TZID=Europe/Berlin:20231228T170000
DTSTAMP:20260426T022505
CREATED:20231220T213449Z
LAST-MODIFIED:20231220T213449Z
UID:10000629-1703772000-1703782800@schuetzengesellschaft-nassenbeuren.de
SUMMARY:Reinigen der Vereinswaffen
DESCRIPTION:Wer hilft mit beim großen gemeinsamen Reinigen unserer Vereinswaffen?\nUtensilien und Anleitung sind vorhanden.\nBitte melden bei Daniel. \nAußerdem geplant:\n– Tresorraum aufräumen\n– Werkstatt aufräumen
URL:https://schuetzengesellschaft-nassenbeuren.de/termin/reinigen-der-vereinswaffen/
CATEGORIES:Arbeit
END:VEVENT
BEGIN:VEVENT
DTSTART;TZID=Europe/Berlin:20231111T090000
DTEND;TZID=Europe/Berlin:20231111T130000
DTSTAMP:20260426T022505
CREATED:20230528T153248Z
LAST-MODIFIED:20230528T153248Z
UID:10000565-1699693200-1699707600@schuetzengesellschaft-nassenbeuren.de
SUMMARY:Altpapiersammlung
DESCRIPTION:
URL:https://schuetzengesellschaft-nassenbeuren.de/termin/altpapiersammlung-6/
LOCATION:Nassenbeuren
CATEGORIES:Arbeit
END:VEVENT
BEGIN:VEVENT
DTSTART;TZID=Europe/Berlin:20230716T100000
DTEND;TZID=Europe/Berlin:20230716T120000
DTSTAMP:20260426T022505
CREATED:20230528T145843Z
LAST-MODIFIED:20230528T145843Z
UID:10000563-1689501600-1689508800@schuetzengesellschaft-nassenbeuren.de
SUMMARY:Sommerfest Abbau
DESCRIPTION:
URL:https://schuetzengesellschaft-nassenbeuren.de/termin/sommerfest-abbau-2/
LOCATION:Schützenheim
CATEGORIES:Arbeit
END:VEVENT
BEGIN:VEVENT
DTSTART;TZID=Europe/Berlin:20230715T100000
DTEND;TZID=Europe/Berlin:20230715T120000
DTSTAMP:20260426T022505
CREATED:20230528T145843Z
LAST-MODIFIED:20230528T145843Z
UID:10000562-1689415200-1689422400@schuetzengesellschaft-nassenbeuren.de
SUMMARY:Sommerfest Aufbau Rest
DESCRIPTION:
URL:https://schuetzengesellschaft-nassenbeuren.de/termin/sommerfest-aufbau-rest/
LOCATION:Schützenheim
CATEGORIES:Arbeit
END:VEVENT
BEGIN:VEVENT
DTSTART;TZID=Europe/Berlin:20230714T170000
DTEND;TZID=Europe/Berlin:20230714T190000
DTSTAMP:20260426T022505
CREATED:20230528T145843Z
LAST-MODIFIED:20230528T145843Z
UID:10000561-1689354000-1689361200@schuetzengesellschaft-nassenbeuren.de
SUMMARY:Sommerfest Aufbau Zelt
DESCRIPTION:
URL:https://schuetzengesellschaft-nassenbeuren.de/termin/sommerfest-aufbau-zelt/
LOCATION:Schützenheim
CATEGORIES:Arbeit
END:VEVENT
BEGIN:VEVENT
DTSTART;TZID=Europe/Berlin:20230708T090000
DTEND;TZID=Europe/Berlin:20230708T130000
DTSTAMP:20260426T022505
CREATED:20230528T153248Z
LAST-MODIFIED:20230528T153248Z
UID:10000564-1688806800-1688821200@schuetzengesellschaft-nassenbeuren.de
SUMMARY:Altpapiersammlung
DESCRIPTION:
URL:https://schuetzengesellschaft-nassenbeuren.de/termin/altpapiersammlung-5/
LOCATION:Nassenbeuren
CATEGORIES:Arbeit
END:VEVENT
END:VCALENDAR