BEGIN:VCALENDAR
VERSION:2.0
PRODID:-//Kgl. priv. Schützengesellschaft Nassenbeuren - ECPv6.15.18//NONSGML v1.0//EN
CALSCALE:GREGORIAN
METHOD:PUBLISH
X-WR-CALNAME:Kgl. priv. Schützengesellschaft Nassenbeuren
X-ORIGINAL-URL:https://schuetzengesellschaft-nassenbeuren.de
X-WR-CALDESC:Veranstaltungen für Kgl. priv. Schützengesellschaft Nassenbeuren
REFRESH-INTERVAL;VALUE=DURATION:PT1H
X-Robots-Tag:noindex
X-PUBLISHED-TTL:PT1H
BEGIN:VTIMEZONE
TZID:Europe/Berlin
BEGIN:DAYLIGHT
TZOFFSETFROM:+0100
TZOFFSETTO:+0200
TZNAME:CEST
DTSTART:20230326T010000
END:DAYLIGHT
BEGIN:STANDARD
TZOFFSETFROM:+0200
TZOFFSETTO:+0100
TZNAME:CET
DTSTART:20231029T010000
END:STANDARD
BEGIN:DAYLIGHT
TZOFFSETFROM:+0100
TZOFFSETTO:+0200
TZNAME:CEST
DTSTART:20240331T010000
END:DAYLIGHT
BEGIN:STANDARD
TZOFFSETFROM:+0200
TZOFFSETTO:+0100
TZNAME:CET
DTSTART:20241027T010000
END:STANDARD
BEGIN:DAYLIGHT
TZOFFSETFROM:+0100
TZOFFSETTO:+0200
TZNAME:CEST
DTSTART:20250330T010000
END:DAYLIGHT
BEGIN:STANDARD
TZOFFSETFROM:+0200
TZOFFSETTO:+0100
TZNAME:CET
DTSTART:20251026T010000
END:STANDARD
BEGIN:DAYLIGHT
TZOFFSETFROM:+0100
TZOFFSETTO:+0200
TZNAME:CEST
DTSTART:20260329T010000
END:DAYLIGHT
BEGIN:STANDARD
TZOFFSETFROM:+0200
TZOFFSETTO:+0100
TZNAME:CET
DTSTART:20261025T010000
END:STANDARD
END:VTIMEZONE
BEGIN:VEVENT
DTSTART;TZID=Europe/Berlin:20251106T180000
DTEND;TZID=Europe/Berlin:20251106T200000
DTSTAMP:20260424T131944
CREATED:20251003T155840Z
LAST-MODIFIED:20251019T094559Z
UID:10002457-1762452000-1762459200@schuetzengesellschaft-nassenbeuren.de
SUMMARY:LG 10m Jugendtraining
DESCRIPTION:
URL:https://schuetzengesellschaft-nassenbeuren.de/termin/lg-10m-jugendtraining-23/
LOCATION:10m LP Schießstand
CATEGORIES:Jugend,Training
END:VEVENT
BEGIN:VEVENT
DTSTART;TZID=Europe/Berlin:20251023T180000
DTEND;TZID=Europe/Berlin:20251023T200000
DTSTAMP:20260424T131944
CREATED:20251003T155840Z
LAST-MODIFIED:20251019T094604Z
UID:10002456-1761242400-1761249600@schuetzengesellschaft-nassenbeuren.de
SUMMARY:LG 10m Jugendtraining
DESCRIPTION:
URL:https://schuetzengesellschaft-nassenbeuren.de/termin/lg-10m-jugendtraining-22/
LOCATION:10m LP Schießstand
CATEGORIES:Jugend,Training
END:VEVENT
BEGIN:VEVENT
DTSTART;TZID=Europe/Berlin:20251009T180000
DTEND;TZID=Europe/Berlin:20251009T200000
DTSTAMP:20260424T131944
CREATED:20251003T155840Z
LAST-MODIFIED:20251019T094609Z
UID:10002455-1760032800-1760040000@schuetzengesellschaft-nassenbeuren.de
SUMMARY:LG 10m Jugendtraining
DESCRIPTION:
URL:https://schuetzengesellschaft-nassenbeuren.de/termin/lg-10m-jugendtraining-21/
LOCATION:10m LP Schießstand
CATEGORIES:Jugend,Training
END:VEVENT
BEGIN:VEVENT
DTSTART;TZID=Europe/Berlin:20250705T090000
DTEND;TZID=Europe/Berlin:20250705T130000
DTSTAMP:20260424T131944
CREATED:20250222T161818Z
LAST-MODIFIED:20250222T161818Z
UID:10001763-1751706000-1751720400@schuetzengesellschaft-nassenbeuren.de
SUMMARY:Altpapiersammlung
DESCRIPTION:
URL:https://schuetzengesellschaft-nassenbeuren.de/termin/altpapiersammlung-10/
LOCATION:Nassenbeuren
CATEGORIES:Arbeit,Jugend
END:VEVENT
BEGIN:VEVENT
DTSTART;TZID=Europe/Berlin:20250508T173000
DTEND;TZID=Europe/Berlin:20250508T190000
DTSTAMP:20260424T131944
CREATED:20250505T115351Z
LAST-MODIFIED:20250505T115351Z
UID:10002083-1746725400-1746730800@schuetzengesellschaft-nassenbeuren.de
SUMMARY:LG 10m Jugendtraining
DESCRIPTION:
URL:https://schuetzengesellschaft-nassenbeuren.de/termin/lg-10m-jugendtraining-20/
LOCATION:10m LP Schießstand
CATEGORIES:Jugend,Training
END:VEVENT
BEGIN:VEVENT
DTSTART;TZID=Europe/Berlin:20250410T190000
DTEND;TZID=Europe/Berlin:20250410T220000
DTSTAMP:20260424T131944
CREATED:20250302T214549Z
LAST-MODIFIED:20251019T094619Z
UID:10001789-1744311600-1744322400@schuetzengesellschaft-nassenbeuren.de
SUMMARY:Osterhasenschießen Preisverleihung Jugend und Schützen
DESCRIPTION:Preisverteilung und Versteigerung der Osternester
URL:https://schuetzengesellschaft-nassenbeuren.de/termin/osterhasenschiessen-preisverleihung-jugend-und-schuetzen/
LOCATION:Schützenheim
CATEGORIES:Jugend,Veranstaltung
END:VEVENT
BEGIN:VEVENT
DTSTART;TZID=Europe/Berlin:20250405T090000
DTEND;TZID=Europe/Berlin:20250405T130000
DTSTAMP:20260424T131944
CREATED:20250222T161744Z
LAST-MODIFIED:20250222T161744Z
UID:10001762-1743843600-1743858000@schuetzengesellschaft-nassenbeuren.de
SUMMARY:Altpapiersammlung
DESCRIPTION:
URL:https://schuetzengesellschaft-nassenbeuren.de/termin/altpapiersammlung-9/
LOCATION:Nassenbeuren
CATEGORIES:Arbeit,Jugend
END:VEVENT
BEGIN:VEVENT
DTSTART;TZID=Europe/Berlin:20250403T180000
DTEND;TZID=Europe/Berlin:20250403T213000
DTSTAMP:20260424T131944
CREATED:20250302T214549Z
LAST-MODIFIED:20250309T212217Z
UID:10001790-1743703200-1743715800@schuetzengesellschaft-nassenbeuren.de
SUMMARY:Jugend: Osterhasenschießen LP/LG
DESCRIPTION:Jugend: Einlage 5€ – Nachkauf 0.50€
URL:https://schuetzengesellschaft-nassenbeuren.de/termin/jugend-osterhasenschiessen-lp-lg/
LOCATION:10m LP Schießstand
CATEGORIES:Jugend,Wettkampf
END:VEVENT
BEGIN:VEVENT
DTSTART;TZID=Europe/Berlin:20250320T180000
DTEND;TZID=Europe/Berlin:20250320T200000
DTSTAMP:20260424T131944
CREATED:20250219T120536Z
LAST-MODIFIED:20250219T120536Z
UID:10001733-1742493600-1742500800@schuetzengesellschaft-nassenbeuren.de
SUMMARY:LG 10m Jugendtraining
DESCRIPTION:
URL:https://schuetzengesellschaft-nassenbeuren.de/termin/lg-10m-jugendtraining-18/
LOCATION:10m LP Schießstand
CATEGORIES:Jugend,Training
END:VEVENT
BEGIN:VEVENT
DTSTART;TZID=Europe/Berlin:20250306T180000
DTEND;TZID=Europe/Berlin:20250306T200000
DTSTAMP:20260424T131944
CREATED:20250219T120529Z
LAST-MODIFIED:20250219T120529Z
UID:10001732-1741284000-1741291200@schuetzengesellschaft-nassenbeuren.de
SUMMARY:LG 10m Jugendtraining
DESCRIPTION:
URL:https://schuetzengesellschaft-nassenbeuren.de/termin/lg-10m-jugendtraining-17/
LOCATION:10m LP Schießstand
CATEGORIES:Jugend,Training
END:VEVENT
BEGIN:VEVENT
DTSTART;TZID=Europe/Berlin:20250220T180000
DTEND;TZID=Europe/Berlin:20250220T200000
DTSTAMP:20260424T131944
CREATED:20250219T120521Z
LAST-MODIFIED:20250219T120521Z
UID:10001731-1740074400-1740081600@schuetzengesellschaft-nassenbeuren.de
SUMMARY:LG 10m Jugendtraining
DESCRIPTION:
URL:https://schuetzengesellschaft-nassenbeuren.de/termin/lg-10m-jugendtraining-16/
LOCATION:10m LP Schießstand
CATEGORIES:Jugend,Training
END:VEVENT
BEGIN:VEVENT
DTSTART;TZID=Europe/Berlin:20250206T180000
DTEND;TZID=Europe/Berlin:20250206T200000
DTSTAMP:20260424T131944
CREATED:20250107T105912Z
LAST-MODIFIED:20250107T105912Z
UID:10001719-1738864800-1738872000@schuetzengesellschaft-nassenbeuren.de
SUMMARY:LG 10m Jugendtraining
DESCRIPTION:
URL:https://schuetzengesellschaft-nassenbeuren.de/termin/lg-10m-jugendtraining-15/
LOCATION:10m LP Schießstand
CATEGORIES:Jugend,Training
END:VEVENT
BEGIN:VEVENT
DTSTART;TZID=Europe/Berlin:20250123T180000
DTEND;TZID=Europe/Berlin:20250123T200000
DTSTAMP:20260424T131944
CREATED:20250107T105855Z
LAST-MODIFIED:20250107T105855Z
UID:10001718-1737655200-1737662400@schuetzengesellschaft-nassenbeuren.de
SUMMARY:LG 10m Jugendtraining
DESCRIPTION:
URL:https://schuetzengesellschaft-nassenbeuren.de/termin/lg-10m-jugendtraining-14/
LOCATION:10m LP Schießstand
CATEGORIES:Jugend,Training
END:VEVENT
BEGIN:VEVENT
DTSTART;TZID=Europe/Berlin:20250109T180000
DTEND;TZID=Europe/Berlin:20250109T200000
DTSTAMP:20260424T131944
CREATED:20250107T105836Z
LAST-MODIFIED:20250107T105836Z
UID:10001717-1736445600-1736452800@schuetzengesellschaft-nassenbeuren.de
SUMMARY:LG 10m Jugendtraining
DESCRIPTION:
URL:https://schuetzengesellschaft-nassenbeuren.de/termin/lg-10m-jugendtraining-13/
LOCATION:10m LP Schießstand
CATEGORIES:Jugend,Training
END:VEVENT
BEGIN:VEVENT
DTSTART;TZID=Europe/Berlin:20241212T180000
DTEND;TZID=Europe/Berlin:20241212T200000
DTSTAMP:20260424T131944
CREATED:20240724T223724Z
LAST-MODIFIED:20240805T175208Z
UID:10000910-1734026400-1734033600@schuetzengesellschaft-nassenbeuren.de
SUMMARY:LG 10m Jugendtraining
DESCRIPTION:
URL:https://schuetzengesellschaft-nassenbeuren.de/termin/lg-10m-jugendtraining-12/
LOCATION:10m LP Schießstand
CATEGORIES:Jugend,Training
END:VEVENT
BEGIN:VEVENT
DTSTART;TZID=Europe/Berlin:20241128T180000
DTEND;TZID=Europe/Berlin:20241128T200000
DTSTAMP:20260424T131944
CREATED:20240724T223724Z
LAST-MODIFIED:20240805T175211Z
UID:10000909-1732816800-1732824000@schuetzengesellschaft-nassenbeuren.de
SUMMARY:LG 10m Jugendtraining
DESCRIPTION:
URL:https://schuetzengesellschaft-nassenbeuren.de/termin/lg-10m-jugendtraining-11/
LOCATION:10m LP Schießstand
CATEGORIES:Jugend,Training
END:VEVENT
BEGIN:VEVENT
DTSTART;TZID=Europe/Berlin:20241114T180000
DTEND;TZID=Europe/Berlin:20241114T200000
DTSTAMP:20260424T131944
CREATED:20240724T223723Z
LAST-MODIFIED:20240805T175215Z
UID:10000908-1731607200-1731614400@schuetzengesellschaft-nassenbeuren.de
SUMMARY:LG 10m Jugendtraining
DESCRIPTION:
URL:https://schuetzengesellschaft-nassenbeuren.de/termin/lg-10m-jugendtraining-10/
LOCATION:10m LP Schießstand
CATEGORIES:Jugend,Training
END:VEVENT
BEGIN:VEVENT
DTSTART;TZID=Europe/Berlin:20241031T180000
DTEND;TZID=Europe/Berlin:20241031T200000
DTSTAMP:20260424T131944
CREATED:20240724T223721Z
LAST-MODIFIED:20240805T175218Z
UID:10000907-1730397600-1730404800@schuetzengesellschaft-nassenbeuren.de
SUMMARY:LG 10m Jugendtraining
DESCRIPTION:
URL:https://schuetzengesellschaft-nassenbeuren.de/termin/lg-10m-jugendtraining-9/
LOCATION:10m LP Schießstand
CATEGORIES:Jugend,Training
END:VEVENT
BEGIN:VEVENT
DTSTART;TZID=Europe/Berlin:20241024T180000
DTEND;TZID=Europe/Berlin:20241024T200000
DTSTAMP:20260424T131944
CREATED:20241023T140249Z
LAST-MODIFIED:20241023T140249Z
UID:10001296-1729792800-1729800000@schuetzengesellschaft-nassenbeuren.de
SUMMARY:LG 10m Jugendtraining - Ersatz
DESCRIPTION:
URL:https://schuetzengesellschaft-nassenbeuren.de/termin/lg-10m-jugendtraining-ersatz/
LOCATION:10m LP Schießstand
CATEGORIES:Jugend,Training
END:VEVENT
BEGIN:VEVENT
DTSTART;TZID=Europe/Berlin:20241017T180000
DTEND;TZID=Europe/Berlin:20241017T200000
DTSTAMP:20260424T131944
CREATED:20240724T223721Z
LAST-MODIFIED:20241017T124316Z
UID:10000906-1729188000-1729195200@schuetzengesellschaft-nassenbeuren.de
SUMMARY:Entfällt - LG 10m Jugendtraining
DESCRIPTION:Dieser Schießtermin muss leider kurfristig abgesagt werden.
URL:https://schuetzengesellschaft-nassenbeuren.de/termin/lg-10m-jugendtraining-8/
LOCATION:10m LP Schießstand
CATEGORIES:Jugend,Training
END:VEVENT
BEGIN:VEVENT
DTSTART;TZID=Europe/Berlin:20241003T180000
DTEND;TZID=Europe/Berlin:20241003T200000
DTSTAMP:20260424T131944
CREATED:20240724T223721Z
LAST-MODIFIED:20240805T175224Z
UID:10000905-1727978400-1727985600@schuetzengesellschaft-nassenbeuren.de
SUMMARY:LG 10m Jugendtraining
DESCRIPTION:
URL:https://schuetzengesellschaft-nassenbeuren.de/termin/lg-10m-jugendtraining-7/
LOCATION:10m LP Schießstand
CATEGORIES:Jugend,Training
END:VEVENT
BEGIN:VEVENT
DTSTART;TZID=Europe/Berlin:20240919T180000
DTEND;TZID=Europe/Berlin:20240919T200000
DTSTAMP:20260424T131944
CREATED:20240724T223721Z
LAST-MODIFIED:20240805T175228Z
UID:10000904-1726768800-1726776000@schuetzengesellschaft-nassenbeuren.de
SUMMARY:LG 10m Jugendtraining
DESCRIPTION:
URL:https://schuetzengesellschaft-nassenbeuren.de/termin/lg-10m-jugendtraining-6/
LOCATION:10m LP Schießstand
CATEGORIES:Jugend,Training
END:VEVENT
BEGIN:VEVENT
DTSTART;TZID=Europe/Berlin:20240905T180000
DTEND;TZID=Europe/Berlin:20240905T200000
DTSTAMP:20260424T131944
CREATED:20240724T223721Z
LAST-MODIFIED:20240805T175231Z
UID:10000903-1725559200-1725566400@schuetzengesellschaft-nassenbeuren.de
SUMMARY:LG 10m Jugendtraining
DESCRIPTION:
URL:https://schuetzengesellschaft-nassenbeuren.de/termin/lg-10m-jugendtraining-5/
LOCATION:10m LP Schießstand
CATEGORIES:Jugend,Training
END:VEVENT
BEGIN:VEVENT
DTSTART;TZID=Europe/Berlin:20240822T180000
DTEND;TZID=Europe/Berlin:20240822T200000
DTSTAMP:20260424T131944
CREATED:20240722T103220Z
LAST-MODIFIED:20240805T175234Z
UID:10000891-1724349600-1724356800@schuetzengesellschaft-nassenbeuren.de
SUMMARY:LG 10m Jugendtraining
DESCRIPTION:
URL:https://schuetzengesellschaft-nassenbeuren.de/termin/lg-10m-jugendtraining-4/
LOCATION:10m LP Schießstand
CATEGORIES:Jugend,Training
END:VEVENT
BEGIN:VEVENT
DTSTART;TZID=Europe/Berlin:20240810T150000
DTEND;TZID=Europe/Berlin:20240810T220000
DTSTAMP:20260424T131944
CREATED:20240625T075131Z
LAST-MODIFIED:20240805T175324Z
UID:10000839-1723302000-1723327200@schuetzengesellschaft-nassenbeuren.de
SUMMARY:Sommerfest 2024 mit Proklamation des Schützenkönigs und Preisverteilung
DESCRIPTION:
URL:https://schuetzengesellschaft-nassenbeuren.de/termin/sommerfest-2024-mit-proklamation-des-schuetzenkoenigs-und-preisverteilung/
LOCATION:Schützenheim
CATEGORIES:Jugend,Veranstaltung
END:VEVENT
BEGIN:VEVENT
DTSTART;TZID=Europe/Berlin:20240808T180000
DTEND;TZID=Europe/Berlin:20240808T200000
DTSTAMP:20260424T131944
CREATED:20240722T103156Z
LAST-MODIFIED:20240805T175126Z
UID:10000890-1723140000-1723147200@schuetzengesellschaft-nassenbeuren.de
SUMMARY:LG 10m Jugendtraining
DESCRIPTION:
URL:https://schuetzengesellschaft-nassenbeuren.de/termin/lg-10m-jugendtraining-3/
LOCATION:10m LP Schießstand
CATEGORIES:Jugend,Training
END:VEVENT
BEGIN:VEVENT
DTSTART;TZID=Europe/Berlin:20240725T180000
DTEND;TZID=Europe/Berlin:20240725T200000
DTSTAMP:20260424T131944
CREATED:20240708T150356Z
LAST-MODIFIED:20240805T175237Z
UID:10000884-1721930400-1721937600@schuetzengesellschaft-nassenbeuren.de
SUMMARY:LG 10m Jugendtraining
DESCRIPTION:
URL:https://schuetzengesellschaft-nassenbeuren.de/termin/lg-10m-jugendtraining-2/
LOCATION:10m LP Schießstand
CATEGORIES:Jugend,Training
END:VEVENT
BEGIN:VEVENT
DTSTART;TZID=Europe/Berlin:20240711T180000
DTEND;TZID=Europe/Berlin:20240711T200000
DTSTAMP:20260424T131944
CREATED:20240708T125937Z
LAST-MODIFIED:20240805T175240Z
UID:10000865-1720720800-1720728000@schuetzengesellschaft-nassenbeuren.de
SUMMARY:LG 10m Jugendtraining
DESCRIPTION:
URL:https://schuetzengesellschaft-nassenbeuren.de/termin/lg-10m-jugendtraining/
LOCATION:10m LP Schießstand
CATEGORIES:Jugend,Training
END:VEVENT
END:VCALENDAR