BEGIN:VCALENDAR
VERSION:2.0
PRODID:-//Kgl. priv. Schützengesellschaft Nassenbeuren - ECPv6.15.18//NONSGML v1.0//EN
CALSCALE:GREGORIAN
METHOD:PUBLISH
X-WR-CALNAME:Kgl. priv. Schützengesellschaft Nassenbeuren
X-ORIGINAL-URL:https://schuetzengesellschaft-nassenbeuren.de
X-WR-CALDESC:Veranstaltungen für Kgl. priv. Schützengesellschaft Nassenbeuren
REFRESH-INTERVAL;VALUE=DURATION:PT1H
X-Robots-Tag:noindex
X-PUBLISHED-TTL:PT1H
BEGIN:VTIMEZONE
TZID:Europe/Berlin
BEGIN:DAYLIGHT
TZOFFSETFROM:+0100
TZOFFSETTO:+0200
TZNAME:CEST
DTSTART:20240331T010000
END:DAYLIGHT
BEGIN:STANDARD
TZOFFSETFROM:+0200
TZOFFSETTO:+0100
TZNAME:CET
DTSTART:20241027T010000
END:STANDARD
BEGIN:DAYLIGHT
TZOFFSETFROM:+0100
TZOFFSETTO:+0200
TZNAME:CEST
DTSTART:20250330T010000
END:DAYLIGHT
BEGIN:STANDARD
TZOFFSETFROM:+0200
TZOFFSETTO:+0100
TZNAME:CET
DTSTART:20251026T010000
END:STANDARD
BEGIN:DAYLIGHT
TZOFFSETFROM:+0100
TZOFFSETTO:+0200
TZNAME:CEST
DTSTART:20260329T010000
END:DAYLIGHT
BEGIN:STANDARD
TZOFFSETFROM:+0200
TZOFFSETTO:+0100
TZNAME:CET
DTSTART:20261025T010000
END:STANDARD
BEGIN:DAYLIGHT
TZOFFSETFROM:+0100
TZOFFSETTO:+0200
TZNAME:CEST
DTSTART:20270328T010000
END:DAYLIGHT
BEGIN:STANDARD
TZOFFSETFROM:+0200
TZOFFSETTO:+0100
TZNAME:CET
DTSTART:20271031T010000
END:STANDARD
END:VTIMEZONE
BEGIN:VEVENT
DTSTART;TZID=Europe/Berlin:20250517T163000
DTEND;TZID=Europe/Berlin:20250517T180000
DTSTAMP:20260424T000847
CREATED:20241110T193516Z
LAST-MODIFIED:20241110T193629Z
UID:10001312-1747499400-1747504800@schuetzengesellschaft-nassenbeuren.de
SUMMARY:Böllergruppe: Feierliche Maiandacht mit anschl. Platzschießen
DESCRIPTION:
URL:https://schuetzengesellschaft-nassenbeuren.de/termin/boellergruppe-feierliche-maiandacht-mit-anschl-platzschiessen-2/
LOCATION:Maria Schnee
CATEGORIES:Böllergruppe,Veranstaltung
END:VEVENT
BEGIN:VEVENT
DTSTART;TZID=Europe/Berlin:20250607T193000
DTEND;TZID=Europe/Berlin:20250607T233000
DTSTAMP:20260424T000847
CREATED:20250530T102029Z
LAST-MODIFIED:20250605T121732Z
UID:10002343-1749324600-1749339000@schuetzengesellschaft-nassenbeuren.de
SUMMARY:Abgesagt: Dorffest
DESCRIPTION:Unser diesjähriges Dorffest findet am Pfingstwochenende\, den 07. Juni und 08. Juni 2025 am Dorfplatz statt.\nFolgendes Rahmenprogramm ist vorgesehen: \nSamstag\, den 07.06.2025: \n\nFesteröffnung mit den Böllerschützen: Festbeginn um 19:30 Uhr\nAH-Kapelle der Stadt Mindelheim ab 19:30 Uhr\nMusik für „Jung und Alt“ mit DJane Rose ab 22:30 Uhr\n\nSonntag\, den 08.06.2025: \n\nFrühschoppen und Mittagstisch.\nZur Unterhaltung spielt der Musikverein Nassenbeuren: Beginn ab 11:00 Uhr.\nNachmittags ab 13:00 Uhr Kaffee und Kuchen.\nKinderprogramm mit der Jugendgruppe Nassenbeuren
URL:https://schuetzengesellschaft-nassenbeuren.de/termin/dorffest/
LOCATION:Nassenbeuren
CATEGORIES:Veranstaltung
END:VEVENT
BEGIN:VEVENT
DTSTART;TZID=Europe/Berlin:20250608T100000
DTEND;TZID=Europe/Berlin:20250608T180000
DTSTAMP:20260424T000847
CREATED:20250530T102109Z
LAST-MODIFIED:20250605T121721Z
UID:10002344-1749376800-1749405600@schuetzengesellschaft-nassenbeuren.de
SUMMARY:Abgesagt: Dorffest
DESCRIPTION:Unser diesjähriges Dorffest findet am Pfingstwochenende\, den 07. Juni und 08. Juni 2025 am Dorfplatz statt.\nFolgendes Rahmenprogramm ist vorgesehen: \nSamstag\, den 07.06.2025: \n\nFesteröffnung mit den Böllerschützen: Festbeginn um 19:30 Uhr\nAH-Kapelle der Stadt Mindelheim ab 19:30 Uhr\nMusik für „Jung und Alt“ mit DJane Rose ab 22:30 Uhr\n\nSonntag\, den 08.06.2025: \n\nFrühschoppen und Mittagstisch.\nZur Unterhaltung spielt der Musikverein Nassenbeuren: Beginn ab 11:00 Uhr.\nNachmittags ab 13:00 Uhr Kaffee und Kuchen.\nKinderprogramm mit der Jugendgruppe Nassenbeuren
URL:https://schuetzengesellschaft-nassenbeuren.de/termin/dorffest-2/
LOCATION:Nassenbeuren
CATEGORIES:Veranstaltung
END:VEVENT
BEGIN:VEVENT
DTSTART;TZID=Europe/Berlin:20250627T190000
DTEND;TZID=Europe/Berlin:20250627T230000
DTSTAMP:20260424T000847
CREATED:20250422T110828Z
LAST-MODIFIED:20250422T115432Z
UID:10002069-1751050800-1751065200@schuetzengesellschaft-nassenbeuren.de
SUMMARY:Waffensachkunde Kursteil 1
DESCRIPTION:Theorie im LG-Vorraum\nRechtzeitige Anmeldung erforderlich!
URL:https://schuetzengesellschaft-nassenbeuren.de/termin/waffensachkundekurs-teil-1/
LOCATION:Schützenheim
CATEGORIES:Veranstaltung
END:VEVENT
BEGIN:VEVENT
DTSTART;TZID=Europe/Berlin:20250705T090000
DTEND;TZID=Europe/Berlin:20250705T180000
DTSTAMP:20260424T000847
CREATED:20250422T114707Z
LAST-MODIFIED:20250422T115437Z
UID:10002070-1751706000-1751738400@schuetzengesellschaft-nassenbeuren.de
SUMMARY:Waffensachkunde Kursteil 2
DESCRIPTION:Theorie im LG-Vorraum\n25m Stand (etwa 3h Nachmittags) – 100m Stand etwa 2h (Vormittags)\nRechtzeitige Anmeldung erforderlich!
URL:https://schuetzengesellschaft-nassenbeuren.de/termin/waffensachkundekurs-teil-2/
LOCATION:Schützenheim
CATEGORIES:Veranstaltung
END:VEVENT
BEGIN:VEVENT
DTSTART;TZID=Europe/Berlin:20250711T180000
DTEND;TZID=Europe/Berlin:20250711T230000
DTSTAMP:20260424T000847
CREATED:20250422T114826Z
LAST-MODIFIED:20250422T115443Z
UID:10002071-1752256800-1752274800@schuetzengesellschaft-nassenbeuren.de
SUMMARY:Waffensachkunde Kursteil 3
DESCRIPTION:Theorie im LG-Vorraum\n25m/100m je etwa 1h\nRechtzeitige Anmeldung erforderlich!
URL:https://schuetzengesellschaft-nassenbeuren.de/termin/waffensachkundekurs-teil-3/
LOCATION:25m KW Schießstand
CATEGORIES:Veranstaltung
END:VEVENT
BEGIN:VEVENT
DTSTART;TZID=Europe/Berlin:20250712T090000
DTEND;TZID=Europe/Berlin:20250712T120000
DTSTAMP:20260424T000847
CREATED:20250422T114954Z
LAST-MODIFIED:20250422T115450Z
UID:10002072-1752310800-1752321600@schuetzengesellschaft-nassenbeuren.de
SUMMARY:Waffensachkunde Kursteil 4
DESCRIPTION:LG-Vorraum für Prüfung – 25m Stand für Prüfung – 100m Stand für\nRechtzeitige Anmeldung erforderlich!
URL:https://schuetzengesellschaft-nassenbeuren.de/termin/waffensachkundekurs-teil-4/
LOCATION:25m KW Schießstand
CATEGORIES:Veranstaltung
END:VEVENT
BEGIN:VEVENT
DTSTART;TZID=Europe/Berlin:20250809T150000
DTEND;TZID=Europe/Berlin:20250809T220000
DTSTAMP:20260424T000847
CREATED:20250606T145044Z
LAST-MODIFIED:20250606T150345Z
UID:10002385-1754751600-1754776800@schuetzengesellschaft-nassenbeuren.de
SUMMARY:Sommerfest 2025 mit Proklamation des Schützenkönigs und Preisverteilung
DESCRIPTION:
URL:https://schuetzengesellschaft-nassenbeuren.de/termin/sommerfest-2025-mit-proklamation-des-schuetzenkoenigs-und-preisverteilung/
LOCATION:Schützenheim
CATEGORIES:Veranstaltung
END:VEVENT
BEGIN:VEVENT
DTSTART;TZID=Europe/Berlin:20251205T200000
DTEND;TZID=Europe/Berlin:20251205T230000
DTSTAMP:20260424T000847
CREATED:20251017T072859Z
LAST-MODIFIED:20251027T175852Z
UID:10002489-1764964800-1764975600@schuetzengesellschaft-nassenbeuren.de
SUMMARY:Klausenschießen Preisverleihung Klausenversteigerung
DESCRIPTION:
URL:https://schuetzengesellschaft-nassenbeuren.de/termin/klausenschiessen-preisverleihung-klausenversteigerung-2/
LOCATION:Schützenheim
CATEGORIES:Veranstaltung
END:VEVENT
BEGIN:VEVENT
DTSTART;TZID=Europe/Berlin:20251206T130000
DTEND;TZID=Europe/Berlin:20251206T190000
DTSTAMP:20260424T000847
CREATED:20251116T191405Z
LAST-MODIFIED:20251116T191405Z
UID:10002553-1765026000-1765047600@schuetzengesellschaft-nassenbeuren.de
SUMMARY:Helfer gesucht für den Nikolauseinzug
DESCRIPTION:Es werden noch Helfer gesucht für den Würstchenverkauf beim Nikolauseinzug in Nassenbeuern.\nWer kommen kann zur Planung bitte eMail an 1sm@schuetzengesellschaft-nassenbeuren.de schicken!\nWir bauen die Tische auf\, machen die Würtchen warm und verkaufen sie.\nOrt: Nassenbeuren Feuerwehr
URL:https://schuetzengesellschaft-nassenbeuren.de/termin/helfer-gesucht-fuer-den-nikolauseinzug/
LOCATION:Nassenbeuren
CATEGORIES:Veranstaltung
END:VEVENT
BEGIN:VEVENT
DTSTART;TZID=Europe/Berlin:20251206T190000
DTEND;TZID=Europe/Berlin:20251206T220000
DTSTAMP:20260424T000847
CREATED:20251116T191119Z
LAST-MODIFIED:20251116T191119Z
UID:10002552-1765047600-1765058400@schuetzengesellschaft-nassenbeuren.de
SUMMARY:Nikolauseinzug
DESCRIPTION:Nikolauseinzug der Nassenbeurer Dorfgemeinschaft GbR
URL:https://schuetzengesellschaft-nassenbeuren.de/termin/nikolauseinzug-2/
LOCATION:Nassenbeuren
CATEGORIES:Veranstaltung
END:VEVENT
BEGIN:VEVENT
DTSTART;TZID=Europe/Berlin:20251227T200000
DTEND;TZID=Europe/Berlin:20251227T220000
DTSTAMP:20260424T000847
CREATED:20251226T115503Z
LAST-MODIFIED:20251226T115503Z
UID:10002557-1766865600-1766872800@schuetzengesellschaft-nassenbeuren.de
SUMMARY:Jahresabschluss-Essen
DESCRIPTION:Eingeladen sind das Schützenmeisteramt\, Referenten\, Ausschussmitglieder\, Schießstandaufsichten sowie Mitarbeiter am und um’s Schützenheim mit Partner.
URL:https://schuetzengesellschaft-nassenbeuren.de/termin/jahresabschluss-essen-5/
LOCATION:Schützenheim
CATEGORIES:Veranstaltung
END:VEVENT
BEGIN:VEVENT
DTSTART;TZID=Europe/Berlin:20260326T200000
DTEND;TZID=Europe/Berlin:20260326T223000
DTSTAMP:20260424T000847
CREATED:20260118T183636Z
LAST-MODIFIED:20260324T084743Z
UID:10002818-1774555200-1774564200@schuetzengesellschaft-nassenbeuren.de
SUMMARY:Jahres-Hauptversammlung Sportschützengau Mindelheim
DESCRIPTION:Vereinsheim WesternachSchwabenstr. 1A
URL:https://schuetzengesellschaft-nassenbeuren.de/termin/jahres-hauptversammlung-sportschuetzengau-mindelheim-2/
CATEGORIES:Veranstaltung
END:VEVENT
BEGIN:VEVENT
DTSTART;TZID=Europe/Berlin:20260327T193000
DTEND;TZID=Europe/Berlin:20260327T220000
DTSTAMP:20260424T000847
CREATED:20260305T091745Z
LAST-MODIFIED:20260305T091800Z
UID:10002863-1774639800-1774648800@schuetzengesellschaft-nassenbeuren.de
SUMMARY:Osterschießen Preisverleihung
DESCRIPTION:Preisverteilung und Versteigerung der überzähligen Osternester
URL:https://schuetzengesellschaft-nassenbeuren.de/termin/osterschiessen-preisverleihung/
LOCATION:Schützenheim
CATEGORIES:Veranstaltung
END:VEVENT
BEGIN:VEVENT
DTSTART;TZID=Europe/Berlin:20260725T150000
DTEND;TZID=Europe/Berlin:20260725T220000
DTSTAMP:20260424T000847
CREATED:20260105T140400Z
LAST-MODIFIED:20260105T140400Z
UID:10002640-1784991600-1785016800@schuetzengesellschaft-nassenbeuren.de
SUMMARY:Sommerfest mit Proklamation des Schützenkönigs und Preisverteilung
DESCRIPTION:Voraussichtlicher Termin
URL:https://schuetzengesellschaft-nassenbeuren.de/termin/sommerfest-mit-proklamation-des-schuetzenkoenigs-und-preisverteilung/
LOCATION:Schützenheim
CATEGORIES:Veranstaltung
END:VEVENT
END:VCALENDAR